BEGIN:VCALENDAR
VERSION:2.0
PRODID:-//Department of Philosophy - ECPv6.15.20//NONSGML v1.0//EN
CALSCALE:GREGORIAN
METHOD:PUBLISH
X-ORIGINAL-URL:https://philosophy.utoronto.ca
X-WR-CALDESC:Events for Department of Philosophy
REFRESH-INTERVAL;VALUE=DURATION:PT1H
X-Robots-Tag:noindex
X-PUBLISHED-TTL:PT1H
BEGIN:VTIMEZONE
TZID:America/Toronto
BEGIN:DAYLIGHT
TZOFFSETFROM:-0500
TZOFFSETTO:-0400
TZNAME:EDT
DTSTART:20160313T070000
END:DAYLIGHT
BEGIN:STANDARD
TZOFFSETFROM:-0400
TZOFFSETTO:-0500
TZNAME:EST
DTSTART:20161106T060000
END:STANDARD
BEGIN:DAYLIGHT
TZOFFSETFROM:-0500
TZOFFSETTO:-0400
TZNAME:EDT
DTSTART:20170312T070000
END:DAYLIGHT
BEGIN:STANDARD
TZOFFSETFROM:-0400
TZOFFSETTO:-0500
TZNAME:EST
DTSTART:20171105T060000
END:STANDARD
BEGIN:DAYLIGHT
TZOFFSETFROM:-0500
TZOFFSETTO:-0400
TZNAME:EDT
DTSTART:20180311T070000
END:DAYLIGHT
BEGIN:STANDARD
TZOFFSETFROM:-0400
TZOFFSETTO:-0500
TZNAME:EST
DTSTART:20181104T060000
END:STANDARD
END:VTIMEZONE
BEGIN:VEVENT
DTSTART;TZID=America/Toronto:20171006T150000
DTEND;TZID=America/Toronto:20171006T190000
DTSTAMP:20260421T133515
CREATED:20170825T203048Z
LAST-MODIFIED:20170828T133747Z
UID:9414-1507302000-1507316400@philosophy.utoronto.ca
SUMMARY:Joseph Boyle Memorial Event
DESCRIPTION:Joseph M. Boyle\, Jr.\, was born in Philadelphia on July 30\, 1942 and died on September 24\, 2016. \nIn 1970\, Boyle completed his PhD dissertation at Georgetown University under the supervision of Germain Grisez. He held positions at Fidelis College in Herman\, Pennsylvania (1968-70)\, Aquinas College in Grand Rapids\, Michigan (1970-76)\, the College of St. Thomas\, St. Paul\, Minnesota (1976-81)\, and University of St. Thomas\, Houston\, Texas (1981-86). In 1986 he moved to the University of Toronto to take up a position as professor of philosophy at St. Michael’s College and the Department of Philosophy. He retired in 2013. \nAlthough his main focus was on teaching and scholarly work\, he was also a highly effective administrator\, serving as principal of St. Michael’s College (1991-2001) and as interim chair (2003) and acting chair (2008-2009) of the Department of Philosophy. He also served as president of the American Catholic Philosophical Association in 1988-89. \nHe authored Free Choice: a Self-Referential Argument (1976) with Olaf Tollefsen and Grisez; Life and Death with Liberty and Justice: A Contribution to the Euthanasia Debate (1979) with Grisez; Catholic Sex Ethics (1986) with Ronald Lawler and William May; and Nuclear Deterrence\, Morality\, and Realism (1989) with Grisez and John Finnis. He co-edited Philosophical Perspectives in Bioethics (1996) with his colleague L. W. Sumner. \nBoyle worked under Roderick Chisholm’s supervision while on a National Endowment for the Humanities Fellowship at Brown University in 1975-76\, and with Robert P. George and others as a Fellow in the James Madison Program at Princeton in 2010-11. From 2013 to 2016 he was a leader of a philosophy of religion reading group in the Department of Philosophy of the University of Toronto\, focused on classical theism. \nA complete memorial notice appeared on the American Philosophical Association’s website. \nThis memorial event will be held at St. Michael’s College. \n\n3:00 – 5:00 pm: Academic Event\n5:00 – 6:00 pm: Mass at St. Basil’s Parish\, 50 St Joseph St\, Toronto\, ON M5S 1J4\n6:00 – 7:00 pm: Reception
URL:https://philosophy.utoronto.ca/event/joseph-boyle-memorial-event/
LOCATION:St. Michael’s College\, 81 St Mary Street\, Toronto\, Ontario\, M5S 1J4\, Canada
CATEGORIES:Alumni,St. George
ATTACH;FMTTYPE=image/jpeg:https://philosophy.utoronto.ca/wp-content/uploads/Joseph-Boyle-utoronto-philosophy-memorial.jpg
END:VEVENT
END:VCALENDAR