BEGIN:VCALENDAR
VERSION:2.0
PRODID:-//Department of Philosophy - ECPv6.15.20//NONSGML v1.0//EN
CALSCALE:GREGORIAN
METHOD:PUBLISH
X-ORIGINAL-URL:https://philosophy.utoronto.ca
X-WR-CALDESC:Events for Department of Philosophy
REFRESH-INTERVAL;VALUE=DURATION:PT1H
X-Robots-Tag:noindex
X-PUBLISHED-TTL:PT1H
BEGIN:VTIMEZONE
TZID:America/Toronto
BEGIN:DAYLIGHT
TZOFFSETFROM:-0500
TZOFFSETTO:-0400
TZNAME:EDT
DTSTART:20160313T070000
END:DAYLIGHT
BEGIN:STANDARD
TZOFFSETFROM:-0400
TZOFFSETTO:-0500
TZNAME:EST
DTSTART:20161106T060000
END:STANDARD
BEGIN:DAYLIGHT
TZOFFSETFROM:-0500
TZOFFSETTO:-0400
TZNAME:EDT
DTSTART:20170312T070000
END:DAYLIGHT
BEGIN:STANDARD
TZOFFSETFROM:-0400
TZOFFSETTO:-0500
TZNAME:EST
DTSTART:20171105T060000
END:STANDARD
BEGIN:DAYLIGHT
TZOFFSETFROM:-0500
TZOFFSETTO:-0400
TZNAME:EDT
DTSTART:20180311T070000
END:DAYLIGHT
BEGIN:STANDARD
TZOFFSETFROM:-0400
TZOFFSETTO:-0500
TZNAME:EST
DTSTART:20181104T060000
END:STANDARD
END:VTIMEZONE
BEGIN:VEVENT
DTSTART;TZID=America/Toronto:20171116T150000
DTEND;TZID=America/Toronto:20171116T170000
DTSTAMP:20260421T184845
CREATED:20170922T204705Z
LAST-MODIFIED:20171114T142615Z
UID:10145-1510844400-1510851600@philosophy.utoronto.ca
SUMMARY:World Philosophy Day Lecture: Alva Noë (Berkeley)
DESCRIPTION:On November 16\, the department will mark UNESCO World Philosophy Day with a lecture by Alva Noë of UC Berkeley\, who specializes in perception\, consciousness\, and theories of art. \nProf. Noë’s talk is titled “Three Concepts of Seeing”. \nThis event is organized by the Philosophy Course Union. \nView and print the event poster POSTER (PDF).
URL:https://philosophy.utoronto.ca/event/world-philosophy-day-lecture-alva-noe-berkeley/
LOCATION:Jackman Humanities Building\, Room 100 (Main Floor Lecture Hall)\, 170 St. George Street\, Toronto\, Ontario\, M5R 2M8\, Canada
CATEGORIES:Graduate,St. George,Undergraduate
ATTACH;FMTTYPE=image/jpeg:https://philosophy.utoronto.ca/wp-content/uploads/Alva-Noe-UC-Berkeley-utoronto-philosophy-lecture.jpg
END:VEVENT
END:VCALENDAR