BEGIN:VCALENDAR
VERSION:2.0
PRODID:-//Department of Philosophy - ECPv6.15.20//NONSGML v1.0//EN
CALSCALE:GREGORIAN
METHOD:PUBLISH
X-ORIGINAL-URL:https://philosophy.utoronto.ca
X-WR-CALDESC:Events for Department of Philosophy
REFRESH-INTERVAL;VALUE=DURATION:PT1H
X-Robots-Tag:noindex
X-PUBLISHED-TTL:PT1H
BEGIN:VTIMEZONE
TZID:America/Toronto
BEGIN:DAYLIGHT
TZOFFSETFROM:-0500
TZOFFSETTO:-0400
TZNAME:EDT
DTSTART:20170312T070000
END:DAYLIGHT
BEGIN:STANDARD
TZOFFSETFROM:-0400
TZOFFSETTO:-0500
TZNAME:EST
DTSTART:20171105T060000
END:STANDARD
BEGIN:DAYLIGHT
TZOFFSETFROM:-0500
TZOFFSETTO:-0400
TZNAME:EDT
DTSTART:20180311T070000
END:DAYLIGHT
BEGIN:STANDARD
TZOFFSETFROM:-0400
TZOFFSETTO:-0500
TZNAME:EST
DTSTART:20181104T060000
END:STANDARD
BEGIN:DAYLIGHT
TZOFFSETFROM:-0500
TZOFFSETTO:-0400
TZNAME:EDT
DTSTART:20190310T070000
END:DAYLIGHT
BEGIN:STANDARD
TZOFFSETFROM:-0400
TZOFFSETTO:-0500
TZNAME:EST
DTSTART:20191103T060000
END:STANDARD
END:VTIMEZONE
BEGIN:VEVENT
DTSTART;VALUE=DATE:20180406
DTEND;VALUE=DATE:20180408
DTSTAMP:20260421T230135
CREATED:20180223T210735Z
LAST-MODIFIED:20180404T152043Z
UID:13326-1522972800-1523145599@philosophy.utoronto.ca
SUMMARY:2018 Undergraduate Philosophy Research Conference & Noēsis launch
DESCRIPTION:Visit the Facebook event to let us know you’re attending! \nEvery year\, our department hosts a Philosophy Research Conference for undergraduate students to showcase top work at the university. This year’s conference will feature 15-20 student talks\, as well as a keynote presentation by Professor Samantha Brennan of the University of Guelph. \nThe conference will also involve the launch of the 19th edition of Noēsis and will feature talks by this year’s published authors and the journal’s editorial board. \nEvents will take place from 9 a.m. to 5 p.m. on both days of this two-day conference. \nSchedule:\nFriday\, April 6:\n9:15 Opening Remarks.\n9:30 Sam Clark\, “The Representationalist’s Dilemma”.\n10:10 Kirsten Armstrong\, “Defending Hume’s Ideal Critics”.\n10:50 Josefine Klingspor\, “The Role of the Infinite Intellect in Spinoza’s Metaphysics”.\n11:20-1:00 Lunch.\n1:00 Sarah Ratzlaff: Counter-Monuments and the (Self-) Reflection of the Spectator.\n1:40 Agnes Yu. “The Moral Winner Takes All: How Moral Asymmetry Violates the Right to Life of Unjust Combatants”.\n2:20 Christopher Hill\, “The Two Different Activities of Divine Reason and Human Reason in Aristotle’s Nichomachean Ethics”.\n3:00 Joe Yule\, “A Bayesian Approach to Normative Ethical Theory Evaluation”.\n3:45 Noesis Volume 19: Launch Event/Author Meet and Greet. \nSaturday\, April 7:\n\n9:30 Manula Adhihetty\, “A Defense of the Rationality of Suicide”.\n10:10 Eddy Wang\, “The Wedding Bed and the Grave: The Reality of Death in Love”.\n10:50 Alexandra Leclair\, “On Degree Actualism”.\n11:20 Lunch.\n12:30 Bella Soblirova\, “The Ethics of Donor Siblings.”\n1:10 Cindy Do\, “The Problem of Forgotten Evidence”.\n1:50 Lucas Bennett\, “A Theory of Fictional Objects”.\n2:30 Ahmed Elahi\, “Kant’s Transcendental Deduction: Solving the Crisis of Metaphysics”.\n3:30 (Keynote). Prof. Samantha Brennan (University of Guelph)\, “Parenting\, Philosophy\, Public Policy\, and a Puzzle”. \nAll events will be held in JHB 100. Attendance is free and open to the public; no registration required. Visit the Facebook event to let us know you’re attending! \n 
URL:https://philosophy.utoronto.ca/event/undergraduate-philosophy-conference-2018/
LOCATION:Jackman Humanities Building\, Room 100 (Main Floor Lecture Hall)\, 170 St. George Street\, Toronto\, Ontario\, M5R 2M8\, Canada
CATEGORIES:St. George,Undergraduate,UTSC
ATTACH;FMTTYPE=image/jpeg:https://philosophy.utoronto.ca/wp-content/uploads/Noesis-journals-utoronto-philosophy-undergraduate-conference.jpg
ORGANIZER;CN="No%C4%93sis Undergraduate Journal of Philosophy":MAILTO:eic.noesis@gmail.com
END:VEVENT
END:VCALENDAR