BEGIN:VCALENDAR
VERSION:2.0
PRODID:-//Department of Philosophy - ECPv6.15.20//NONSGML v1.0//EN
CALSCALE:GREGORIAN
METHOD:PUBLISH
X-WR-CALNAME:Department of Philosophy
X-ORIGINAL-URL:https://philosophy.utoronto.ca
X-WR-CALDESC:Events for Department of Philosophy
REFRESH-INTERVAL;VALUE=DURATION:PT1H
X-Robots-Tag:noindex
X-PUBLISHED-TTL:PT1H
BEGIN:VTIMEZONE
TZID:America/Toronto
BEGIN:DAYLIGHT
TZOFFSETFROM:-0500
TZOFFSETTO:-0400
TZNAME:EDT
DTSTART:20170312T070000
END:DAYLIGHT
BEGIN:STANDARD
TZOFFSETFROM:-0400
TZOFFSETTO:-0500
TZNAME:EST
DTSTART:20171105T060000
END:STANDARD
BEGIN:DAYLIGHT
TZOFFSETFROM:-0500
TZOFFSETTO:-0400
TZNAME:EDT
DTSTART:20180311T070000
END:DAYLIGHT
BEGIN:STANDARD
TZOFFSETFROM:-0400
TZOFFSETTO:-0500
TZNAME:EST
DTSTART:20181104T060000
END:STANDARD
BEGIN:DAYLIGHT
TZOFFSETFROM:-0500
TZOFFSETTO:-0400
TZNAME:EDT
DTSTART:20190310T070000
END:DAYLIGHT
BEGIN:STANDARD
TZOFFSETFROM:-0400
TZOFFSETTO:-0500
TZNAME:EST
DTSTART:20191103T060000
END:STANDARD
END:VTIMEZONE
BEGIN:VEVENT
DTSTART;VALUE=DATE:20180505
DTEND;VALUE=DATE:20180507
DTSTAMP:20260419T130323
CREATED:20171025T182204Z
LAST-MODIFIED:20190916T181519Z
UID:11632-1525478400-1525651199@philosophy.utoronto.ca
SUMMARY:History of Metaphysics Conference: Infinity
DESCRIPTION:Download the poster (PDF) \nOne of five departmental Research Interest Groups\, the History of Philosophy Group is home to the History of Modern Philosophy Research Group\, which focuses on the period\, roughly\, from Descartes to Kant. \nThe History of Modern Philosophy Group is pleased to present the 2017 History of Metaphysics Conference: Infinity. The conference is organized by professors Karolina Hübner and Nick Stang. \nSchedule\nSaturday May 5\n10am-11:30am  Jacob Rosen (Harvard): “Aristotle’s Actual Infinities” \n11:45pm-1:15pm  Jon McGinnis (Missouri St. Louis): “Mind the Gap: Avicenna’s New Argument against an Actually Infinite Space and Its Reception in Post-Classical Islamic World” \n3pm-4:30pm  Anat Schechtman (Wisconsin-Madison): “Ontic infinity” \n4:45pm-6:15pm  Kristin Primus (Berkeley): “Infinite Modes in Spinoza” \nSunday May 6\n9:30am-11:00am Emily Carson (McGill): “Infinity in the Critique of Pure Reason” \n11:15pm-12:45pm  Jim Kreines (Claremont McKenna): “The Metaphysical Infinite as Self-determining Thought: Hegel’s Idealism” \n2:30pm-4pm Roy Cook (Minnesota): “The Logic of Potential Infinity” \n4:15pm-5:45pm  Michael Hallett (McGill): “Reflections on Paradoxes of Infinity” \n  \nAll events are free and open to the public.  \nFor more information please contact karolina.hubner@utoronto.ca
URL:https://philosophy.utoronto.ca/event/history-of-metaphysics-conference-infinity/
LOCATION:Jackman Humanities Building\, Room 418\, 170 St. George Street\, Toronto\, Ontario\, M5R 2M8\, Canada
CATEGORIES:Graduate,St. George
ATTACH;FMTTYPE=image/jpeg:https://philosophy.utoronto.ca/wp-content/uploads/infinity-utoronto-metaphysics-conference-philosophy-2018.jpg
ORGANIZER;CN="Karolina H%C3%BCbner":MAILTO:karolina.hubner@utoronto.ca
END:VEVENT
END:VCALENDAR