BEGIN:VCALENDAR
VERSION:2.0
PRODID:-//Department of Philosophy - ECPv6.15.20//NONSGML v1.0//EN
CALSCALE:GREGORIAN
METHOD:PUBLISH
X-ORIGINAL-URL:https://philosophy.utoronto.ca
X-WR-CALDESC:Events for Department of Philosophy
REFRESH-INTERVAL;VALUE=DURATION:PT1H
X-Robots-Tag:noindex
X-PUBLISHED-TTL:PT1H
BEGIN:VTIMEZONE
TZID:America/Toronto
BEGIN:DAYLIGHT
TZOFFSETFROM:-0500
TZOFFSETTO:-0400
TZNAME:EDT
DTSTART:20170312T070000
END:DAYLIGHT
BEGIN:STANDARD
TZOFFSETFROM:-0400
TZOFFSETTO:-0500
TZNAME:EST
DTSTART:20171105T060000
END:STANDARD
BEGIN:DAYLIGHT
TZOFFSETFROM:-0500
TZOFFSETTO:-0400
TZNAME:EDT
DTSTART:20180311T070000
END:DAYLIGHT
BEGIN:STANDARD
TZOFFSETFROM:-0400
TZOFFSETTO:-0500
TZNAME:EST
DTSTART:20181104T060000
END:STANDARD
BEGIN:DAYLIGHT
TZOFFSETFROM:-0500
TZOFFSETTO:-0400
TZNAME:EDT
DTSTART:20190310T070000
END:DAYLIGHT
BEGIN:STANDARD
TZOFFSETFROM:-0400
TZOFFSETTO:-0500
TZNAME:EST
DTSTART:20191103T060000
END:STANDARD
END:VTIMEZONE
BEGIN:VEVENT
DTSTART;VALUE=DATE:20180507
DTEND;VALUE=DATE:20180509
DTSTAMP:20260421T205836
CREATED:20171212T184146Z
LAST-MODIFIED:20180424T144740Z
UID:12634-1525651200-1525823999@philosophy.utoronto.ca
SUMMARY:18th Annual Graduate Philosophy Conference: "PsyPhi: Philosophy meets Psychology"
DESCRIPTION:Download the conference poster (PDF) \nThe 18th Annual University of Toronto Graduate Philosophy Conference\, PsyPhi: Philosophy meets Psychology\, will host graduate students working in all areas in philosophy that relate to the conference’s main themes. \nKeynote Speakers\n\nJoëlle Proust (Institut Jean Nicod\, CNRS\, Ecole Normale Superieure\, Paris). Dr. Proust’s extensive research on the mind spans consciousness\, action awareness\, but more recently focuses on metacognition and cognitive phenomenology.\n\n\nShaun Gallagher (University of Memphis & University of Wollongong). Dr. Gallagher’s research spans topics in phenomenology and cognitive sciences\, especially embodiment\, self\, agency and intersubjectivity\, hermeneutics\, and the philosophy of time.\n\nConference Schedule\n All talks held in the Jackman Humanities Building (JHB) \nMonday\, May 7th\n\n10:15-10:30: Coffee & Snacks; Venue: JHB 418\n10:30 Welcome and Land Acknowledgment – Emma McClure\n10:35-11:30: Amanda Evans (UT Austin)\, “Cognitive Penetration of Shape Experience”\, Commentator: Zach Weinstein\, Chair: Elliot Carter\n11:45-12:45: Sam Clarke (Oxford/Princeton)\, “Beyond the Icon: On Carey’s Characterization of Core Cognition”\, Commentator: Mason Westfall\, Chair: Melissa Rees\n12:45-2:15: Lunch\n2:15-3:15: Louis Gularte (Brown)\, “Suffering is Bad\, Even if it’s not Mine (or Yours)”\, Commentator: Griffin Klemick\, Chair: Rachel MacKinnon\n3:30-5:30: Keynote Address by Shaun Gallagher\, Venue: JHB 100\, Commentator: Maria Keller\, Chair: Valerie Bernard\n5:30-7:00: Reception\, Venue: JHB 418\n\nTuesday\, May 8th\n\n10:15-10:30: Coffee & Snacks\, Venue: JHB 418\n10:30 Welcome and Land Acknowledgment – Howard Williams\n10:35-12:15: Panel on Psychiatry and Philosophy\, Chair: Charles Dalrymple-Fraser & Maria Keller\n\nDana Fritz (Marquette)\, “The Crisis of Autism”\,\nLaila Khoshkar (Ryerson)\, “The ‘Individual’ with Mental Disorder: Problems in Conceptualising Non-Western Mental Disorder According to a Western Framework of the Self”\nAustin Williams (Boston College)\, “Rending The World: Care\, Boredom\, and Depression as World Concealing in Heidegger”\n\n\n12:15-1:30: Lunch\n1:30-2:30: Anna Giustina (Institut Jean-Nicod)\, “Introspective Acquaintance: an Integration Account”\, Commentator: Julia Smith\, Chair: John Bunke\n2:45-3:45\, Chuck Goldhaber (Pittsburgh)\, “The moods and humors of Hume’s skepticism”\,  Commentator: Bowen Chan\, Chair: Mark Gatten\n4:00-6:00: Keynote Address by Joelle Proust\, Venue: JHB 100\, Commentator: Jessica Wright\nChair: Daniel Munro\n\nConference Description\nFrom ancient reflections on psyche\, medieval accounts of the soul\, to early modern debates about the nature of mind\, philosophers have long been interested in psychological questions. Classical Indian and Chinese traditions raise questions about the epistemic significance and metaphysical underpinnings of consciousness\, experience\, and the mind’s social situatedness. Against this philosophical background\, psychology emerged as a discipline proper in the 19th century\, while programs in psychoanalysis and behaviorism developed in the 20th century. \nToday\, epistemologists and philosophers of mind draw on empirical findings in developing theories of cognition\, metacognition\, and perception. Continental philosophy and phenomenology delve into the significance of the first-person perspective by describing the structures of experience. Ethicists explore aspects of moral psychology\, and the implications of experimental psychology for moral judgments. Philosophers of science take up issues related to the methods and practices in cognitive and psychological sciences. Feminist and critical race philosophers address the psychological impact of social climate\, injustice and oppression\, both for individuals and groups. Applied philosophers and bioethicists take up questions about mental health\, its treatment\, and classifications\, or the ethical constraints on such research. \nPanel on Psychiatry and Philosophy\nIn collaboration with UP\, our local chapter of Minorities and Philosophy\, we will be holding a panel on philosophical engagements with psychiatry. We aim for a range of approaches to these topics. \nAccessibility\nWe are committed to having an accessible and inclusive conference. For information on access\, including venue location and physical accessibility\, visit our conference website or email torontophilgradconf@gmail.com. \n 
URL:https://philosophy.utoronto.ca/event/18th-annual-graduate-philosophy-conference-psyphi-philosophy-meets-psychology/
LOCATION:Ontario
CATEGORIES:Graduate,St. George
ATTACH;FMTTYPE=image/jpeg:https://philosophy.utoronto.ca/wp-content/uploads/psyphi-grad-conference-poster-utoronto-philosophy-event.jpg
END:VEVENT
END:VCALENDAR