BEGIN:VCALENDAR
VERSION:2.0
PRODID:-//Department of Philosophy - ECPv6.15.20//NONSGML v1.0//EN
CALSCALE:GREGORIAN
METHOD:PUBLISH
X-WR-CALNAME:Department of Philosophy
X-ORIGINAL-URL:https://philosophy.utoronto.ca
X-WR-CALDESC:Events for Department of Philosophy
REFRESH-INTERVAL;VALUE=DURATION:PT1H
X-Robots-Tag:noindex
X-PUBLISHED-TTL:PT1H
BEGIN:VTIMEZONE
TZID:America/Toronto
BEGIN:DAYLIGHT
TZOFFSETFROM:-0500
TZOFFSETTO:-0400
TZNAME:EDT
DTSTART:20170312T070000
END:DAYLIGHT
BEGIN:STANDARD
TZOFFSETFROM:-0400
TZOFFSETTO:-0500
TZNAME:EST
DTSTART:20171105T060000
END:STANDARD
BEGIN:DAYLIGHT
TZOFFSETFROM:-0500
TZOFFSETTO:-0400
TZNAME:EDT
DTSTART:20180311T070000
END:DAYLIGHT
BEGIN:STANDARD
TZOFFSETFROM:-0400
TZOFFSETTO:-0500
TZNAME:EST
DTSTART:20181104T060000
END:STANDARD
BEGIN:DAYLIGHT
TZOFFSETFROM:-0500
TZOFFSETTO:-0400
TZNAME:EDT
DTSTART:20190310T070000
END:DAYLIGHT
BEGIN:STANDARD
TZOFFSETFROM:-0400
TZOFFSETTO:-0500
TZNAME:EST
DTSTART:20191103T060000
END:STANDARD
END:VTIMEZONE
BEGIN:VEVENT
DTSTART;VALUE=DATE:20180612
DTEND;VALUE=DATE:20180615
DTSTAMP:20260419T130321
CREATED:20180508T141842Z
LAST-MODIFIED:20180611T193839Z
UID:13827-1528761600-1529020799@philosophy.utoronto.ca
SUMMARY:2018 Formal Epistemology Workshop (FEW)
DESCRIPTION:The 2018 Formal Epistemology Workshop will present papers in formal epistemology\, broadly construed to include related areas of philosophy as well as cognate disciplines like statistics\, psychology\, economics\, computer science\, and mathematics. \nThis year’s FEW will feature two keynote addresses\, by Lara Buchak and Mike Titelbaum\, as well as 10 submitted papers. \nSchedule\nTuesday\, June 12th\n9:30 am – “Concept Utility”\, by Paul Egre & Cathal O’Madagain; comments by Snow (Xueyin) Zhang \n11:15 am – “Ungrounded Payoffs. A Tale of Unconditional Love and Unrepentant Hate”\, by Eleonora Cresto; comments by Aydin Mohseni \n12:30 pm – Lunch \n2:00 pm – Keynote Address: “Do We Really Need Finite Additivity?”\, by Mike Titelbaum \n3:45 pm – “Knowability as Learning”\, by Ivan Verano; comments by Joe Salerno \nWednesday\, June 13th\n9:30 am – “Modes of Convergence to the Truth: Steps toward a Better Epistemology of Induction”\, by Hanti Lin; comments by Francesca Zaffora Blando \n11:15 am – “Reducing Contrastive Knowledge”\, by Michael Cohen; comments by Jonathan Schaffer \n12:30 pm – Lunch \n2:00 pm – Keynote Address: “Against Expectations”\, by Lara Buchak \n3:45 pm – “‘Ramseyfying’ Probabilistic Comparativism”\, by Edward Elliott; comments by Jason Konek \nThursday\, June 14th\n9:30 am – “Fragmentation\, Mathematical Ignorance\, and the Metalinguistic Reply”\, by Adam Elga & Agustin Rayo; comments by Sara Aronowitz \n11:15 am – “Can Accuracy Motivate Modesty?”\, by Jennifer Carr; comments by Pavel Janda \n12:30 pm – Lunch \n2:00 pm – “Hindsight Bias is not a Bias”\, by Brian Hedden; comments by William Roche \n3:45 pm – “An Objection of Varying Importance to Epistemic Utility Theory”\, by Ben Levinstein; comments by James Joyce
URL:https://philosophy.utoronto.ca/event/2018-formal-epistemology-workshop/
LOCATION:Jackman Humanities Building\, Room 100 (Main Floor Lecture Hall)\, 170 St. George Street\, Toronto\, Ontario\, M5R 2M8\, Canada
CATEGORIES:Graduate,St. George
ATTACH;FMTTYPE=image/jpeg:https://philosophy.utoronto.ca/wp-content/uploads/formal-epistemology-2018-utoronto-philosophy-sm.jpg
ORGANIZER;CN="Jonathan Weisberg":MAILTO:jonathan.weisberg@utoronto.ca
END:VEVENT
END:VCALENDAR