BEGIN:VCALENDAR
VERSION:2.0
PRODID:-//Department of Philosophy - ECPv6.15.20//NONSGML v1.0//EN
CALSCALE:GREGORIAN
METHOD:PUBLISH
X-WR-CALNAME:Department of Philosophy
X-ORIGINAL-URL:https://philosophy.utoronto.ca
X-WR-CALDESC:Events for Department of Philosophy
REFRESH-INTERVAL;VALUE=DURATION:PT1H
X-Robots-Tag:noindex
X-PUBLISHED-TTL:PT1H
BEGIN:VTIMEZONE
TZID:America/Toronto
BEGIN:DAYLIGHT
TZOFFSETFROM:-0500
TZOFFSETTO:-0400
TZNAME:EDT
DTSTART:20170312T070000
END:DAYLIGHT
BEGIN:STANDARD
TZOFFSETFROM:-0400
TZOFFSETTO:-0500
TZNAME:EST
DTSTART:20171105T060000
END:STANDARD
BEGIN:DAYLIGHT
TZOFFSETFROM:-0500
TZOFFSETTO:-0400
TZNAME:EDT
DTSTART:20180311T070000
END:DAYLIGHT
BEGIN:STANDARD
TZOFFSETFROM:-0400
TZOFFSETTO:-0500
TZNAME:EST
DTSTART:20181104T060000
END:STANDARD
BEGIN:DAYLIGHT
TZOFFSETFROM:-0500
TZOFFSETTO:-0400
TZNAME:EDT
DTSTART:20190310T070000
END:DAYLIGHT
BEGIN:STANDARD
TZOFFSETFROM:-0400
TZOFFSETTO:-0500
TZNAME:EST
DTSTART:20191103T060000
END:STANDARD
END:VTIMEZONE
BEGIN:VEVENT
DTSTART;TZID=America/Toronto:20181110T120000
DTEND;TZID=America/Toronto:20181110T160000
DTSTAMP:20260419T211435
CREATED:20181101T162728Z
LAST-MODIFIED:20181107T190858Z
UID:15996-1541851200-1541865600@philosophy.utoronto.ca
SUMMARY:Philosophy Saturday: A Workshop for High School Philosophy Teachers
DESCRIPTION:Download the event poster (PDF). \nFor the first time ever\, the U of T Department of Philosophy and the Ontario Philosophy Teachers’ Association present Philosophy Saturday\, a workshop for high school educators on teaching philosophy. \nWhile the workshop is designed for area high school philosophy teachers\, we encourage all members of the U of T philosophy community to attend. The event is free and lunch will be served. \n★ If you would like to attend\, please RSVP to OPTA’s Ken Peglar at kpeglar@rogers.com \nSchedule\n12:00 to 1:00\n\nWelcome by Acting Chair\, Professor Arthur Ripstein.\nLunch.\nDuring lunch there will be an informal discussion of philosophy writing by Professor James John and Stephanie Gibson\, a GTA high school philosophy teacher.\n\n1:00 to 4:00 – three one-hour sessions (order TBA).\n\nProfessor Jennifer Nagel: “Epistemology in the Digital Age.”\nProfessor Peter King: “Teaching Medieval Philosophy.”\nProfessor Julia Nefsky: “Teaching Moral Philosophy.”
URL:https://philosophy.utoronto.ca/event/philosophy-high-school-teacher-workshop/
LOCATION:Jackman Humanities Building\, Room 100 (Main Floor Lecture Hall)\, 170 St. George Street\, Toronto\, Ontario\, M5R 2M8\, Canada
CATEGORIES:St. George
ATTACH;FMTTYPE=image/jpeg:https://philosophy.utoronto.ca/wp-content/uploads/opta-workshop-high-school-lightbulb-utoronto-philosophy.jpg
END:VEVENT
END:VCALENDAR