BEGIN:VCALENDAR
VERSION:2.0
PRODID:-//Department of Philosophy - ECPv6.15.20//NONSGML v1.0//EN
CALSCALE:GREGORIAN
METHOD:PUBLISH
X-ORIGINAL-URL:https://philosophy.utoronto.ca
X-WR-CALDESC:Events for Department of Philosophy
REFRESH-INTERVAL;VALUE=DURATION:PT1H
X-Robots-Tag:noindex
X-PUBLISHED-TTL:PT1H
BEGIN:VTIMEZONE
TZID:America/Toronto
BEGIN:DAYLIGHT
TZOFFSETFROM:-0500
TZOFFSETTO:-0400
TZNAME:EDT
DTSTART:20180311T070000
END:DAYLIGHT
BEGIN:STANDARD
TZOFFSETFROM:-0400
TZOFFSETTO:-0500
TZNAME:EST
DTSTART:20181104T060000
END:STANDARD
BEGIN:DAYLIGHT
TZOFFSETFROM:-0500
TZOFFSETTO:-0400
TZNAME:EDT
DTSTART:20190310T070000
END:DAYLIGHT
BEGIN:STANDARD
TZOFFSETFROM:-0400
TZOFFSETTO:-0500
TZNAME:EST
DTSTART:20191103T060000
END:STANDARD
BEGIN:DAYLIGHT
TZOFFSETFROM:-0500
TZOFFSETTO:-0400
TZNAME:EDT
DTSTART:20200308T070000
END:DAYLIGHT
BEGIN:STANDARD
TZOFFSETFROM:-0400
TZOFFSETTO:-0500
TZNAME:EST
DTSTART:20201101T060000
END:STANDARD
END:VTIMEZONE
BEGIN:VEVENT
DTSTART;TZID=America/Toronto:20190301T140000
DTEND;TZID=America/Toronto:20190301T170000
DTSTAMP:20260422T141304
CREATED:20190222T201128Z
LAST-MODIFIED:20190916T183949Z
UID:16457-1551448800-1551459600@philosophy.utoronto.ca
SUMMARY:Thinking towards Action: 2019 Underrepresented Philosophy Conference
DESCRIPTION:The Philosophy Course Union presents Thinking towards Action: 2019 Underrepresented Philosophy Conference. This year’s conference bridges disciplines to create an invested dialogue on the state of knowledge in higher learning and ethics in morally precarious times. We encourage students and faculty from all disciplines to attend and engage with our speakers. \nThe event is free and open to all. Please register. \nKeynote:”Microaggression and Forward-Looking Moral Responsibility” \nDr. Regina Rini\, Canada Research Chair in Philosophy of Moral and Social Cognition and Assistant Professor at York University \nPanel: Diverse Knowledge in the Academy \nWhat does (and doesn’t) get called “academic” knowledge? And why should we care? Dr. Shannon Dea (Waterloo)\, Dr. Ahmed Ilmi (U of T)\, and Charles Dalrymple-Fraser (U of T) discuss underrepresented ways of knowing and what the “academic” label means. Moderated by Howard Williams (U of T). \nSee the Facebook event for all speaker details.
URL:https://philosophy.utoronto.ca/event/thinking-towards-action-2019-underrepresented-philosophy-conference/
LOCATION:Alumni Hall\, Old Victoria College\, 73 Queens Park Crescent East (91 Charles Street West)\, Toronto\, Ontario\, M5S1K7\, Canada
CATEGORIES:St. George,Undergraduate
ATTACH;FMTTYPE=image/jpeg:https://philosophy.utoronto.ca/wp-content/uploads/underrepresented-philosophy-2019-pcu-utoronto-philosophy.jpg
END:VEVENT
END:VCALENDAR