BEGIN:VCALENDAR
VERSION:2.0
PRODID:-//Department of Philosophy - ECPv6.15.20//NONSGML v1.0//EN
CALSCALE:GREGORIAN
METHOD:PUBLISH
X-WR-CALNAME:Department of Philosophy
X-ORIGINAL-URL:https://philosophy.utoronto.ca
X-WR-CALDESC:Events for Department of Philosophy
REFRESH-INTERVAL;VALUE=DURATION:PT1H
X-Robots-Tag:noindex
X-PUBLISHED-TTL:PT1H
BEGIN:VTIMEZONE
TZID:America/Toronto
BEGIN:DAYLIGHT
TZOFFSETFROM:-0500
TZOFFSETTO:-0400
TZNAME:EDT
DTSTART:20180311T070000
END:DAYLIGHT
BEGIN:STANDARD
TZOFFSETFROM:-0400
TZOFFSETTO:-0500
TZNAME:EST
DTSTART:20181104T060000
END:STANDARD
BEGIN:DAYLIGHT
TZOFFSETFROM:-0500
TZOFFSETTO:-0400
TZNAME:EDT
DTSTART:20190310T070000
END:DAYLIGHT
BEGIN:STANDARD
TZOFFSETFROM:-0400
TZOFFSETTO:-0500
TZNAME:EST
DTSTART:20191103T060000
END:STANDARD
BEGIN:DAYLIGHT
TZOFFSETFROM:-0500
TZOFFSETTO:-0400
TZNAME:EDT
DTSTART:20200308T070000
END:DAYLIGHT
BEGIN:STANDARD
TZOFFSETFROM:-0400
TZOFFSETTO:-0500
TZNAME:EST
DTSTART:20201101T060000
END:STANDARD
END:VTIMEZONE
BEGIN:VEVENT
DTSTART;VALUE=DATE:20190607
DTEND;VALUE=DATE:20190609
DTSTAMP:20260419T192238
CREATED:20190304T213649Z
LAST-MODIFIED:20190304T220533Z
UID:16509-1559865600-1560038399@philosophy.utoronto.ca
SUMMARY:Experiencing What's Not There: A Workshop on Hallucinations\, Dreams\, Imagination\, and Virtual Reality
DESCRIPTION:About the Workshop\nSensory experience of what’s not there provides a foundational set of problems for philosophical theorizing about perception. This includes hallucinations\, dreams\, imagination\, and virtual reality. Traditionally\, these cases are thought to reveal something about (1) how experience of distal objects arises from proximal receptor stimulation and (2) the nature of the perceptual contact afforded through that experience. \nThis workshop brings together some of the best current research on experience of what’s not there\, from both philosophers and scientists. Although different in some ways\, hallucinations\, dreams\, imagination\, and virtual reality — all being experiences of what’s not there —overlap and intersect in interesting and important ways. By bringing together a diverse group of top researchers we hope to foster new and unconventional insights into these problem areas. \nA detailed schedule of the workshop and abstracts of the talks will be posted closer to the event date. \nSpeakers\nAlex Byrne\, Massachusetts Institute of Technology\, Department of Linguistics and Philosophy \nThomas Crowther\, University of Warwick\, Department of Philosophy \nHeather Culbertson\, University of Southern California\, Department of Computer Science and Department of Aerospace and Mechanical Engineering \nTomoyasu Horikawa\, Advanced Telecommunications Research Institute International (ATR)\, Kyoto\, Japan\, Computational Neuroscience Laboratories\, Department of Neuroinformatics \nAmy Kind\, Claremont McKenna College\, Department of Philosophy \nFiona Macpherson\, University of Glasgow\, Department of Philosophy \nRhonda McEwen and Michelle Lui\, University of Toronto\, Institute of Communication\, Culture\, Information & Technology (ICCIT) \nJennifer Windt\, Monash University\, Melbourne\, Australia\, Department of Philosophy \nOrganizers and Hosts\nThis two-day workshop is organized by Prof. Mohan Matthen and Dr. Michael Barkasi (for information\, please email michael.barkasi@utoronto.ca) and hosted by the University of Toronto Graduate Department of Philosophy\, the Department of Philosophy University of Toronto Mississauga. and the Network for Sensory Research\, with funding from the Canada Research Chairs Program. \nThe Network for Sensory Research is an international philosophy-led group of institutions conducting interdisciplinary research on perception. Our aim is to build a theoretical model of the senses that matches the complexity of sensory phenomena\, as revealed by recent scientific work. \n  \n 
URL:https://philosophy.utoronto.ca/event/experiencing-whats-not-there-workshop/
LOCATION:Jackman Humanities Building\, Room 418\, 170 St. George Street\, Toronto\, Ontario\, M5R 2M8\, Canada
CATEGORIES:Graduate,St. George
ATTACH;FMTTYPE=image/jpeg:https://philosophy.utoronto.ca/wp-content/uploads/experiencing-whats-not-there-event-utoronto-philosophy.jpg
ORGANIZER;CN="Mohan Matthen":MAILTO:mohan.matthen@utoronto.ca
END:VEVENT
END:VCALENDAR