BEGIN:VCALENDAR
VERSION:2.0
PRODID:-//Department of Philosophy - ECPv6.15.20//NONSGML v1.0//EN
CALSCALE:GREGORIAN
METHOD:PUBLISH
X-ORIGINAL-URL:https://philosophy.utoronto.ca
X-WR-CALDESC:Events for Department of Philosophy
REFRESH-INTERVAL;VALUE=DURATION:PT1H
X-Robots-Tag:noindex
X-PUBLISHED-TTL:PT1H
BEGIN:VTIMEZONE
TZID:America/Toronto
BEGIN:DAYLIGHT
TZOFFSETFROM:-0500
TZOFFSETTO:-0400
TZNAME:EDT
DTSTART:20180311T070000
END:DAYLIGHT
BEGIN:STANDARD
TZOFFSETFROM:-0400
TZOFFSETTO:-0500
TZNAME:EST
DTSTART:20181104T060000
END:STANDARD
BEGIN:DAYLIGHT
TZOFFSETFROM:-0500
TZOFFSETTO:-0400
TZNAME:EDT
DTSTART:20190310T070000
END:DAYLIGHT
BEGIN:STANDARD
TZOFFSETFROM:-0400
TZOFFSETTO:-0500
TZNAME:EST
DTSTART:20191103T060000
END:STANDARD
BEGIN:DAYLIGHT
TZOFFSETFROM:-0500
TZOFFSETTO:-0400
TZNAME:EDT
DTSTART:20200308T070000
END:DAYLIGHT
BEGIN:STANDARD
TZOFFSETFROM:-0400
TZOFFSETTO:-0500
TZNAME:EST
DTSTART:20201101T060000
END:STANDARD
END:VTIMEZONE
BEGIN:VEVENT
DTSTART;TZID=America/Toronto:20190919T170000
DTEND;TZID=America/Toronto:20190919T190000
DTSTAMP:20260422T191945
CREATED:20190314T164325Z
LAST-MODIFIED:20190913T153413Z
UID:16583-1568912400-1568919600@philosophy.utoronto.ca
SUMMARY:Continental Philosophy Group Talk (Robert Stern\, University of Sheffield)
DESCRIPTION:The group welcomes Robert Stern\, professor in the Department of Philosophy at the University of Sheffield. Professor Stern’s main interests in the history of philosophy are 19th-century post-Kantian German philosophy\, especially Hegel. In contemporary philosophy\, he focuses on epistemology\, metaphysics\, ethics\, and political philosophy. His current work centres around the Danish philosopher and theologian K. E. Løgstrup\, as well as around Martin Luther viewed from a philosophical perspective. His most recent publications include The Radical Demand in Løgstrup’s Ethics (OUP\, 2019)\, Kantian Ethics: Value\, Agency\, and Obligation (OUP\, 2015)\, and Understanding Moral Obligation: Kant\, Hegel\, Kierkegaard (CUP\, 2012). \nTalk Title\n“Hegel\, Luther and Freedom”. \nThe paper will consider the relation between Hegel and Luther\, focusing on the issue of freedom. Hegel expressed his commitment to Lutheranism on several occasions\, and gives the Lutheran Reformation a prominent place in his philosophy of history. This paper will focus on four aspects of Hegel?s view of freedom\, and trace their connection back to a Lutheran influence: freedom as reconciliation; as passivity; as grace; and as necessity. It will be suggested that we should take Luther to be as important to Hegel on this issue as other more familiar figures\, such as Kant. \nA workshop on The Radical Demand in Løgstrup’s Ethics with the author will be available on Friday\, September 20\, 2019\, 9:00 am – 12:00 noon. \nA talk title and an abstract for Professor Stern’s lecture will be added to this page at a time closer to the event. \nAbout the Continental Philosophy Group\nOne of five departmental research interest groups\, the Continental Philosophy Group works in the traditions of textual interpretation of human consciousness\, phenomenology\, and post-structuralist critical theory\, among other related traditions of thought.
URL:https://philosophy.utoronto.ca/event/robert-stern-sheffield/
LOCATION:Jackman Humanities Building\, Room 418\, 170 St. George Street\, Toronto\, Ontario\, M5R 2M8\, Canada
CATEGORIES:Graduate,St. George
ATTACH;FMTTYPE=image/jpeg:https://philosophy.utoronto.ca/wp-content/uploads/robert-stern-utoronto-philosophy.jpg
END:VEVENT
END:VCALENDAR