BEGIN:VCALENDAR
VERSION:2.0
PRODID:-//Department of Philosophy - ECPv6.15.20//NONSGML v1.0//EN
CALSCALE:GREGORIAN
METHOD:PUBLISH
X-ORIGINAL-URL:https://philosophy.utoronto.ca
X-WR-CALDESC:Events for Department of Philosophy
REFRESH-INTERVAL;VALUE=DURATION:PT1H
X-Robots-Tag:noindex
X-PUBLISHED-TTL:PT1H
BEGIN:VTIMEZONE
TZID:America/Toronto
BEGIN:DAYLIGHT
TZOFFSETFROM:-0500
TZOFFSETTO:-0400
TZNAME:EDT
DTSTART:20180311T070000
END:DAYLIGHT
BEGIN:STANDARD
TZOFFSETFROM:-0400
TZOFFSETTO:-0500
TZNAME:EST
DTSTART:20181104T060000
END:STANDARD
BEGIN:DAYLIGHT
TZOFFSETFROM:-0500
TZOFFSETTO:-0400
TZNAME:EDT
DTSTART:20190310T070000
END:DAYLIGHT
BEGIN:STANDARD
TZOFFSETFROM:-0400
TZOFFSETTO:-0500
TZNAME:EST
DTSTART:20191103T060000
END:STANDARD
BEGIN:DAYLIGHT
TZOFFSETFROM:-0500
TZOFFSETTO:-0400
TZNAME:EDT
DTSTART:20200308T070000
END:DAYLIGHT
BEGIN:STANDARD
TZOFFSETFROM:-0400
TZOFFSETTO:-0500
TZNAME:EST
DTSTART:20201101T060000
END:STANDARD
END:VTIMEZONE
BEGIN:VEVENT
DTSTART;VALUE=DATE:20190920
DTEND;VALUE=DATE:20190922
DTSTAMP:20260423T023550
CREATED:20190525T093920Z
LAST-MODIFIED:20190830T185314Z
UID:16791-1568937600-1569110399@philosophy.utoronto.ca
SUMMARY:2019 Toronto Colloquium in Medieval Philosophy
DESCRIPTION:FRIDAY\, SEPTEMBER 20\nSession I (4:30 – 6:30)\nChair: Therese Cory (University of Notre Dame)\nEmmanuel Bermon (Université de Bordeaux): “The Augustinian Proof for the Immortality of the Soul”\nCommentator: Scott MacDonald (Cornell University) \n  \nSATURDAY\, SEPTEMBER 21\nSession II (10:00 – 12:00)\nChair: Giorgio Pini (Fordham University)\nMatteo di Giovanni (University of Turin): “Western Islamic Hylomorphism: Matter and Form in Averroes’ Philosophy”\nCommentator: Stephen Menn (McGill University) \nSession III (2:00 – 4:00)\nChair: Simona Vucu (University of Toronto)\nMatthieu Remacle (University of Toronto): “Logic as a Normative Linguistic Discipline in al-Farabi”\nJacob Andrews (Loyola University Chicago): “William of Auxerre on the Compatibility of Faith and Arguments”\nMachessa Samz (Nazareth College\, Rochester): “Vital du Four on the Intellect’s Cognition of the Singular” \nSession IV (4:15 – 6:15)\nChair: Peter Hartman (Loyola University Chicago)\nChristina Van Dyke: “Reason and Its Limits in 13th-15th Century Contemplative Philosophy”\nCommentator: Jennifer Hart Weed (University of New Brunswick) \n  \nAll sessions are free and open to the public and will be held in Room 100 of the Jackman Humanities Building (170 St. George Street). \nThe colloquium is sponsored by the Department of Philosophy\, the Collaborative Program in Ancient and Medieval Philosophy\, the Centre for Medieval Studies\, the Pontifical Institute of Mediaeval Studies\, and the Department of Near and Middle Eastern Civilizations. \nThe colloquium is organized by Martin Pickavé\, Deborah Black\, and Peter King.
URL:https://philosophy.utoronto.ca/event/toronto-colloquium-medieval-philosophy-2019/
LOCATION:Jackman Humanities Building\, Room 100 (Main Floor Lecture Hall)\, 170 St. George Street\, Toronto\, Ontario\, M5R 2M8\, Canada
CATEGORIES:Graduate,St. George
ATTACH;FMTTYPE=image/jpeg:https://philosophy.utoronto.ca/wp-content/uploads/medieval-colloquium-utoronto-philosophy-newsite.jpg
END:VEVENT
END:VCALENDAR