BEGIN:VCALENDAR
VERSION:2.0
PRODID:-//Department of Philosophy - ECPv6.15.20//NONSGML v1.0//EN
CALSCALE:GREGORIAN
METHOD:PUBLISH
X-WR-CALNAME:Department of Philosophy
X-ORIGINAL-URL:https://philosophy.utoronto.ca
X-WR-CALDESC:Events for Department of Philosophy
REFRESH-INTERVAL;VALUE=DURATION:PT1H
X-Robots-Tag:noindex
X-PUBLISHED-TTL:PT1H
BEGIN:VTIMEZONE
TZID:America/Toronto
BEGIN:DAYLIGHT
TZOFFSETFROM:-0500
TZOFFSETTO:-0400
TZNAME:EDT
DTSTART:20200308T070000
END:DAYLIGHT
BEGIN:STANDARD
TZOFFSETFROM:-0400
TZOFFSETTO:-0500
TZNAME:EST
DTSTART:20201101T060000
END:STANDARD
BEGIN:DAYLIGHT
TZOFFSETFROM:-0500
TZOFFSETTO:-0400
TZNAME:EDT
DTSTART:20210314T070000
END:DAYLIGHT
BEGIN:STANDARD
TZOFFSETFROM:-0400
TZOFFSETTO:-0500
TZNAME:EST
DTSTART:20211107T060000
END:STANDARD
BEGIN:DAYLIGHT
TZOFFSETFROM:-0500
TZOFFSETTO:-0400
TZNAME:EDT
DTSTART:20220313T070000
END:DAYLIGHT
BEGIN:STANDARD
TZOFFSETFROM:-0400
TZOFFSETTO:-0500
TZNAME:EST
DTSTART:20221106T060000
END:STANDARD
END:VTIMEZONE
BEGIN:VEVENT
DTSTART;TZID=America/Toronto:20210128T180000
DTEND;TZID=America/Toronto:20210128T193000
DTSTAMP:20260420T070036
CREATED:20201218T210056Z
LAST-MODIFIED:20210128T173703Z
UID:23392-1611856800-1611862200@philosophy.utoronto.ca
SUMMARY:b2B - Philosophy Career Panel: Careers in Law 2021
DESCRIPTION:Wondering where your degree will take you after graduation?\nU of T’s Backpack to Briefcase (b2B) help you explore your options. \nA panel of successful philosophy professionals\, alumni\, and peers will discuss their U of T education\, the value of their degree\, and their pursuit of successful careers in the legal field. Take advantage of this opportunity for you to network and discuss the various avenues you can take in your career after graduation. Bring questions to ask during the panel discussion or chat more informally with panelists in breakout rooms! \nREGISTER TODAY! \nPanelists\nStephen Bowman\, Vice Chair and Managing Partner\, People and Talent\, Bennett Jones \nJoanna Langille\, Assistant Professor of Law\, Western University \nMadeline Lisus\, Crown Counsel\, Ministry of the Attorney General\, Criminal Law Division \nJerome Poon-Ting\, Recruitment & Admissions/Diversity Outreach Officer\, Faculty of Law\, U of T \nModerated by Peter King\, Professor & Associate Chair\, Department of Philosophy\, U of T \nJoin us via Zoom at: \nhttps://utoronto.zoom.us/j/81988647934 \nMeeting ID: 819 8864 7934\nPasscode: 417234
URL:https://philosophy.utoronto.ca/event/b2b-philosophy-career-panel-in-law-2021/
LOCATION:Online
CATEGORIES:Graduate,St. George,Undergraduate,UTM,UTSC
ATTACH;FMTTYPE=image/jpeg:https://philosophy.utoronto.ca/wp-content/uploads/Philosophy-Career-Panel-Careers-in-Law.jpg
END:VEVENT
END:VCALENDAR