BEGIN:VCALENDAR
VERSION:2.0
PRODID:-//Department of Philosophy - ECPv6.15.20//NONSGML v1.0//EN
CALSCALE:GREGORIAN
METHOD:PUBLISH
X-ORIGINAL-URL:https://philosophy.utoronto.ca
X-WR-CALDESC:Events for Department of Philosophy
REFRESH-INTERVAL;VALUE=DURATION:PT1H
X-Robots-Tag:noindex
X-PUBLISHED-TTL:PT1H
BEGIN:VTIMEZONE
TZID:America/Toronto
BEGIN:DAYLIGHT
TZOFFSETFROM:-0500
TZOFFSETTO:-0400
TZNAME:EDT
DTSTART:20210314T070000
END:DAYLIGHT
BEGIN:STANDARD
TZOFFSETFROM:-0400
TZOFFSETTO:-0500
TZNAME:EST
DTSTART:20211107T060000
END:STANDARD
BEGIN:DAYLIGHT
TZOFFSETFROM:-0500
TZOFFSETTO:-0400
TZNAME:EDT
DTSTART:20220313T070000
END:DAYLIGHT
BEGIN:STANDARD
TZOFFSETFROM:-0400
TZOFFSETTO:-0500
TZNAME:EST
DTSTART:20221106T060000
END:STANDARD
BEGIN:DAYLIGHT
TZOFFSETFROM:-0500
TZOFFSETTO:-0400
TZNAME:EDT
DTSTART:20230312T070000
END:DAYLIGHT
BEGIN:STANDARD
TZOFFSETFROM:-0400
TZOFFSETTO:-0500
TZNAME:EST
DTSTART:20231105T060000
END:STANDARD
END:VTIMEZONE
BEGIN:VEVENT
DTSTART;TZID=America/Toronto:20220315T170000
DTEND;TZID=America/Toronto:20220315T190000
DTSTAMP:20260422T145134
CREATED:20220210T182508Z
LAST-MODIFIED:20220210T182508Z
UID:26068-1647363600-1647370800@philosophy.utoronto.ca
SUMMARY:The Greater Picture: Philosophy of Mathematics (Mary Leng\, University of York)
DESCRIPTION:Hosts Michael Miller and Alex Koo invite you to this year’s edition of the The Greater Picture\, focusing on philosophy of mathematics and featuring guest speaker Mary Leng from the University of York. For the first half of this online event\, Dr. Leng\, who completed her PhD in Philosophy at the University of Toronto\, will be interviewed about general questions in philosophy of mathematics and her defense of mathematical fictionalism. The second hour will be dedicated to a Q & A session. \nThe event is broadly directed at undergraduates\, but graduate students are welcome and encouraged to attend. \nMeeting ID: 818 9424 8529 (Zoom)
URL:https://philosophy.utoronto.ca/event/the-greater-picture-philosophy-of-mathematics-mary-leng-university-of-york/
LOCATION:Online
CATEGORIES:Graduate,St. George,Undergraduate,UTM,UTSC
ATTACH;FMTTYPE=image/jpeg:https://philosophy.utoronto.ca/wp-content/uploads/The-Greater-Picture-Philosophy-of-Mathematics.jpg
END:VEVENT
END:VCALENDAR