BEGIN:VCALENDAR
VERSION:2.0
PRODID:-//Department of Philosophy - ECPv6.15.20//NONSGML v1.0//EN
CALSCALE:GREGORIAN
METHOD:PUBLISH
X-WR-CALNAME:Department of Philosophy
X-ORIGINAL-URL:https://philosophy.utoronto.ca
X-WR-CALDESC:Events for Department of Philosophy
REFRESH-INTERVAL;VALUE=DURATION:PT1H
X-Robots-Tag:noindex
X-PUBLISHED-TTL:PT1H
BEGIN:VTIMEZONE
TZID:America/Toronto
BEGIN:DAYLIGHT
TZOFFSETFROM:-0500
TZOFFSETTO:-0400
TZNAME:EDT
DTSTART:20210314T070000
END:DAYLIGHT
BEGIN:STANDARD
TZOFFSETFROM:-0400
TZOFFSETTO:-0500
TZNAME:EST
DTSTART:20211107T060000
END:STANDARD
BEGIN:DAYLIGHT
TZOFFSETFROM:-0500
TZOFFSETTO:-0400
TZNAME:EDT
DTSTART:20220313T070000
END:DAYLIGHT
BEGIN:STANDARD
TZOFFSETFROM:-0400
TZOFFSETTO:-0500
TZNAME:EST
DTSTART:20221106T060000
END:STANDARD
BEGIN:DAYLIGHT
TZOFFSETFROM:-0500
TZOFFSETTO:-0400
TZNAME:EDT
DTSTART:20230312T070000
END:DAYLIGHT
BEGIN:STANDARD
TZOFFSETFROM:-0400
TZOFFSETTO:-0500
TZNAME:EST
DTSTART:20231105T060000
END:STANDARD
END:VTIMEZONE
BEGIN:VEVENT
DTSTART;VALUE=DATE:20221028
DTEND;VALUE=DATE:20221030
DTSTAMP:20260420T075335
CREATED:20220420T140603Z
LAST-MODIFIED:20221014T175641Z
UID:26361-1666915200-1667087999@philosophy.utoronto.ca
SUMMARY:Québec-Ontario Workshop in Early Modern Philosophy
DESCRIPTION:Join us for the two-day 2022 Québec-Ontario Workshop in Early Modern Philosophy. \nAll sessions are free and open to the public and will be held in Room 100 of the Jackman Humanities Building (170 St. George Street). \nThe colloquium is sponsored by the Social Sciences and Humanities Research Council of Canada and the Departments of Philosophy of the University of Toronto (A&S)\, the University of Toronto Mississauga\, and the University of Toronto Scarborough. \nContact Marleen Rozemond or Michaela Manson for any inquiries. \n  \nSchedule\nFriday\, October 28\n9-9:30 Coffee and pastries \n  \n9:30-11:00 Chair: Donald Ainslie \nMarguérite Deslauriers (McGill University) \n“Paradox\, Doubt\, Skepticism:  Forms of Uncertainty in Early Modern Pro-Woman Arguments” \nComments: Manuel Vasquez Villavicencio (University of Toronto) \n  \n11:15-12:45. Chair: Dario Perinetti \nMatthew Leisinger (York University) \nCudworth’s Response to More on Immaterial Extension \nComments: Helena Bensimon IHRIM\, ENS de Lyons/ Université de Montréal/EPHE PSL) \n  \n12:45-2:15 Lunch \n  \n2:15-3:45 Chair: Michael Rosenthal \nMichaela Manson (University of Toronto) \n“Descartes on rational self-confidence” \nComments: Jeronimo Narvaez-Cano (University du Québec à Montréal) \n  \n4:00-6:00 Chair: Martin Pickavé \nDenis Kambouchner (Paris 1\, Panthéon-Sorbonne) \n“Descartes’s Objective Reality: a Reconsideration” \nComments: Tarek Dika (University of Toronto) \n  \nSaturday\, October 29\n9:30-10:00 Coffee and pastries \n  \n10:00–11:30. Chair: Marleen Rozemond \nSyliane Malinovski-Charles (Université du Québec à Trois Rivières) \n“Spinoza on Knowing that I know” \nComments\, Vincent Lee (University of Toronto) \n  \n11:45-1:15. Chair: Christian Leduc \nMichael Rosenthal (University of Toronto) \nBeings of Reason (Entia Rationis) in the Development\, Structure\, and Role of Spinoza’s \nTheory of the Imagination \nComments: Hamed Movahedi Pour (Université de Montréal) \n 
URL:https://philosophy.utoronto.ca/event/quebec-ontario-workshop-early-modern-philosophy-2022/
LOCATION:Jackman Humanities Building\, Room 100 (Main Floor Lecture Hall)\, 170 St. George Street\, Toronto\, Ontario\, M5R 2M8\, Canada
CATEGORIES:Graduate,St. George,UTM,UTSC
ATTACH;FMTTYPE=image/jpeg:https://philosophy.utoronto.ca/wp-content/uploads/quebec-ontario-early-modern-utoronto.jpg
ORGANIZER;CN="Marleen Rozemond":MAILTO:marleen.rozemond@utoronto.ca
END:VEVENT
END:VCALENDAR