BEGIN:VCALENDAR
VERSION:2.0
PRODID:-//Department of Philosophy - ECPv6.15.20//NONSGML v1.0//EN
CALSCALE:GREGORIAN
METHOD:PUBLISH
X-WR-CALNAME:Department of Philosophy
X-ORIGINAL-URL:https://philosophy.utoronto.ca
X-WR-CALDESC:Events for Department of Philosophy
REFRESH-INTERVAL;VALUE=DURATION:PT1H
X-Robots-Tag:noindex
X-PUBLISHED-TTL:PT1H
BEGIN:VTIMEZONE
TZID:America/Toronto
BEGIN:DAYLIGHT
TZOFFSETFROM:-0500
TZOFFSETTO:-0400
TZNAME:EDT
DTSTART:20220313T070000
END:DAYLIGHT
BEGIN:STANDARD
TZOFFSETFROM:-0400
TZOFFSETTO:-0500
TZNAME:EST
DTSTART:20221106T060000
END:STANDARD
BEGIN:DAYLIGHT
TZOFFSETFROM:-0500
TZOFFSETTO:-0400
TZNAME:EDT
DTSTART:20230312T070000
END:DAYLIGHT
BEGIN:STANDARD
TZOFFSETFROM:-0400
TZOFFSETTO:-0500
TZNAME:EST
DTSTART:20231105T060000
END:STANDARD
BEGIN:DAYLIGHT
TZOFFSETFROM:-0500
TZOFFSETTO:-0400
TZNAME:EDT
DTSTART:20240310T070000
END:DAYLIGHT
BEGIN:STANDARD
TZOFFSETFROM:-0400
TZOFFSETTO:-0500
TZNAME:EST
DTSTART:20241103T060000
END:STANDARD
END:VTIMEZONE
BEGIN:VEVENT
DTSTART;TZID=America/Toronto:20230518T150000
DTEND;TZID=America/Toronto:20230524T120000
DTSTAMP:20260420T064056
CREATED:20230418T215213Z
LAST-MODIFIED:20230525T143737Z
UID:28573-1684422000-1684929600@philosophy.utoronto.ca
SUMMARY:Workshop: Maṇḍana on Ritual Duties
DESCRIPTION:In this weeklong workshop\, we will read\, translate\, and discuss Maṇḍana’s Vidhiviveka (“Discernment about Commands”)\, chapters 12—14\, with Elliot Stern (Philadelphia)\, Lawrence McCrea (Cornell)\, Andrew Ollett (Chicago)\, Parimal Patil (Harvard)\, Akane Saito (Austrian Academy of Sciences)\, Nilanjan Das (Toronto)\, and many others. For chapters 12 and 13\, we will also read Vācaspati’s commentary (Nyāyakaṇikā). \nIf you would like to join\, please contact Elisa Freschi\, and she will share the working version of the edition with you.
URL:https://philosophy.utoronto.ca/event/workshop-ma%e1%b9%87%e1%b8%8dana-on-ritual-duties/
LOCATION:Jackman Humanities Building\, Room 418\, 170 St. George Street\, Toronto\, Ontario\, M5R 2M8\, Canada
CATEGORIES:Graduate,St. George,Undergraduate,UTM,UTSC
ATTACH;FMTTYPE=image/jpeg:https://philosophy.utoronto.ca/wp-content/uploads/1024px-ചിതിയുടെയും-ഉപകരണങ്ങളുടെയും_മാതൃക-for-Ritual-Duties-Workshop.jpg
END:VEVENT
END:VCALENDAR