BEGIN:VCALENDAR
VERSION:2.0
PRODID:-//Department of Philosophy - ECPv6.15.20//NONSGML v1.0//EN
CALSCALE:GREGORIAN
METHOD:PUBLISH
X-WR-CALNAME:Department of Philosophy
X-ORIGINAL-URL:https://philosophy.utoronto.ca
X-WR-CALDESC:Events for Department of Philosophy
REFRESH-INTERVAL;VALUE=DURATION:PT1H
X-Robots-Tag:noindex
X-PUBLISHED-TTL:PT1H
BEGIN:VTIMEZONE
TZID:America/Toronto
BEGIN:DAYLIGHT
TZOFFSETFROM:-0500
TZOFFSETTO:-0400
TZNAME:EDT
DTSTART:20220313T070000
END:DAYLIGHT
BEGIN:STANDARD
TZOFFSETFROM:-0400
TZOFFSETTO:-0500
TZNAME:EST
DTSTART:20221106T060000
END:STANDARD
BEGIN:DAYLIGHT
TZOFFSETFROM:-0500
TZOFFSETTO:-0400
TZNAME:EDT
DTSTART:20230312T070000
END:DAYLIGHT
BEGIN:STANDARD
TZOFFSETFROM:-0400
TZOFFSETTO:-0500
TZNAME:EST
DTSTART:20231105T060000
END:STANDARD
BEGIN:DAYLIGHT
TZOFFSETFROM:-0500
TZOFFSETTO:-0400
TZNAME:EDT
DTSTART:20240310T070000
END:DAYLIGHT
BEGIN:STANDARD
TZOFFSETFROM:-0400
TZOFFSETTO:-0500
TZNAME:EST
DTSTART:20241103T060000
END:STANDARD
END:VTIMEZONE
BEGIN:VEVENT
DTSTART;TZID=America/Toronto:20230609T150000
DTEND;TZID=America/Toronto:20230609T170000
DTSTAMP:20260420T174931
CREATED:20230511T223110Z
LAST-MODIFIED:20230529T160201Z
UID:28715-1686322800-1686330000@philosophy.utoronto.ca
SUMMARY:CPA Summer Institute Lecture: Chike Jeffers (Dalhousie)
DESCRIPTION:As part of the 2023 CPA Summer Institute\, we are delighted to welcome Chike Jeffers as a guest speaker. Dr. Jeffers\, Canada Research Chair in Africana Studies\, is an associate professor in the Department of Philosophy at Dalhousie University\, cross-appointed with Canadian Studies and International Development Studies. He specializes in Africana philosophy and philosophy of race\, with a general interest in social and political philosophy and ethics. \nTalk Title\nEloquent Responses: An Interpretation of Some Great Works of Ancient Egyptian Philosophy \nTalk Abstract\nTBA
URL:https://philosophy.utoronto.ca/event/cpa-summer-institute-lecture-chike-jeffers-dalhousie/
LOCATION:Jackman Humanities Building 100
CATEGORIES:Graduate,St. George,Undergraduate,UTM,UTSC
ATTACH;FMTTYPE=image/jpeg:https://philosophy.utoronto.ca/wp-content/uploads/chike-jeffers-utoronto-philosophy.jpg
END:VEVENT
END:VCALENDAR