BEGIN:VCALENDAR
VERSION:2.0
PRODID:-//Department of Philosophy - ECPv6.15.20//NONSGML v1.0//EN
CALSCALE:GREGORIAN
METHOD:PUBLISH
X-ORIGINAL-URL:https://philosophy.utoronto.ca
X-WR-CALDESC:Events for Department of Philosophy
REFRESH-INTERVAL;VALUE=DURATION:PT1H
X-Robots-Tag:noindex
X-PUBLISHED-TTL:PT1H
BEGIN:VTIMEZONE
TZID:America/Toronto
BEGIN:DAYLIGHT
TZOFFSETFROM:-0500
TZOFFSETTO:-0400
TZNAME:EDT
DTSTART:20220313T070000
END:DAYLIGHT
BEGIN:STANDARD
TZOFFSETFROM:-0400
TZOFFSETTO:-0500
TZNAME:EST
DTSTART:20221106T060000
END:STANDARD
BEGIN:DAYLIGHT
TZOFFSETFROM:-0500
TZOFFSETTO:-0400
TZNAME:EDT
DTSTART:20230312T070000
END:DAYLIGHT
BEGIN:STANDARD
TZOFFSETFROM:-0400
TZOFFSETTO:-0500
TZNAME:EST
DTSTART:20231105T060000
END:STANDARD
BEGIN:DAYLIGHT
TZOFFSETFROM:-0500
TZOFFSETTO:-0400
TZNAME:EDT
DTSTART:20240310T070000
END:DAYLIGHT
BEGIN:STANDARD
TZOFFSETFROM:-0400
TZOFFSETTO:-0500
TZNAME:EST
DTSTART:20241103T060000
END:STANDARD
END:VTIMEZONE
BEGIN:VEVENT
DTSTART;VALUE=DATE:20231103
DTEND;VALUE=DATE:20231105
DTSTAMP:20260422T191943
CREATED:20230404T165013Z
LAST-MODIFIED:20231102T145950Z
UID:28441-1698969600-1699142399@philosophy.utoronto.ca
SUMMARY:2023 Annual Toronto Graduate Philosophy Conference
DESCRIPTION:Join us for the 22nd Annual Toronto Graduate Philosophy Conference\, with keynote speakers Amie L. Thomasson (Dartmouth) and Christine M. Korsgaard (Harvard). \nPlease note that this is an in-person event: Friday morning sessions and lunch will happen at the Centre for Ethics (Larkin Building\, Room 200\, 15 Devonshire Place)\, sessions on Friday afternoon and all day Saturday will be in the Jackman Humanities Building\, Room 100 (170 St. George Street). All talks will also be live-streamed. Links below the respective sessions. \nSCHEDULE\n  \nFriday\, November 3\, 2023\nSession 1\n(Centre for Ethics; Zoom)\nChair: Julia Minarik (University of Toronto) \n9:00-10:00 AM \nAlex Fisher (University of Cambridge)\, “Virtual Reality\, Perception\, and Imagination” \nCommentator: Cameron Yetman (University of Toronto) \n 10:10-11:10 AM \nEdvard Aviles Meza (Cornell University)\, “Imagination without Awareness” \nCommentator: Marybel Menzies (University of Toronto) \n11:20 AM-12:20 PM \nEmily Margaret FitzGerald (Columbia University)\, “Making Space for Virtual Kata in Embodied Imagination” \nCommentator: Yvette Wu (University of Toronto) \n  \nSession 2\n(JHB 100; Zoom)\nChair: Zain Raza (University of Toronto) \n1:30-2:30 PM \nAlexander Vega (Harvard University)\, “What Does It Mean to Be a Good Member of a Function Kind?” \nCommentator: Andriy Bilenkyy (University of Toronto) \n2:40-3:40 PM \nMinseok Kim (Syracuse University)\, “Way Nominalism: An Ontological Ground for Non-Nominal Quantification” \nCommentator: Marissa Bennett (University of Toronto) \n  \nKEYNOTE\n(JHB 100; Zoom)\n4:00-6:00 PM \nAmie Thomasson (Dartmouth College)\, “Starting a Step Back: Redirecting Metaphysics” \n  \n  \nSaturday November 4\, 2023\nSession 3\n(JHB 100\, Zoom)\nChair: Tessa Ng (University of Toronto) \n9:00-10:00 AM \nAlexander Drusda (University of Toronto)\, “Kant\, Korsgaard\, and Duties to Non-Human Animals” \nCommentator Faisal Bhabha (University of Toronto) \n10:10-11:10 AM \nSamuel Carlesson Tjernström (McGill University)\, “Substantializing the Metaphysics of Doxastic Wrongdoing” \nCommentator: Nate Oppel (University of Toronto) \n11:20 AM-12:20 PM \nAlessandro Giglia (Università della Svizzera Italiana)\, “Potential Infinity and Constant Domain Models” \nCommentator: Patrick Fraser (University of Toronto) \n  \nSession 4\n(JHB 100; Zoom)\nChair: Josh Brecka (University of Toronto) \n1:30-2:20 PM \nJonah Dunch (University of Toronto)\, “Anger and Remorse” \nCommentator: Jasmine Tremblay-D’Ettorre (University of Toronto) \n2:40-3:40 PM \nSarah Gregory (University of Wisconsin-Milwaukee)\, “Imposter Syndrome and Self-Respect” \nCommentator: Alexandra Gustafson (University of Toronto) \n  \nKEYNOTE\n(JHB 100; Zoom)\n4:00-6:00 PM \nChristine Korsgaard (Harvard University)\, “The Human Good” \n  \n\nKeynote Speakers\nAmie L. Thomasson is Daniel P. Stone Professor of Intellectual and Moral Philosophy at Dartmouth College. She works in the areas of metaphysics\, philosophical methodology and metaontology\, philosophy of art\, philosophy of social and cultural objects\, philosophy of mind\, and phenomenology. Her current research focuses on questions about what philosophy can legitimately do\, and how we can do it. \nChristine M. Korsgaard is Arthur Kingsley Porter Research Professor of Philosophy at Harvard University\, where she taught from 1991 to 2020. She works on moral philosophy and its history\, practical reason\, the nature of agency\, personal identity\, normativity\, and the ethical relations between human beings and the other animals. From 1996 to 2002\, Dr. Korsgaard chaired the Harvard Department of Philosophy. \nPlease contact Cameron Yetman or Julia Minarik with any questions about the conference. \n\n 
URL:https://philosophy.utoronto.ca/event/2023-annual-toronto-graduate-philosophy-conference/
LOCATION:Centre for Ethics (Larkin 200)\, Jackman Humanities Building 100 & online
CATEGORIES:Graduate,St. George
ATTACH;FMTTYPE=image/jpeg:https://philosophy.utoronto.ca/wp-content/uploads/Thomasson-Korsgaard-2023-Toronto-Graduate-Philosophy-Conference.jpg
END:VEVENT
END:VCALENDAR