BEGIN:VCALENDAR
VERSION:2.0
PRODID:-//Department of Philosophy - ECPv6.15.20//NONSGML v1.0//EN
CALSCALE:GREGORIAN
METHOD:PUBLISH
X-WR-CALNAME:Department of Philosophy
X-ORIGINAL-URL:https://philosophy.utoronto.ca
X-WR-CALDESC:Events for Department of Philosophy
REFRESH-INTERVAL;VALUE=DURATION:PT1H
X-Robots-Tag:noindex
X-PUBLISHED-TTL:PT1H
BEGIN:VTIMEZONE
TZID:America/Toronto
BEGIN:DAYLIGHT
TZOFFSETFROM:-0500
TZOFFSETTO:-0400
TZNAME:EDT
DTSTART:20230312T070000
END:DAYLIGHT
BEGIN:STANDARD
TZOFFSETFROM:-0400
TZOFFSETTO:-0500
TZNAME:EST
DTSTART:20231105T060000
END:STANDARD
BEGIN:DAYLIGHT
TZOFFSETFROM:-0500
TZOFFSETTO:-0400
TZNAME:EDT
DTSTART:20240310T070000
END:DAYLIGHT
BEGIN:STANDARD
TZOFFSETFROM:-0400
TZOFFSETTO:-0500
TZNAME:EST
DTSTART:20241103T060000
END:STANDARD
BEGIN:DAYLIGHT
TZOFFSETFROM:-0500
TZOFFSETTO:-0400
TZNAME:EDT
DTSTART:20250309T070000
END:DAYLIGHT
BEGIN:STANDARD
TZOFFSETFROM:-0400
TZOFFSETTO:-0500
TZNAME:EST
DTSTART:20251102T060000
END:STANDARD
END:VTIMEZONE
BEGIN:VEVENT
DTSTART;TZID=America/Toronto:20240415T160000
DTEND;TZID=America/Toronto:20240415T180000
DTSTAMP:20260420T220730
CREATED:20240320T175654Z
LAST-MODIFIED:20240320T194335Z
UID:30514-1713196800-1713204000@philosophy.utoronto.ca
SUMMARY:Continental Philosophy Research Group Talk (Bara Kolenc\, Ljubljana)
DESCRIPTION:The Continental Philosophy Research Group is pleased to welcome as guest speaker Bara Kolenc\, a research associate at the Department of Philosophy of the Faculty of Arts\, University of Ljubljana. She is affiliated with the Ljubljana School of Psychoanalysis and currently serves as the president of the International Hegelian Association Aufhebung. Her works include Repetition and Enactment (DTP Analecta 2014\, in Slovenian) and the forthcoming Repetition and Subjectivity: Kierkegaard\, Freud\, Lacan. Currently\, she is at work on her new book The Spectacle of Instanternity: Voyeurism and Exhibitionism on the Internet. \nTalk Title\nThe Reciprocal Alienation of the Spectacle of Instanternity: Debord\, Lacan\, and the Internet \nTalk Abstract\nFrom the moment of the emergence of the digital\, the actual world cannot be separated from its determinate negation as the non-digital. In the digital age\, the pre-digital turns into a myth. At the same time\, in its striving to take supremacy over the actual physical existence as something that needs to be sublated (say\, with multi-sensory technologies)\, the digital virtual can only exist in relation to the non-digital actual. Only in this sense – and not in the sense of a nostalgic idealization of “real life” as some primordial harmonic relation between the individual and the world\, which has allegedly become lost forever throughout the industrial and post-industrial processes of alienation – should we understand Debord’s statement that the spectacle is a “visible negation of life.” I have coined the notion of “instanternity” to give a name to the emerging spectacle of the Internet. I will explain the choice of this name during my presentation. What I want to pursue in this lecture\, however\, are the shifts\, the minimal structural and phenomenal leaps triggered by the outspread of the digital virtual\, which\, even if they might not be immediately recognizable as the “break” with reality as it was (before digitalization)\, they nevertheless break with reality as it was. Specifically\, I will focus on the effects of digital transformation on the constitution of subjectivity within the visual realm – drawing on Lacan’s theories of the mirror stage and the scopic drive. \nAbout the Continental Philosophy Group\nOne of six departmental research interest groups\, the Continental Philosophy Group works in the traditions of textual interpretation of human consciousness\, phenomenology\, and post-structuralist critical theory\, among other related traditions of thought.
URL:https://philosophy.utoronto.ca/event/continental-philosophy-research-group-talk-bara-kolenc-ljubljana/
LOCATION:Jackman Humanities Building\, Room 418\, 170 St. George Street\, Toronto\, Ontario\, M5R 2M8\, Canada
CATEGORIES:Graduate,St. George,UTM,UTSC
ATTACH;FMTTYPE=image/jpeg:https://philosophy.utoronto.ca/wp-content/uploads/Bara-Kolenc-philosophy-utoronto-guest-lecturer.jpg
END:VEVENT
END:VCALENDAR