BEGIN:VCALENDAR
VERSION:2.0
PRODID:-//Department of Philosophy - ECPv6.15.20//NONSGML v1.0//EN
CALSCALE:GREGORIAN
METHOD:PUBLISH
X-ORIGINAL-URL:https://philosophy.utoronto.ca
X-WR-CALDESC:Events for Department of Philosophy
REFRESH-INTERVAL;VALUE=DURATION:PT1H
X-Robots-Tag:noindex
X-PUBLISHED-TTL:PT1H
BEGIN:VTIMEZONE
TZID:America/Toronto
BEGIN:DAYLIGHT
TZOFFSETFROM:-0500
TZOFFSETTO:-0400
TZNAME:EDT
DTSTART:20230312T070000
END:DAYLIGHT
BEGIN:STANDARD
TZOFFSETFROM:-0400
TZOFFSETTO:-0500
TZNAME:EST
DTSTART:20231105T060000
END:STANDARD
BEGIN:DAYLIGHT
TZOFFSETFROM:-0500
TZOFFSETTO:-0400
TZNAME:EDT
DTSTART:20240310T070000
END:DAYLIGHT
BEGIN:STANDARD
TZOFFSETFROM:-0400
TZOFFSETTO:-0500
TZNAME:EST
DTSTART:20241103T060000
END:STANDARD
BEGIN:DAYLIGHT
TZOFFSETFROM:-0500
TZOFFSETTO:-0400
TZNAME:EDT
DTSTART:20250309T070000
END:DAYLIGHT
BEGIN:STANDARD
TZOFFSETFROM:-0400
TZOFFSETTO:-0500
TZNAME:EST
DTSTART:20251102T060000
END:STANDARD
END:VTIMEZONE
BEGIN:VEVENT
DTSTART;VALUE=DATE:20240503
DTEND;VALUE=DATE:20240505
DTSTAMP:20260422T172704
CREATED:20240412T171037Z
LAST-MODIFIED:20240503T153311Z
UID:30635-1714694400-1714867199@philosophy.utoronto.ca
SUMMARY:Seminar in Early Modern Philosophy (YUSEMP) (UPDATED)
DESCRIPTION:Join us for a two-day gathering\, the inaugural meeting of the York University Seminar in Early Modern Philosophy (YUSEMP). The seminar—organized by York University’s Matthew Leisinger\, Zeyad El Nabolsy\, and Ian MacLean-Evans—aims to be a small\, informal venue for scholars of early modern philosophy at various career stages to share and discuss their work. Featured keynote speakers are Marleen Rozemond (Toronto) and Patricia Sheridan (Guelph). \nPlease direct any questions or concerns to Matthew Leisinger. \nSchedule\n\n\nFriday\, May 3\, 2024\n\n\n\n\n\n\n9:30–10:00\nArrival\n\n\n10:00–11:15\nRaffaella De Rosa (Rutgers University–Newark)\, “The Self-Luminousness of Consciousness: Locke’s Awareness Principle as a Defense of an Empiricist Account of the Origin of Ideas”\n\n\n11:15–11:30\nBreak\n\n\n11:30–12:45\nJacob Sheehan (Yale)\, “Descartes’s Disjunctivism about Truth”\n\n\n12:45–2:00\nLunch\n\n\n2:00–3:15\nMina Rhee (San Francisco State University)\, “The Premises for Mary Shepherd’s Causal Maxim”\n\n\n3:15–3:30\nBreak\n\n\n3:30–4:45\nKeynote: Marleen Rozemond (University of Toronto)\, “Cudworth against Materialism”\n\n\n\n\n\n\n\n\n\n\n7:00–\nConference dinner\n\n\n\n\n\n\n\nSaturday\, May 4\, 2024\n\n\n  \n\n\n\n\n9:30–10:00\nArrival\n\n\n10:00–11:15\nRuth Boeker (University College Dublin)\, “Catharine Trotter Cockburn on Self-Interest\, Self-Love\, and Benevolence”\n\n\n11:15–11:30\nBreak\n\n\n11:30–12:45\nKeynote: Patricia Sheridan (Guelph)\, “Damaris Masham on Education\, Virtue\, and Social Good”\n\n\n\n\n\n\n\n 
URL:https://philosophy.utoronto.ca/event/seminar-in-early-modern-philosophy-yusemp/
LOCATION:Lillian Massey Building\, Room 301\, 125 Queen's Park\, Toronto\, ON\, M5S 2C7\, Canada
CATEGORIES:Graduate,St. George,Undergraduate,UTM,UTSC
ATTACH;FMTTYPE=image/jpeg:https://philosophy.utoronto.ca/wp-content/uploads/YUSEMP-2024.jpg
END:VEVENT
END:VCALENDAR