BEGIN:VCALENDAR
VERSION:2.0
PRODID:-//Department of Philosophy - ECPv6.15.20//NONSGML v1.0//EN
CALSCALE:GREGORIAN
METHOD:PUBLISH
X-ORIGINAL-URL:https://philosophy.utoronto.ca
X-WR-CALDESC:Events for Department of Philosophy
REFRESH-INTERVAL;VALUE=DURATION:PT1H
X-Robots-Tag:noindex
X-PUBLISHED-TTL:PT1H
BEGIN:VTIMEZONE
TZID:America/Toronto
BEGIN:DAYLIGHT
TZOFFSETFROM:-0500
TZOFFSETTO:-0400
TZNAME:EDT
DTSTART:20230312T070000
END:DAYLIGHT
BEGIN:STANDARD
TZOFFSETFROM:-0400
TZOFFSETTO:-0500
TZNAME:EST
DTSTART:20231105T060000
END:STANDARD
BEGIN:DAYLIGHT
TZOFFSETFROM:-0500
TZOFFSETTO:-0400
TZNAME:EDT
DTSTART:20240310T070000
END:DAYLIGHT
BEGIN:STANDARD
TZOFFSETFROM:-0400
TZOFFSETTO:-0500
TZNAME:EST
DTSTART:20241103T060000
END:STANDARD
BEGIN:DAYLIGHT
TZOFFSETFROM:-0500
TZOFFSETTO:-0400
TZNAME:EDT
DTSTART:20250309T070000
END:DAYLIGHT
BEGIN:STANDARD
TZOFFSETFROM:-0400
TZOFFSETTO:-0500
TZNAME:EST
DTSTART:20251102T060000
END:STANDARD
END:VTIMEZONE
BEGIN:VEVENT
DTSTART;VALUE=DATE:20240527
DTEND;VALUE=DATE:20240602
DTSTAMP:20260422T150415
CREATED:20240319T171306Z
LAST-MODIFIED:20240425T192200Z
UID:30501-1716768000-1717286399@philosophy.utoronto.ca
SUMMARY:Kumārila Conference
DESCRIPTION:The conference\, held at the Department of Philosophy at the UTM campus\, will bring together experts who will lead two-hour reading sessions on key passages of Kumārila’s texts and provide participants with the necessary tools to understand the hidden gems of Kumārila’s philosophy. More in detail\, these sessions will include the reading and commenting on selected passages on a given topic (e.g.\, adhikāra in Ṭupṭīkā 6.1) and a talk on the topic itself (e.g.\, mapping the intersection of adhikāra and sāmarthya) and then a discussion session. Besides\, there will be opportunities for scholars and advanced students to present their research related to Kumārila in shorter sessions (60′ and 30′). \nThe conference is coordinated by Elisa Freschi and Nilanjan Das and will see the participation of other experts in Sanskrit philosophy and philology. \nConfirmed participants: Dan Arnold\, Tarinee Awasthi\, Purushottama Bilimoria\, Hugo David\, Alessandro Graheli\, Ham Hyoung Seok\, Kei Kataoka\, Malcolm Keating\, Lawrence McCrea\, Sudipta Munsi\, John Nemec\, Monika Nowakowska\, Andrew Ollett\, Parimal Patil\, Akane Saito\, Wintor Scott\, Taisei Shida\, Elliot Stern\, Angela Vettikkal\, Alex Watson\, and Kiyotaka Yoshimizu. \nThis will be an in-person only event\, since we believe in the power of collective intelligence and collaboration and these are hardly replicable when some participants speak per Zoom and others are in the room. \nThe organizers gratefully acknowledge support for the conference from the Departments of Philosophy at UTSG and UTM\, as well as the Office of the Vice-Principal\, Research\, and the Decanal Fund at UTM.
URL:https://philosophy.utoronto.ca/event/kumarila-conference/
LOCATION:Maanjiwe nendamowinan\, Room 3230\, UTM\, 1535 Outer Circle\, Mississauga\, ON\, L5L 1C6\, Canada
CATEGORIES:Alumni,Graduate,St. George,Undergraduate,UTM
ATTACH;FMTTYPE=image/jpeg:https://philosophy.utoronto.ca/wp-content/uploads/Kumarila-Conference-text-T_4340_0009-courtesy-of-Lalchand-Research-Library-Ancient-Indian-Manuscript-Collection-DAV-College-Chandigarh-event.jpg
END:VEVENT
END:VCALENDAR