BEGIN:VCALENDAR
VERSION:2.0
PRODID:-//Department of Philosophy - ECPv6.15.20//NONSGML v1.0//EN
CALSCALE:GREGORIAN
METHOD:PUBLISH
X-WR-CALNAME:Department of Philosophy
X-ORIGINAL-URL:https://philosophy.utoronto.ca
X-WR-CALDESC:Events for Department of Philosophy
REFRESH-INTERVAL;VALUE=DURATION:PT1H
X-Robots-Tag:noindex
X-PUBLISHED-TTL:PT1H
BEGIN:VTIMEZONE
TZID:America/Toronto
BEGIN:DAYLIGHT
TZOFFSETFROM:-0500
TZOFFSETTO:-0400
TZNAME:EDT
DTSTART:20230312T070000
END:DAYLIGHT
BEGIN:STANDARD
TZOFFSETFROM:-0400
TZOFFSETTO:-0500
TZNAME:EST
DTSTART:20231105T060000
END:STANDARD
BEGIN:DAYLIGHT
TZOFFSETFROM:-0500
TZOFFSETTO:-0400
TZNAME:EDT
DTSTART:20240310T070000
END:DAYLIGHT
BEGIN:STANDARD
TZOFFSETFROM:-0400
TZOFFSETTO:-0500
TZNAME:EST
DTSTART:20241103T060000
END:STANDARD
BEGIN:DAYLIGHT
TZOFFSETFROM:-0500
TZOFFSETTO:-0400
TZNAME:EDT
DTSTART:20250309T070000
END:DAYLIGHT
BEGIN:STANDARD
TZOFFSETFROM:-0400
TZOFFSETTO:-0500
TZNAME:EST
DTSTART:20251102T060000
END:STANDARD
END:VTIMEZONE
BEGIN:VEVENT
DTSTART;TZID=America/Toronto:20241121T150000
DTEND;TZID=America/Toronto:20241121T170000
DTSTAMP:20260421T025536
CREATED:20241009T181710Z
LAST-MODIFIED:20241120T170309Z
UID:31848-1732201200-1732208400@philosophy.utoronto.ca
SUMMARY:UNESCO World Philosophy Day (Linda M. Alcoff\, CUNY)
DESCRIPTION:This year\, we welcome as the 2024 UNESCO World Philosophy Day Lecture speaker Linda Martín Alcoff\, a professor of Philosophy at Hunter College and the Graduate Centre\, CUNY. Alcoff has worked for many years on the intersections of knowledge\, identity\, and power. She specializes in social epistemology\, feminist philosophy\, philosophy of race\, decolonial theory and continental philosophy\, especially the work of Michel Foucault. Her recent books include Rape and Resistance (Polity\, 2018)\, The Future of Whiteness (Polity\, 2018)\, and Visible Identities: Race\, Gender\, and the Self (Oxford University Press\, 2006)\, the latter of which won the Frantz Fanon Award. \nThis is an in-person event\, but those unable to come to campus may attend via Zoom. \nPasscode: 612040 \nTalk Title\nPhilosophy and the Rise of the Far Right \nTalk Abstract\nIn this talk I will discuss the wide political variations in the history of philosophy but also show how the current rise of the  Far Right can be understood through a philosophical lens.  \n 
URL:https://philosophy.utoronto.ca/event/unesco-world-philosophy-day-linda-alcoff-cuny/
LOCATION:Jackman Humanities Building\, Room 100 (Main Floor Lecture Hall)\, 170 St. George Street\, Toronto\, Ontario\, M5R 2M8\, Canada
CATEGORIES:Alumni,Graduate,St. George,Undergraduate,UTM,UTSC
ATTACH;FMTTYPE=image/jpeg:https://philosophy.utoronto.ca/wp-content/uploads/Linda-Martin-Alcoff-philosophy-utoronto-guest-lecturer.jpg
END:VEVENT
END:VCALENDAR