BEGIN:VCALENDAR
VERSION:2.0
PRODID:-//Department of Philosophy - ECPv6.15.20//NONSGML v1.0//EN
CALSCALE:GREGORIAN
METHOD:PUBLISH
X-ORIGINAL-URL:https://philosophy.utoronto.ca
X-WR-CALDESC:Events for Department of Philosophy
REFRESH-INTERVAL;VALUE=DURATION:PT1H
X-Robots-Tag:noindex
X-PUBLISHED-TTL:PT1H
BEGIN:VTIMEZONE
TZID:America/Toronto
BEGIN:DAYLIGHT
TZOFFSETFROM:-0500
TZOFFSETTO:-0400
TZNAME:EDT
DTSTART:20230312T070000
END:DAYLIGHT
BEGIN:STANDARD
TZOFFSETFROM:-0400
TZOFFSETTO:-0500
TZNAME:EST
DTSTART:20231105T060000
END:STANDARD
BEGIN:DAYLIGHT
TZOFFSETFROM:-0500
TZOFFSETTO:-0400
TZNAME:EDT
DTSTART:20240310T070000
END:DAYLIGHT
BEGIN:STANDARD
TZOFFSETFROM:-0400
TZOFFSETTO:-0500
TZNAME:EST
DTSTART:20241103T060000
END:STANDARD
BEGIN:DAYLIGHT
TZOFFSETFROM:-0500
TZOFFSETTO:-0400
TZNAME:EDT
DTSTART:20250309T070000
END:DAYLIGHT
BEGIN:STANDARD
TZOFFSETFROM:-0400
TZOFFSETTO:-0500
TZNAME:EST
DTSTART:20251102T060000
END:STANDARD
END:VTIMEZONE
BEGIN:VEVENT
DTSTART;TZID=America/Toronto:20241205T150000
DTEND;TZID=America/Toronto:20241205T170000
DTSTAMP:20260422T141700
CREATED:20241025T205618Z
LAST-MODIFIED:20241126T170920Z
UID:31911-1733410800-1733418000@philosophy.utoronto.ca
SUMMARY:Ethics and Political Philosophy Group Talk (Gina Schouten\, Harvard)
DESCRIPTION:The Ethics and Political Philosophy Research Group is pleased to welcome as guest speaker Gina Schouten\, a professor at Harvard who works primarily in the areas of social philosophy\, political philosophy\, and ethics. She has written about political liberalism and political legitimacy\, educational justice\, and the gendered division of labor. She is also interested in issues of justice in higher education\, diversity problems within the discipline of philosophy\, the politics of abortion\, and other topics in feminist philosophy. \nPlease join this online-only talk. \nTalk Title\nLiberal Feminism\, Social Critique\, and Moral Methodology: What Can Reflective Equilibrium Accomplish? \nTalk Abstract\nThis paper brings together two strands of opposition to liberalism: First is the substantive strand\, concerning liberalism’s feminist\, anti-racist\, and egalitarian credentials. Second is the methodological strand\, concerning liberalism’s method of moral justification\, reflective equilibrium. In response to the substantive strand of opposition to liberalism\, left-liberal feminists have argued that\, properly understood\, liberal values entail a deep critique of sexism\, racism\, and economic inequality\, and furnish an emancipatory\, democratic vision for progress toward a more just society. My question in this paper is: Does liberalism’s method of moral justification undermine these liberal feminist attempts to answer the substantive challenge? I defend reflective equilibrium in order to support a negative answer to that question: Liberal feminist attempts to redeem the progressive potential of liberalism are not undermined by their use of reflective equilibrium as a method of moral justification. I make my case by engaging with recent work by Sally Haslanger\, in which she criticizes reflective equilibrium generally but with a particular focus on its implications for feminist normative theorizing. \nAbout the Ethics and Political Philosophy Group\nThe Ethics and Political Philosophy Group meets periodically throughout the year to discuss topics in value theory and related fields\, including meta-ethics\, normative ethics\, applied ethics\, social and political philosophy\, philosophy of law\, moral psychology\, practical reason\, agency\, and identity.
URL:https://philosophy.utoronto.ca/event/ethics-and-political-philosophy-group-talk-gina-schouten/
LOCATION:Online
CATEGORIES:Graduate,St. George
ATTACH;FMTTYPE=image/jpeg:https://philosophy.utoronto.ca/wp-content/uploads/214407_1349581.jpg.1500x1000_q95_crop-smart_upscale1.jpg
END:VEVENT
END:VCALENDAR