BEGIN:VCALENDAR
VERSION:2.0
PRODID:-//Department of Philosophy - ECPv6.15.20//NONSGML v1.0//EN
CALSCALE:GREGORIAN
METHOD:PUBLISH
X-WR-CALNAME:Department of Philosophy
X-ORIGINAL-URL:https://philosophy.utoronto.ca
X-WR-CALDESC:Events for Department of Philosophy
REFRESH-INTERVAL;VALUE=DURATION:PT1H
X-Robots-Tag:noindex
X-PUBLISHED-TTL:PT1H
BEGIN:VTIMEZONE
TZID:America/Toronto
BEGIN:DAYLIGHT
TZOFFSETFROM:-0500
TZOFFSETTO:-0400
TZNAME:EDT
DTSTART:20230312T070000
END:DAYLIGHT
BEGIN:STANDARD
TZOFFSETFROM:-0400
TZOFFSETTO:-0500
TZNAME:EST
DTSTART:20231105T060000
END:STANDARD
BEGIN:DAYLIGHT
TZOFFSETFROM:-0500
TZOFFSETTO:-0400
TZNAME:EDT
DTSTART:20240310T070000
END:DAYLIGHT
BEGIN:STANDARD
TZOFFSETFROM:-0400
TZOFFSETTO:-0500
TZNAME:EST
DTSTART:20241103T060000
END:STANDARD
BEGIN:DAYLIGHT
TZOFFSETFROM:-0500
TZOFFSETTO:-0400
TZNAME:EDT
DTSTART:20250309T070000
END:DAYLIGHT
BEGIN:STANDARD
TZOFFSETFROM:-0400
TZOFFSETTO:-0500
TZNAME:EST
DTSTART:20251102T060000
END:STANDARD
END:VTIMEZONE
BEGIN:VEVENT
DTSTART;TZID=America/Toronto:20241211T150000
DTEND;TZID=America/Toronto:20241211T170000
DTSTAMP:20260420T172351
CREATED:20241118T173132Z
LAST-MODIFIED:20241205T154910Z
UID:32039-1733929200-1733936400@philosophy.utoronto.ca
SUMMARY:Continental Philosophy Research Group Talk (Dylan Shaul\, California\, Riverside)
DESCRIPTION:The Continental Philosophy Research Group is pleased to welcome as guest speaker Dylan Shaul\, an assistant professor of Philosophy at the University of California\, Riverside. Dr. Shaul works primarily in 18th- and 19th-century philosophy (especially German Idealism) and Jewish philosophy. He also has interests in early modern philosophy\, 20th-century European philosophy\, ethics\, and the philosophy of religion. \nTalk Title\nHegel and Heidegger on the Future: Time\, Forgiveness\, Decision \nTalk Abstract\nThis paper reconstructs and evaluates Heidegger’s critique of Hegel in Being and Time\, offering a new Hegelian response to this critique. Heidegger criticizes Hegel for his alleged view that Absolute Knowing allows Spirit to annul time in the eternal present of its absolute self-knowledge\, in contrast to Heidegger’s own insistence on Dasein’s ineliminable futurity. Against Heidegger\, I argue that the Hegelian annulling of time in fact constitutes a break in History: by forgiving the past and thereby undoing it\, Spirit can decide to create a new future world. Hegel’s silence about the future entails that the shape of this new world remains radically open.  \nAbout the Continental Philosophy Group\nOne of six departmental research interest groups\, the Continental Philosophy Group works in the traditions of textual interpretation of human consciousness\, phenomenology\, and post-structuralist critical theory\, among other related traditions of thought.
URL:https://philosophy.utoronto.ca/event/continental-philosophy-research-group-talk-dylan-shaul-california-riverside/
LOCATION:Jackman Humanities Building\, Room 418\, 170 St. George Street\, Toronto\, Ontario\, M5R 2M8\, Canada
CATEGORIES:Graduate,St. George,UTM,UTSC
ATTACH;FMTTYPE=image/jpeg:https://philosophy.utoronto.ca/wp-content/uploads/Dylan-Shaul-1.jpg
END:VEVENT
END:VCALENDAR