BEGIN:VCALENDAR
VERSION:2.0
PRODID:-//Department of Philosophy - ECPv6.15.20//NONSGML v1.0//EN
CALSCALE:GREGORIAN
METHOD:PUBLISH
X-WR-CALNAME:Department of Philosophy
X-ORIGINAL-URL:https://philosophy.utoronto.ca
X-WR-CALDESC:Events for Department of Philosophy
REFRESH-INTERVAL;VALUE=DURATION:PT1H
X-Robots-Tag:noindex
X-PUBLISHED-TTL:PT1H
BEGIN:VTIMEZONE
TZID:America/Toronto
BEGIN:DAYLIGHT
TZOFFSETFROM:-0500
TZOFFSETTO:-0400
TZNAME:EDT
DTSTART:20240310T070000
END:DAYLIGHT
BEGIN:STANDARD
TZOFFSETFROM:-0400
TZOFFSETTO:-0500
TZNAME:EST
DTSTART:20241103T060000
END:STANDARD
BEGIN:DAYLIGHT
TZOFFSETFROM:-0500
TZOFFSETTO:-0400
TZNAME:EDT
DTSTART:20250309T070000
END:DAYLIGHT
BEGIN:STANDARD
TZOFFSETFROM:-0400
TZOFFSETTO:-0500
TZNAME:EST
DTSTART:20251102T060000
END:STANDARD
BEGIN:DAYLIGHT
TZOFFSETFROM:-0500
TZOFFSETTO:-0400
TZNAME:EDT
DTSTART:20260308T070000
END:DAYLIGHT
BEGIN:STANDARD
TZOFFSETFROM:-0400
TZOFFSETTO:-0500
TZNAME:EST
DTSTART:20261101T060000
END:STANDARD
END:VTIMEZONE
BEGIN:VEVENT
DTSTART;TZID=America/Toronto:20250329T140000
DTEND;TZID=America/Toronto:20250329T180000
DTSTAMP:20260420T075754
CREATED:20250319T162019Z
LAST-MODIFIED:20250321T204248Z
UID:32494-1743256800-1743271200@philosophy.utoronto.ca
SUMMARY:Kant & Post-Kantian Philosophy Group Workshop (Matthew Delhey & Jelscha Schmid\, Toronto)
DESCRIPTION:The Kant & Post-Kantian Philosophy Group is delighted to welcome Matthew Delhey and Jelscha Schmid as workshop guest presenters. Both are current postdoctoral fellows with the Department of Philosophy\, Matthew on the St. George campus\, Jelscha at UTM\, working with Owen Ware. \nSchedule\n2:00–3:30 PM\nJelscha Schmid\, “Fichte and the Conceptual Problem of other Minds”\n\n4:00–5:30 PM\nMatthew Delhey\,”Visions of Community at the University of Berlin: Kant\, Fichte\, Schleiermacher”\n  \nThe Kant & Post-Kantian Philosophy Group is a a subgroup of the History of Philosophy Research Group\, which focuses on European philosophy in Kant and post-Kantian traditions.
URL:https://philosophy.utoronto.ca/event/post-kantian-workshop-matthew-delhey-jelscha-schmid-toronto/
LOCATION:Jackman Humanities Building\, Room 418\, 170 St. George Street\, Toronto\, Ontario\, M5R 2M8\, Canada
CATEGORIES:Graduate,St. George,UTM,UTSC
ATTACH;FMTTYPE=image/jpeg:https://philosophy.utoronto.ca/wp-content/uploads/DelheySchmid.jpg
END:VEVENT
END:VCALENDAR