BEGIN:VCALENDAR
VERSION:2.0
PRODID:-//Department of Philosophy - ECPv6.15.20//NONSGML v1.0//EN
CALSCALE:GREGORIAN
METHOD:PUBLISH
X-ORIGINAL-URL:https://philosophy.utoronto.ca
X-WR-CALDESC:Events for Department of Philosophy
REFRESH-INTERVAL;VALUE=DURATION:PT1H
X-Robots-Tag:noindex
X-PUBLISHED-TTL:PT1H
BEGIN:VTIMEZONE
TZID:America/Toronto
BEGIN:DAYLIGHT
TZOFFSETFROM:-0500
TZOFFSETTO:-0400
TZNAME:EDT
DTSTART:20240310T070000
END:DAYLIGHT
BEGIN:STANDARD
TZOFFSETFROM:-0400
TZOFFSETTO:-0500
TZNAME:EST
DTSTART:20241103T060000
END:STANDARD
BEGIN:DAYLIGHT
TZOFFSETFROM:-0500
TZOFFSETTO:-0400
TZNAME:EDT
DTSTART:20250309T070000
END:DAYLIGHT
BEGIN:STANDARD
TZOFFSETFROM:-0400
TZOFFSETTO:-0500
TZNAME:EST
DTSTART:20251102T060000
END:STANDARD
BEGIN:DAYLIGHT
TZOFFSETFROM:-0500
TZOFFSETTO:-0400
TZNAME:EDT
DTSTART:20260308T070000
END:DAYLIGHT
BEGIN:STANDARD
TZOFFSETFROM:-0400
TZOFFSETTO:-0500
TZNAME:EST
DTSTART:20261101T060000
END:STANDARD
END:VTIMEZONE
BEGIN:VEVENT
DTSTART;TZID=America/Toronto:20251017T150000
DTEND;TZID=America/Toronto:20251017T170000
DTSTAMP:20260422T064825
CREATED:20251001T214327Z
LAST-MODIFIED:20251016T035536Z
UID:33811-1760713200-1760720400@philosophy.utoronto.ca
SUMMARY:Global Philosophy Research Interest Group Talk (Hannah Kim\, Arizona)
DESCRIPTION:The Global Philosophy Research Interest Group is delighted to welcome as guest speaker Hannah Kim\, an assistant professor in the Department of Philosophy at the University of Arizona and a faculty affiliate with the Center for East Asian Studies at Arizona. Dr. Kim\, who also serves as an editor for the Stanford Encyclopedia of Philosophy\, works on aesthetics\, metaphysics\, and Asian philosophy. Recently\, she has been bringing together literary theory and close reading with analytic philosophy to study fiction across cultures and media. She also draws from Korean\, Chinese\, and Asian American traditions to globalize analytic aesthetics. \nThis is a hybrid event. Those unable to attend in person can join online: https://utoronto.zoom.us/j/89860390867 \nPasscode: 253466 \nTalk Title\nFiction without Mimesis: A Comparative Philosophy of Fiction \nTalk Abstract\nIs “fiction” a transhistorical and transcultural concept? Currie (2014) says yes.  In this talk\, I argue that an imagination or pretense-based theory of fiction won’t account for classical Chinese conceptions of fiction\, and more generally\, that we ought to be skeptical of a universal notion of fiction because fiction is a concept that responds to a philosophical culture’s given background framework. Observing how classical Chinese (Daoist) metaphysics affected Chinese theories (and practice) of fiction (xiaoshuo)\, for instance\, shows us how considerations other than imagination\, make-believe\, or mimesis can be the basis of a concept of fiction. More broadly\, the comparative approach to fiction shows what the existing assumptions of analytic philosophy of fiction had been\, and how it might reconceptualize its aims and methods.
URL:https://philosophy.utoronto.ca/event/global-philosophy-research-interest-group-talk-hannah-kim-arizona/
LOCATION:Jackman Humanities Building\, Room 418\, 170 St. George Street\, Toronto\, Ontario\, M5R 2M8\, Canada
CATEGORIES:Graduate,St. George,UTM,UTSC
ATTACH;FMTTYPE=image/jpeg:https://philosophy.utoronto.ca/wp-content/uploads/hannah-kim-philosophy-utoronto-guest-lecturer.jpg
END:VEVENT
END:VCALENDAR