BEGIN:VCALENDAR
VERSION:2.0
PRODID:-//Department of Philosophy - ECPv6.15.20//NONSGML v1.0//EN
CALSCALE:GREGORIAN
METHOD:PUBLISH
X-WR-CALNAME:Department of Philosophy
X-ORIGINAL-URL:https://philosophy.utoronto.ca
X-WR-CALDESC:Events for Department of Philosophy
REFRESH-INTERVAL;VALUE=DURATION:PT1H
X-Robots-Tag:noindex
X-PUBLISHED-TTL:PT1H
BEGIN:VTIMEZONE
TZID:America/Toronto
BEGIN:DAYLIGHT
TZOFFSETFROM:-0500
TZOFFSETTO:-0400
TZNAME:EDT
DTSTART:20240310T070000
END:DAYLIGHT
BEGIN:STANDARD
TZOFFSETFROM:-0400
TZOFFSETTO:-0500
TZNAME:EST
DTSTART:20241103T060000
END:STANDARD
BEGIN:DAYLIGHT
TZOFFSETFROM:-0500
TZOFFSETTO:-0400
TZNAME:EDT
DTSTART:20250309T070000
END:DAYLIGHT
BEGIN:STANDARD
TZOFFSETFROM:-0400
TZOFFSETTO:-0500
TZNAME:EST
DTSTART:20251102T060000
END:STANDARD
BEGIN:DAYLIGHT
TZOFFSETFROM:-0500
TZOFFSETTO:-0400
TZNAME:EDT
DTSTART:20260308T070000
END:DAYLIGHT
BEGIN:STANDARD
TZOFFSETFROM:-0400
TZOFFSETTO:-0500
TZNAME:EST
DTSTART:20261101T060000
END:STANDARD
END:VTIMEZONE
BEGIN:VEVENT
DTSTART;TZID=America/Toronto:20250409T153000
DTEND;TZID=America/Toronto:20250409T173000
DTSTAMP:20260425T074808
CREATED:20250124T224319Z
LAST-MODIFIED:20250404T190603Z
UID:32226-1744212600-1744219800@philosophy.utoronto.ca
SUMMARY:History of Philosophy Research Group Talk (Sarah Tropper\, Toronto)
DESCRIPTION:The History of Modern Philosophy Group is pleased to welcome as its guest speaker Sarah Tropper\, a postdoctoral fellow in the Department of Philosophy at the University of Toronto. Dr. Tropper specializes in the intersection of late medieval scholastic philosophy and early modern rationalist theories of matter\, distinction\, and composition. She earned her PhD at King’s College London with a dissertation on Leibniz. \nTalk Title\nMany\, One\, None? Why and How to Save Bodies in Early Modern Rationalist Theories \nTalk Abstract\n\nEarly modern rationalist metaphysics in their most prominent forms lend themselves to be interpreted as contrary to how we ordinarily think about the world\, especially insofar as they tend to do away with individual bodies as genuine material entities. But such an understanding of these philosophies not only runs the risk of failing to account for the world we experience\, but it also – and more importantly – seems to run counter to the explicit commitments of rationalist thinkers. I argue in this paper that there is a variety of different (ethical\, physical\, epistemological\, but also metaphysical) reasons as to why we should take Descartes’s\, Spinoza’s\, and even Leibniz’s talk about genuine material entities or bodies in a robust sense seriously and how\, from their various remarks\, different conceptions of what makes a unified material object emerge. \n\nOne of six departmental Research Interest Groups\, the History of Philosophy Group explores topics in ancient and/or medieval philosophy\, the period from Descartes to Kant\, and Jewish philosophy from the medieval period to the 20th century.
URL:https://philosophy.utoronto.ca/event/history-philosophy-group-talk-sarah-tropper-toronto/
LOCATION:Jackman Humanities Building\, Room 418\, 170 St. George Street\, Toronto\, Ontario\, M5R 2M8\, Canada
CATEGORIES:Graduate,St. George,UTM,UTSC
ATTACH;FMTTYPE=image/jpeg:https://philosophy.utoronto.ca/wp-content/uploads/Sarah-Tropper-300w-e1737140353271.jpg
END:VEVENT
END:VCALENDAR