BEGIN:VCALENDAR
VERSION:2.0
PRODID:-//Department of Philosophy - ECPv6.15.20//NONSGML v1.0//EN
CALSCALE:GREGORIAN
METHOD:PUBLISH
X-ORIGINAL-URL:https://philosophy.utoronto.ca
X-WR-CALDESC:Events for Department of Philosophy
REFRESH-INTERVAL;VALUE=DURATION:PT1H
X-Robots-Tag:noindex
X-PUBLISHED-TTL:PT1H
BEGIN:VTIMEZONE
TZID:America/Toronto
BEGIN:DAYLIGHT
TZOFFSETFROM:-0500
TZOFFSETTO:-0400
TZNAME:EDT
DTSTART:20240310T070000
END:DAYLIGHT
BEGIN:STANDARD
TZOFFSETFROM:-0400
TZOFFSETTO:-0500
TZNAME:EST
DTSTART:20241103T060000
END:STANDARD
BEGIN:DAYLIGHT
TZOFFSETFROM:-0500
TZOFFSETTO:-0400
TZNAME:EDT
DTSTART:20250309T070000
END:DAYLIGHT
BEGIN:STANDARD
TZOFFSETFROM:-0400
TZOFFSETTO:-0500
TZNAME:EST
DTSTART:20251102T060000
END:STANDARD
BEGIN:DAYLIGHT
TZOFFSETFROM:-0500
TZOFFSETTO:-0400
TZNAME:EDT
DTSTART:20260308T070000
END:DAYLIGHT
BEGIN:STANDARD
TZOFFSETFROM:-0400
TZOFFSETTO:-0500
TZNAME:EST
DTSTART:20261101T060000
END:STANDARD
END:VTIMEZONE
BEGIN:VEVENT
DTSTART;TZID=America/Toronto:20250424T130000
DTEND;TZID=America/Toronto:20250424T150000
DTSTAMP:20260423T235911
CREATED:20250124T224446Z
LAST-MODIFIED:20250417T170057Z
UID:32238-1745499600-1745506800@philosophy.utoronto.ca
SUMMARY:Logic and Philosophy of Science Group Talk (Alejandro Pérez Carballo\, UMass Amherst)
DESCRIPTION:The Logic and Philosophy of Science Group is pleased to welcome as guest speaker Alejandro Pérez Carballo\, an assistant professor in the Department of Philosophy at the University of Massachusetts Amherst. Dr. Pérez Carballo is interested in questions in the philosophy of mind and language\, especially as they relate to issues in the philosophy of mathematics and metaethics\, as well as in some questions in metaphysics and formal epistemology. Dr. Pérez Carballo obtained his PhD in philosophy from MIT. Before that\, he studied musicology (Paris IV)\, logic (Paris I\, Paris VII)\, and philosophy (Paris I) at the University of Paris. \nTalk Title\nAsking Questions \nTalk Abstract\nTBD \nAbout the Logic and Philosophy of Science Group\nOne of six departmental Research Interest Groups\, the Logic and Philosophy of Science Group hosts talks on logic\, general philosophy of science\, and philosophy of the particular sciences\, as well as talks in allied areas such as formal epistemology\, decision theory\, and the metaphysics of science.
URL:https://philosophy.utoronto.ca/event/logic-science-alejandro-perez-carballo-umass-amherst/
LOCATION:Jackman Humanities Building\, Room 418\, 170 St. George Street\, Toronto\, Ontario\, M5R 2M8\, Canada
CATEGORIES:Graduate,St. George,UTM,UTSC
ATTACH;FMTTYPE=image/jpeg:https://philosophy.utoronto.ca/wp-content/uploads/Alejandro-Perez-Carballo-events.jpg
END:VEVENT
END:VCALENDAR