BEGIN:VCALENDAR
VERSION:2.0
PRODID:-//Department of Philosophy - ECPv6.15.20//NONSGML v1.0//EN
CALSCALE:GREGORIAN
METHOD:PUBLISH
X-ORIGINAL-URL:https://philosophy.utoronto.ca
X-WR-CALDESC:Events for Department of Philosophy
REFRESH-INTERVAL;VALUE=DURATION:PT1H
X-Robots-Tag:noindex
X-PUBLISHED-TTL:PT1H
BEGIN:VTIMEZONE
TZID:America/Toronto
BEGIN:DAYLIGHT
TZOFFSETFROM:-0500
TZOFFSETTO:-0400
TZNAME:EDT
DTSTART:20250309T070000
END:DAYLIGHT
BEGIN:STANDARD
TZOFFSETFROM:-0400
TZOFFSETTO:-0500
TZNAME:EST
DTSTART:20251102T060000
END:STANDARD
BEGIN:DAYLIGHT
TZOFFSETFROM:-0500
TZOFFSETTO:-0400
TZNAME:EDT
DTSTART:20260308T070000
END:DAYLIGHT
BEGIN:STANDARD
TZOFFSETFROM:-0400
TZOFFSETTO:-0500
TZNAME:EST
DTSTART:20261101T060000
END:STANDARD
BEGIN:DAYLIGHT
TZOFFSETFROM:-0500
TZOFFSETTO:-0400
TZNAME:EDT
DTSTART:20270314T070000
END:DAYLIGHT
BEGIN:STANDARD
TZOFFSETFROM:-0400
TZOFFSETTO:-0500
TZNAME:EST
DTSTART:20271107T060000
END:STANDARD
END:VTIMEZONE
BEGIN:VEVENT
DTSTART;TZID=America/Toronto:20260423T093000
DTEND;TZID=America/Toronto:20260424T170000
DTSTAMP:20260421T124418
CREATED:20260330T144846Z
LAST-MODIFIED:20260330T144846Z
UID:34491-1776936600-1777050000@philosophy.utoronto.ca
SUMMARY:Spinoza on Religion and Politics Conference
DESCRIPTION:Spinoza on Religion and Politics or The Contemporary Relevance of a 17th Century Text: THE THEOLOGICAL-POLITICAL TREATISE \n  \nLocation: The Centre for Ethics\, University of Toronto\, Larkin 200 \n  \nThursday April 23rd \nSession I (9:45 AM) \nJulie Klein (Villanova University) \n“Obedience” \n  \nSession II (11:00 AM) \nDaniel Garber (Princeton University) \n“Theocracy” \n  \nSession III (1:30 PM) \nYitzhak Melamed (Johns Hopkins University) \n“Power & Right” \n  \nSession IV (2:45 PM) \nMélanie Zappulla (UW-Madison) \n“The People” \n  \nSession V (4:00 PM) \nMichael Rosenthal (University of Toronto) \n“The Jews” \n  \nFriday April 24th \nSession I (10:00 AM) \nJacob Zellmer (UW-Madison) \n“Flattery” \n  \nSession II (11:15 AM) \nJustin Steinberg (Cornell University) \n“Seditious Speech” \n  \nSession III (1:45 PM) \nWilli Goetschel (University of Toronto) \n“Freedom of Thought” \n  \nSession IV (3:00 PM) \nJason Yonover (Yale University) \n“Genealogy”
URL:https://philosophy.utoronto.ca/event/spinoza-on-religion-and-politics-conference/
LOCATION:Centre for Ethics\, 200 Larkin\, 15 Devonshire Place\, Toronto\, ON\, Canada
CATEGORIES:Graduate,St. George,UTM,UTSC
ATTACH;FMTTYPE=image/png:https://philosophy.utoronto.ca/wp-content/uploads/Spinoza-conference.png
END:VEVENT
BEGIN:VEVENT
DTSTART;TZID=America/Toronto:20260423T150000
DTEND;TZID=America/Toronto:20260423T170000
DTSTAMP:20260421T124418
CREATED:20260409T145518Z
LAST-MODIFIED:20260409T185426Z
UID:34531-1776956400-1776963600@philosophy.utoronto.ca
SUMMARY:Kant & Post-Kantian Philosophy Group Talk (Myriam Stihl\, HU-Berlin)
DESCRIPTION:The Kant and Post-Kantian Philosophy Group is pleased to welcome as guest speaker Myriam Stihl\, a doctoral researcher in philosophy at Humboldt-Universität zu Berlin. \n  \nTalk Title\nTemporal Divisibility in Kant’s Second Antinomy \nTalk Abstract\nTBD \n  \nThere will be a workshop of a pre-read paper by Myriam Stihl the following day\, Friday\, April 24th from 11:00am – 1:00pm in JHB 519. The paper will be\, “Kant on Persistence and Duration”. Please email Professor Nick Stang (nick.stang@utoronto.ca) for a copy of the paper\, no sooner than one week ahead. \n  \nAbout the Kant and Post-Kantian Philosophy Group\nThe Kant and Post-Kantian Philosophy Group hosts readings-based discussions\, works-in-progress workshops\, and talks from faculty\, graduate students\, and invited speakers relating to Kant\, German idealism\, German romanticism\, Neo-Kantianism\, phenomenology\, and existentialism.
URL:https://philosophy.utoronto.ca/event/kant-and-post-kantian-research-group-talk-myriam-stihl-hu-berlin/
LOCATION:Jackman Humanities Building 519
CATEGORIES:Graduate,St. George,UTM,UTSC
ATTACH;FMTTYPE=image/png:https://philosophy.utoronto.ca/wp-content/uploads/Screenshot-2026-04-09-105255.png
END:VEVENT
BEGIN:VEVENT
DTSTART;TZID=America/Toronto:20260424T140000
DTEND;TZID=America/Toronto:20260425T180000
DTSTAMP:20260421T124418
CREATED:20260308T220709Z
LAST-MODIFIED:20260308T220709Z
UID:34404-1777039200-1777140000@philosophy.utoronto.ca
SUMMARY:Annual Toronto Workshop in Ancient Philosophy 2026: Ancient Political Thought
DESCRIPTION:Friday April 24 \nSession I (2:00 – 3:30pm): \nJean-Marc Narbonne (Laval) \n“Protagoras’ Democratic Involvement and his Epistemological Background” \nCommentator: Mark Johnstone (McMaster) \n\nSession II (4:00 – 5:30pm): \nCecilia Li (Western) \n“A Fork in the Road: Politics as the Master Art in Plato’s Gorgias (517c4–518c1)” \nCommentator: Merrick Anderson (Southern California) \n  \nSaturday April 25 \nSession III (9:30 – 11:00am): \nRichard Kraut (Northwestern) \n“The Seeds of Democratic Theory in Plato and Aristotle” \nCommentator: Claudia Yau (Michigan) \n\nSession IV (11:30am – 1:00pm): \nCinzia Arruzza (Boston) \n“Women’s Nature and Lack of Authority in Plato’s Laws“ \nCommentator: Myrthe Bartels (Pardubice) \n\nSession V (2:00 – 3:30pm): \nJames Warren (Cambridge) \n“Aristotle on Being Ruled Well” \nCommentator: David Riesbeck (Purdue) \n\nSession VI (4:00 – 5:30pm): \nEric Brown (Washington University\, St. Louis) \n“Stoic Anti-Slavery” \nCommentator: Brad Inwood (Yale) \n  \nThe Annual Toronto Colloquium in Ancient Philosophy is sponsored by the Collaborative Specialization in Ancient and Medieval Philosophy (CSAMP).
URL:https://philosophy.utoronto.ca/event/annual-toronto-workshop-in-ancient-philosophy-2026-ancient-political-thought/
LOCATION:Jackman Humanities Building 100
CATEGORIES:Graduate,St. George,UTM,UTSC
ATTACH;FMTTYPE=image/jpeg:https://philosophy.utoronto.ca/wp-content/uploads/John-Martin-British-RuinsAncientCity-c-181020-scaled.jpg
END:VEVENT
BEGIN:VEVENT
DTSTART;TZID=America/Toronto:20260430T150000
DTEND;TZID=America/Toronto:20260430T170000
DTSTAMP:20260421T124418
CREATED:20260421T162617Z
LAST-MODIFIED:20260421T162617Z
UID:34569-1777561200-1777568400@philosophy.utoronto.ca
SUMMARY:Global Philosophy Roundtable (Mohammed Rustom\, Carleton)
DESCRIPTION:The Global Philosophy Research Interest Group is delighted to welcome Mohammed Rustom as part of a roundtable on the question: What would make it possible for you to include more global philosophy materials in your classes? \nThe roundtable is occasioned by the publication of Mohammed Rustom’s A Sourcebook in Global Philosophy (2025)\, which includes many new translations of primary texts from global traditions that will be useful for teaching. The UofT library has ordered the online version of the book\, and we hope it will become available for teaching soon. \nRustom will be with us to introduce the book. We will begin with short presentations by Don Ainslie\, C. Darlymple‑Fraser\, Katharine O’Reilly\, Reza Hadisi\, and Elisa Freschi\, followed by a response from Rustom and an open discussion. \nZoom Link: https://utoronto.zoom.us/j/82013298079 \nMeeting ID: 820 1329 8079\n\nPasscode: 243430 \n\nThe Global Philosophy Research Interest Group explores the benefits of drawing on diverse traditions of thought in approaching philosophical questions. These include novel insights into familiar problems\, new questions and research directions\, and fresh methodologies. We work to deprovincialize and decolonize all aspects of philosophy in the academy. The group currently has strengths in Sanskrit philosophy\, and Chinese philosophy\, Indian philosophy in English\, and classical Islamic philosophy.
URL:https://philosophy.utoronto.ca/event/global-philosophy-roundtable-mohammed-rustom-carleton/
LOCATION:Jackman Humanities Building\, Room 418\, 170 St. George Street\, Toronto\, Ontario\, M5R 2M8\, Canada
CATEGORIES:Graduate,St. George,UTM,UTSC
ATTACH;FMTTYPE=image/jpeg:https://philosophy.utoronto.ca/wp-content/uploads/Mohammed-Rustom.jpg
END:VEVENT
END:VCALENDAR