BEGIN:VCALENDAR
VERSION:2.0
PRODID:-//Department of Philosophy - ECPv6.15.20//NONSGML v1.0//EN
CALSCALE:GREGORIAN
METHOD:PUBLISH
X-WR-CALNAME:Department of Philosophy
X-ORIGINAL-URL:https://philosophy.utoronto.ca
X-WR-CALDESC:Events for Department of Philosophy
REFRESH-INTERVAL;VALUE=DURATION:PT1H
X-Robots-Tag:noindex
X-PUBLISHED-TTL:PT1H
BEGIN:VTIMEZONE
TZID:America/Toronto
BEGIN:DAYLIGHT
TZOFFSETFROM:-0500
TZOFFSETTO:-0400
TZNAME:EDT
DTSTART:20220313T070000
END:DAYLIGHT
BEGIN:STANDARD
TZOFFSETFROM:-0400
TZOFFSETTO:-0500
TZNAME:EST
DTSTART:20221106T060000
END:STANDARD
BEGIN:DAYLIGHT
TZOFFSETFROM:-0500
TZOFFSETTO:-0400
TZNAME:EDT
DTSTART:20230312T070000
END:DAYLIGHT
BEGIN:STANDARD
TZOFFSETFROM:-0400
TZOFFSETTO:-0500
TZNAME:EST
DTSTART:20231105T060000
END:STANDARD
BEGIN:DAYLIGHT
TZOFFSETFROM:-0500
TZOFFSETTO:-0400
TZNAME:EDT
DTSTART:20240310T070000
END:DAYLIGHT
BEGIN:STANDARD
TZOFFSETFROM:-0400
TZOFFSETTO:-0500
TZNAME:EST
DTSTART:20241103T060000
END:STANDARD
END:VTIMEZONE
BEGIN:VEVENT
DTSTART;TZID=America/Toronto:20231124T150000
DTEND;TZID=America/Toronto:20231124T170000
DTSTAMP:20260423T010551
CREATED:20231006T203514Z
LAST-MODIFIED:20231117T230822Z
UID:29582-1700838000-1700845200@philosophy.utoronto.ca
SUMMARY:Logic and Philosophy of Science Group Talk (Chris Smeenk\, Western)
DESCRIPTION:The Logic and Philosophy of Science Group is pleased to welcome guest speaker Chris Smeenk\, a professor in the Department of Philosophy at Western University\, and the director of the Rotman Institute of Philosophy. Before arriving at Western\, he held a postdoctoral fellowship at the Dibner Institute for History of Science and Technology (MIT) and was an assistant professor in the Department of Philosophy at UCLA (2003-2007). Dr. Smeenk’s main research interests lie in the history and philosophy of physics\, general issues in the philosophy of science\, and seventeenth-century natural philosophy. \nTalk Title\nInterpretation through Measurement \nTalk Abstract\nMost philosophical approaches to interpreting theories focus on characterizing what the world would be like if the theory were true. Physical significance can be attributed to these possible models\, by specifying how parts of these models map onto empirical observations. Here I will defend an alternative view of empirical content that emphasizes the importance of applications\, and in particular schematic representations of measurement\, as a guide to interpretation. Physical theories typically provide us with an account of what systems can be used to reliably measure some fundamental quantity introduced by the theory\, and over what domains they can be successfully applied. Assessing the reliability of measurements characterized in this way requires claims that extend beyond a single model\, since these implicitly consider a range of counterfactual circumstances. Capturing this modal dimension of measurement requires an appeal to structures defined on the space of models. On my alternative view\, putting these questions front and center leads to a strikingly different account of empirical content\, with implications for questions of underdetermination\, equivalence\, and theory confirmation. I will sketch the view\, respond to several objections to it\, and consider some of these implications. \nAbout the Logic and Philosophy of Science Group\nOne of six departmental Research Interest Groups\, the Logic and Philosophy of Science Group hosts talks on logic\, general philosophy of science\, and philosophy of the particular sciences\, as well as talks in allied areas such as formal epistemology\, decision theory\, and the metaphysics of science.
URL:https://philosophy.utoronto.ca/event/logic-science-chris-smeenk-western/
LOCATION:Jackman Humanities Building\, Room 418\, 170 St. George Street\, Toronto\, Ontario\, M5R 2M8\, Canada
CATEGORIES:Graduate,St. George,UTM,UTSC
ATTACH;FMTTYPE=image/jpeg:https://philosophy.utoronto.ca/wp-content/uploads/chris-smeenk-philosophy-utoronto-guest-lecturer.jpg
END:VEVENT
END:VCALENDAR