BEGIN:VCALENDAR
VERSION:2.0
PRODID:-//Department of Philosophy - ECPv6.15.20//NONSGML v1.0//EN
CALSCALE:GREGORIAN
METHOD:PUBLISH
X-ORIGINAL-URL:https://philosophy.utoronto.ca
X-WR-CALDESC:Events for Department of Philosophy
REFRESH-INTERVAL;VALUE=DURATION:PT1H
X-Robots-Tag:noindex
X-PUBLISHED-TTL:PT1H
BEGIN:VTIMEZONE
TZID:America/Toronto
BEGIN:DAYLIGHT
TZOFFSETFROM:-0500
TZOFFSETTO:-0400
TZNAME:EDT
DTSTART:20190310T070000
END:DAYLIGHT
BEGIN:STANDARD
TZOFFSETFROM:-0400
TZOFFSETTO:-0500
TZNAME:EST
DTSTART:20191103T060000
END:STANDARD
BEGIN:DAYLIGHT
TZOFFSETFROM:-0500
TZOFFSETTO:-0400
TZNAME:EDT
DTSTART:20200308T070000
END:DAYLIGHT
BEGIN:STANDARD
TZOFFSETFROM:-0400
TZOFFSETTO:-0500
TZNAME:EST
DTSTART:20201101T060000
END:STANDARD
BEGIN:DAYLIGHT
TZOFFSETFROM:-0500
TZOFFSETTO:-0400
TZNAME:EDT
DTSTART:20210314T070000
END:DAYLIGHT
BEGIN:STANDARD
TZOFFSETFROM:-0400
TZOFFSETTO:-0500
TZNAME:EST
DTSTART:20211107T060000
END:STANDARD
END:VTIMEZONE
BEGIN:VEVENT
DTSTART;TZID=America/Toronto:20200406T151500
DTEND;TZID=America/Toronto:20200406T171500
DTSTAMP:20260422T210535
CREATED:20200302T152439Z
LAST-MODIFIED:20200323T145624Z
UID:19629-1586186100-1586193300@philosophy.utoronto.ca
SUMMARY:2020 Placement Job Talk – Etye Steinberg (Online)
DESCRIPTION:Etye Steinberg is a graduate student in the Department of Philosophy at U of T. He holds BA and MA degrees from Hebrew University in Jerusalem. His central areas of interest are on the philosophy of action and ethics\, but he also works on issues in business ethics\, specifically on issues at the intersection of business ethics and technology. \nTalk Title\nRun for Your Life: The Ethics of Behavioral Tracking in Insurance \nTHIS PLACEMENT TALK WILL TAKE PLACE VIA ZOOM. \nAn abstract for this talk will be posted here closer to the date of the event. \n 
URL:https://philosophy.utoronto.ca/event/2020-placement-job-talk-etye-steinberg/
LOCATION:Ontario
CATEGORIES:Graduate,St. George
ATTACH;FMTTYPE=image/jpeg:https://philosophy.utoronto.ca/wp-content/uploads/etye-steinberg-utoronto-philosophy.jpg
END:VEVENT
END:VCALENDAR