BEGIN:VCALENDAR
VERSION:2.0
PRODID:-//Department of Philosophy - ECPv6.15.20//NONSGML v1.0//EN
CALSCALE:GREGORIAN
METHOD:PUBLISH
X-WR-CALNAME:Department of Philosophy
X-ORIGINAL-URL:https://philosophy.utoronto.ca
X-WR-CALDESC:Events for Department of Philosophy
REFRESH-INTERVAL;VALUE=DURATION:PT1H
X-Robots-Tag:noindex
X-PUBLISHED-TTL:PT1H
BEGIN:VTIMEZONE
TZID:America/Toronto
BEGIN:DAYLIGHT
TZOFFSETFROM:-0500
TZOFFSETTO:-0400
TZNAME:EDT
DTSTART:20210314T070000
END:DAYLIGHT
BEGIN:STANDARD
TZOFFSETFROM:-0400
TZOFFSETTO:-0500
TZNAME:EST
DTSTART:20211107T060000
END:STANDARD
BEGIN:DAYLIGHT
TZOFFSETFROM:-0500
TZOFFSETTO:-0400
TZNAME:EDT
DTSTART:20220313T070000
END:DAYLIGHT
BEGIN:STANDARD
TZOFFSETFROM:-0400
TZOFFSETTO:-0500
TZNAME:EST
DTSTART:20221106T060000
END:STANDARD
BEGIN:DAYLIGHT
TZOFFSETFROM:-0500
TZOFFSETTO:-0400
TZNAME:EDT
DTSTART:20230312T070000
END:DAYLIGHT
BEGIN:STANDARD
TZOFFSETFROM:-0400
TZOFFSETTO:-0500
TZNAME:EST
DTSTART:20231105T060000
END:STANDARD
END:VTIMEZONE
BEGIN:VEVENT
DTSTART;TZID=America/Toronto:20221201T150000
DTEND;TZID=America/Toronto:20221201T170000
DTSTAMP:20260420T072247
CREATED:20221109T221558Z
LAST-MODIFIED:20221109T221621Z
UID:27786-1669906800-1669914000@philosophy.utoronto.ca
SUMMARY:Placement Practice Job Talk—Eliran Haziza
DESCRIPTION:Eliran Haziza is a PhD candidate in our program. Please join us for his practice job talk\, which will begin at 3:00 PM sharp. This talk will occur in person. \nTalk Title\nAre the Norms of Inquiry Epistemic? \n  \nTalk Abstract\n\nTBA
URL:https://philosophy.utoronto.ca/event/placement-practice-job-talk-eliran-haziza/
LOCATION:Jackman Humanities Building\, Room 418\, 170 St. George Street\, Toronto\, Ontario\, M5R 2M8\, Canada
CATEGORIES:Graduate,St. George
ATTACH;FMTTYPE=image/jpeg:https://philosophy.utoronto.ca/wp-content/uploads/Eliran-Haziza.jpg
END:VEVENT
BEGIN:VEVENT
DTSTART;TZID=America/Toronto:20221202T090000
DTEND;TZID=America/Toronto:20221202T110000
DTSTAMP:20260420T072247
CREATED:20220916T214203Z
LAST-MODIFIED:20221201T164535Z
UID:27456-1669971600-1669978800@philosophy.utoronto.ca
SUMMARY:Language\, Epistemology\, Metaphysics\, and Mind Research Interest Group Talk (Alex Worsnip\, North Carolina)
DESCRIPTION:The Language\, Epistemology\, Metaphysics\, and Mind Research Group welcomes Alex Worsnip\, an associate professor of Philosophy at the University of North Carolina at Chapel Hill. Before joining UNC\, he was a Faculty Fellow in Philosophy at NYU. Dr. Worsnip pursues broad philosophical interests\, his current work clustering around the theory of rationality and epistemology (especially political epistemology). \nThis is an in-person event\, but for those who cannot attend locally\, a Zoom link is provided. \nJoin the Zoom meeting: https://utoronto.zoom.us/j/83157095208 \n  \nTalk Title\nAgainst Ideal Theory in Epistemology: The Case of Suspiciously Convenient Beliefs \nTalk Abstract\nPublic life abounds with example of people whose beliefs – especially political beliefs – seem suspiciously convenient: consider\, for example\, the billionaire who believes that all taxation is unjust\, or the Supreme Court Justice whose interpretation of what the laws says reliably line up with her personal political convictions. After presenting what I take to be the best argument for the epistemological relevance of suspicious convenience\, I’ll diagnose how attempts to resist this argument rest on a kind of epistemological ideal theory. I’ll then argue that the ways in which this ideal theory can be deployed in defense of suspiciously convenient beliefs brings out the pathologies of such ideal theory in epistemology. \nAbout the Language\, Epistemology\, Metaphysics and Mind Research Group\nOne of six departmental research interest groups\, the Language\, Epistemology\, Metaphysics and Mind Group undertakes research in philosophy of mind\, philosophy of cognitive science\, traditional and formal epistemology\, metaphysics\, and philosophy of language.
URL:https://philosophy.utoronto.ca/event/lemm-interest-group-talk-alex-worsnip-north-carolina/
LOCATION:Jackman Humanities Building\, Room 418\, 170 St. George Street\, Toronto\, Ontario\, M5R 2M8\, Canada
CATEGORIES:Graduate,St. George,UTM,UTSC
ATTACH;FMTTYPE=image/jpeg:https://philosophy.utoronto.ca/wp-content/uploads/alex-worsnip-philosophy-utoronto-guest-lecturer.jpg
END:VEVENT
BEGIN:VEVENT
DTSTART;TZID=America/Toronto:20221202T130000
DTEND;TZID=America/Toronto:20221202T150000
DTSTAMP:20260420T072247
CREATED:20221110T175443Z
LAST-MODIFIED:20221128T162819Z
UID:27789-1669986000-1669993200@philosophy.utoronto.ca
SUMMARY:CANCELLED---Placement Practice Job Talk—Seyed Yarandi
DESCRIPTION:Please note that this talk has been cancelled for the moment and will likely be rescheduled in the spring of 2023. \nSeyed Yarandi is a PhD candidate in our program. Please join us for his practice job talk\, which will begin at 1:00 PM sharp. This talk will occur in person. \nTalk Title\nDoxastic Wronging and Commendatory Reasons \nTalk Abstract\n\nTBA
URL:https://philosophy.utoronto.ca/event/placement-practice-job-talk-seyed-yarandi/
LOCATION:Jackman Humanities Building\, Room 418\, 170 St. George Street\, Toronto\, Ontario\, M5R 2M8\, Canada
CATEGORIES:Graduate,St. George
ATTACH;FMTTYPE=image/jpeg:https://philosophy.utoronto.ca/wp-content/uploads/Seyed-Yarandi-2.jpg
END:VEVENT
BEGIN:VEVENT
DTSTART;TZID=America/Toronto:20221202T150000
DTEND;TZID=America/Toronto:20221202T170000
DTSTAMP:20260420T072247
CREATED:20220728T210038Z
LAST-MODIFIED:20221107T172814Z
UID:26845-1669993200-1670000400@philosophy.utoronto.ca
SUMMARY:Continental Philosophy Group Talk (Claude Romano\, Sorbonne and Australian Catholic)
DESCRIPTION:The Continental Philosophy Group is pleased to welcome Claude Romano\, an associate professor of Philosophy at the Université Paris-Sorbonne (Paris IV) and a professorial fellow at Australian Catholic University\, as its speaker. Dr. Romano works in contemporary philosophy\, especially philosophical hermeneutics and phenomenology\, with an additional strong interest in the analytic tradition from Wittgenstein and the Vienna Circle onward. In 2010\, he brought the analytic and the phenomenological traditions into conversation in a book\, translated into English as At the Heart of Reason: Studies in Phenomenology and Existential Philosophy (Northwestern University Press). \nTalk Title\nThe Singular Truth \nTalk Abstract\nI would like to address the question of the possibility of “personal truth”\, or the truth of the person one is. Heidegger suggested that the meaning of truth that concerns the Dasein is a specific one that is completely different from the usual\, « logical » concept of truth as adaequatio or agreement between thought/statement and the facts. I want to show that this claim is not tenable and then consider how to articulate the question of personal identity with the question of truth. \nAbout the Continental Philosophy Group\nOne of six departmental research interest groups\, the Continental Philosophy Group works in the traditions of textual interpretation of human consciousness\, phenomenology\, and post-structuralist critical theory\, among other related traditions of thought.
URL:https://philosophy.utoronto.ca/event/claude-romano-sorbonne-auc/
LOCATION:online
CATEGORIES:Graduate,St. George,UTM,UTSC
ATTACH;FMTTYPE=image/jpeg:https://philosophy.utoronto.ca/wp-content/uploads/Claude-Romano-utoronto-philosophy-guest.jpg
END:VEVENT
BEGIN:VEVENT
DTSTART;TZID=America/Toronto:20221207T110000
DTEND;TZID=America/Toronto:20221207T120000
DTSTAMP:20260420T072247
CREATED:20221205T161909Z
LAST-MODIFIED:20221205T161909Z
UID:27962-1670410800-1670414400@philosophy.utoronto.ca
SUMMARY:UTSC Celebration of Research Excellence Lecture---Jessica Wilson
DESCRIPTION:The UTSC Office of the Vice-Principal Research & Innovation’s Celebration of Research Excellence Lecture Series returns Wednesday\, December 7\, 2022.  \nThis series features award-winning UTSC faculty presenting cutting-edge research\, sharing innovations and discoveries that are advancing new knowledge and improving lives in Canada and around the world.  Reflecting the diversity of faculty accomplishments in the humanities\, social sciences\, and physical and life sciences\, and from both emerging and established scholars\, this series will showcase UTSC’s innovative research environment. This year will feature Jessica Wilson\, a professor of Philosophy at UTSC and in the Graduate Department at St. George.  \n     \nTalk Title\nThe Strong Emergence of Free Will \nTalk Abstract\nMetaphysically emergent phenomena synchronically depend on\, yet are also to some extent autonomous from\, complex lower-level physical goings-on. In her recent book\, Metaphysical Emergence (OUP\, 2021)\, Wilson argues that there are two forms of such emergence: weak (whereby an emergent has a proper subset of powers of its physical dependence base) and strong (whereby an emergent has fundamentally novel powers as compared to its physical dependence base). Here Wilson will present these two forms of emergence and argue that free will is strongly emergent. \n\nIf you have not already done so\, you can register for this online lecture here. 
URL:https://philosophy.utoronto.ca/event/utsc-celebration-of-research-excellence-lecture-jessica-wilson/
LOCATION:Online
CATEGORIES:Graduate,St. George,Undergraduate,UTSC
ATTACH;FMTTYPE=image/jpeg:https://philosophy.utoronto.ca/wp-content/uploads/Jessica-Wilson-UTSC-Research-Excellence-Lecture-2022.jpg
END:VEVENT
BEGIN:VEVENT
DTSTART;VALUE=DATE:20221208
DTEND;VALUE=DATE:20221211
DTSTAMP:20260420T072247
CREATED:20220802T210653Z
LAST-MODIFIED:20221125T053722Z
UID:26885-1670457600-1670716799@philosophy.utoronto.ca
SUMMARY:Philosophy in the Roman Mediterranean: Towards a History
DESCRIPTION:The period 100 BCE to 200 CE saw some of the most far-reaching innovations in Western philosophical history\, including a striking efflorescence of philosophy in the Mediterranean\, especially in the east; old systems were revitalized through discussion and debate with new (including Christianity). But what makes this period exciting also makes it difficult to describe: unlike both the preceding and subsequent periods\, there are no central institutions or school-heads to provide authoritative reference-points for how (or even with whom) members of a given school might normally be expected to argue. The consequence is that this whole period is very poorly represented in our histories. This workshop\, the first in a projected series\, begins with a focus on methodology. It brings together a team of scholars to explore ways of mapping post-Hellenistic philosophy in all the complexity that makes it both interesting and important\, and establishing the terms in which its story can be told. \nOrganizer: George Boys-Stones \nSpeakers\n\nAndreas Bendlin (Toronto)\nRené Brouwer (Utrecht)\nLeo Catana (Copenhagen)\nMadelina Dana (Lyon)\nKendra Eshleman (Boston College)\nBjorn Ewald (Toronto)\nNathan Gilbert (Durham)\nMatthias Haake (Münster)\nMyrto Hatzimichali (Cambridge)\nReviel Netz (Stanford)\n\nFor program details\, please see the workshop webpage.
URL:https://philosophy.utoronto.ca/event/philosophy-in-the-roman-mediterranean-towards-a-history/
LOCATION:Jackman Humanities Building\, Room 418\, 170 St. George Street\, Toronto\, Ontario\, M5R 2M8\, Canada
ATTACH;FMTTYPE=image/jpeg:https://philosophy.utoronto.ca/wp-content/uploads/Roman-Empire.jpg
END:VEVENT
BEGIN:VEVENT
DTSTART;TZID=America/Toronto:20221209T100000
DTEND;TZID=America/Toronto:20221209T120000
DTSTAMP:20260420T072247
CREATED:20220930T204930Z
LAST-MODIFIED:20221208T193059Z
UID:27532-1670580000-1670587200@philosophy.utoronto.ca
SUMMARY:Language\, Epistemology\, Metaphysics\, and Mind Research Interest Group Talk (Matti Eklund\, Uppsala)
DESCRIPTION:The Language\, Epistemology\, Metaphysics\, and Mind Research Group welcomes Matti Eklund\, who has been Chair Professor of Theoretical Philosophy at Uppsala University in Sweden since 2013. Dr. Eklund has worked primarily in metaphysics\, philosophy of language\, and philosophy of logic. His book Choosing Normative Concepts (Oxford University Press\, 2017) deals mainly with issues in metaethics. A current research project is Alien Structure: Language and Metaphysics\, funded by the Swedish Research Council. \nJoin the Zoom meeting: https://utoronto.zoom.us/j/83157095208 \nTalk Title\nAlien Structure: Language and Reality \nTalk Abstract\nTo what extent can there be languages structurally different from familiar ones – alien languages? To what extent might the metaphysical structure of reality be better captured by some such language? These questions at least promise to be deep and interesting. In this talk\, I plan to do three things. I will motivate focusing on these questions. I will sharpen them. And I will discuss some possible strategies for addressing them. \nAbout the Language\, Epistemology\, Metaphysics and Mind Research Group\nOne of six departmental research interest groups\, the Language\, Epistemology\, Metaphysics and Mind Group undertakes research in philosophy of mind\, philosophy of cognitive science\, traditional and formal epistemology\, metaphysics\, and philosophy of language.
URL:https://philosophy.utoronto.ca/event/lemm-interest-group-talk-matti-erklund-uppsala/
LOCATION:Online
CATEGORIES:Graduate,St. George,UTM,UTSC
ATTACH;FMTTYPE=image/jpeg:https://philosophy.utoronto.ca/wp-content/uploads/matti-eklund-philosophy-utoronto-guest-lecturer.jpg
END:VEVENT
BEGIN:VEVENT
DTSTART;TZID=America/Toronto:20221212T130000
DTEND;TZID=America/Toronto:20221212T150000
DTSTAMP:20260420T072247
CREATED:20221110T180353Z
LAST-MODIFIED:20221209T214657Z
UID:27792-1670850000-1670857200@philosophy.utoronto.ca
SUMMARY:Placement Practice Job Talk—Melissa Rees
DESCRIPTION:Melissa Rees is a recent PhD graduate from our program. She currently has a postdoctoral position with the Department of Philosophy. Please join us for her practice job talk\, which will begin at 1:15 PM (no longer on the hour sharp). This talk will occur in person. \nTalk Title\nUninformed Consent \nTalk Abstract\n\nTBA
URL:https://philosophy.utoronto.ca/event/placement-practice-job-talk-melissa-rees/
LOCATION:Jackman Humanities Building\, Room 418\, 170 St. George Street\, Toronto\, Ontario\, M5R 2M8\, Canada
CATEGORIES:Graduate,St. George
ATTACH;FMTTYPE=image/jpeg:https://philosophy.utoronto.ca/wp-content/uploads/Melissa-Rees-1.jpg
END:VEVENT
BEGIN:VEVENT
DTSTART;TZID=America/Toronto:20221212T150000
DTEND;TZID=America/Toronto:20221212T170000
DTSTAMP:20260420T072247
CREATED:20221110T182314Z
LAST-MODIFIED:20240305T153937Z
UID:27795-1670857200-1670864400@philosophy.utoronto.ca
SUMMARY:Placement Practice Job Talk—Valerie Bernard
DESCRIPTION:Valerie Bernard is a PhD candidate in our program. She currently teaches Philosophy at the University of New Brunswick. Please join us for her practice job talk\, which will begin at 3:15 PM (no longer on the hour sharp). This talk will occur in person. \nTalk Title\nSartre and Naive Realism \nTalk Abstract\n\nTBA
URL:https://philosophy.utoronto.ca/event/placement-practice-job-talk-valerie-bernard/
LOCATION:Jackman Humanities Building\, Room 418\, 170 St. George Street\, Toronto\, Ontario\, M5R 2M8\, Canada
CATEGORIES:Graduate,St. George
ATTACH;FMTTYPE=image/jpeg:https://philosophy.utoronto.ca/wp-content/uploads/Valerie-Bernard.jpg
END:VEVENT
BEGIN:VEVENT
DTSTART;TZID=America/Toronto:20221213T130000
DTEND;TZID=America/Toronto:20221213T150000
DTSTAMP:20260420T072247
CREATED:20221110T190207Z
LAST-MODIFIED:20221205T185506Z
UID:27802-1670936400-1670943600@philosophy.utoronto.ca
SUMMARY:Placement Practice Job Talk—Damian Melamedoff-Vosters
DESCRIPTION:Damian Melamedoff-Vosters is a recent PhD graduate from our program who currently teaches Philosophy at the University of Manitoba. Please join us for his practice job talk\, which will begin at 1:15 PM (no longer on the hour sharp). This talk will occur in person. \nTalk Title\nObligation and Causation in Kant’s Second Analogy \n  \nTalk Abstract\n\nTBA
URL:https://philosophy.utoronto.ca/event/placement-practice-job-talk-damian-melamedoff-vosters/
LOCATION:Jackman Humanities Building\, Room 418\, 170 St. George Street\, Toronto\, Ontario\, M5R 2M8\, Canada
CATEGORIES:Graduate,St. George
ATTACH;FMTTYPE=image/jpeg:https://philosophy.utoronto.ca/wp-content/uploads/Damian-Melamedoff-Vosters.jpg
END:VEVENT
BEGIN:VEVENT
DTSTART;TZID=America/Toronto:20221213T150000
DTEND;TZID=America/Toronto:20221213T170000
DTSTAMP:20260420T072247
CREATED:20221110T184309Z
LAST-MODIFIED:20221205T185608Z
UID:27803-1670943600-1670950800@philosophy.utoronto.ca
SUMMARY:Placement Practice Job Talk—Dylan Shaul
DESCRIPTION:Dylan Shaul is a PhD candidate our program. Please join us for his practice job talk\, which will begin at 3:15 PM (no longer on the hour sharp). This talk will occur in person. \nTalk Title\nHegel’s Concept of Reconciliation: On the “Highest Goal” of Philosophy \n  \nTalk Abstract\n\nTBA
URL:https://philosophy.utoronto.ca/event/placement-practice-job-talk-dylan-shaul/
LOCATION:Jackman Humanities Building\, Room 418\, 170 St. George Street\, Toronto\, Ontario\, M5R 2M8\, Canada
CATEGORIES:Graduate,St. George
ATTACH;FMTTYPE=image/jpeg:https://philosophy.utoronto.ca/wp-content/uploads/Dylan-Shaul-1.jpg
END:VEVENT
BEGIN:VEVENT
DTSTART;TZID=America/Toronto:20221214T100000
DTEND;TZID=America/Toronto:20221214T120000
DTSTAMP:20260420T072247
CREATED:20221205T203655Z
LAST-MODIFIED:20221206T145929Z
UID:27974-1671012000-1671019200@philosophy.utoronto.ca
SUMMARY:Placement Practice Job Talk—Rowan Mellor
DESCRIPTION:Rowan Mellor is a current postdoctoral fellow in the Department of Philosophy on the Scarborough campus. Please join us for his in-person practice placement job talk. \nTalk Title\nSkepticism about the No-Difference Challenge \n  \nTalk Abstract\n\nIt seems possible for many actions to cause harm collectively\, without any single action making a difference to the harm in question. This raises a puzzle. It is tempting for an individual to argue as follows: ‘Since my action makes no difference\, I have no reason not to do it’. It seems as though this argument must go wrong somewhere. But where? The challenge of answering this question is what I call the ‘no-difference challenge’. This talk defends a skeptical approach\, according to which there is no answer to the no-difference challenge: that is\, there is nothing wrong with thinking ‘my action makes no difference\, so I have no reason not to do it’. This approach has been largely dismissed. I will argue\, however\, that it warrants serious consideration.
URL:https://philosophy.utoronto.ca/event/placement-practice-job-talk-rowan-mellor/
LOCATION:Jackman Humanities Building\, Room 418\, 170 St. George Street\, Toronto\, Ontario\, M5R 2M8\, Canada
CATEGORIES:Graduate,St. George,UTSC
ATTACH;FMTTYPE=image/jpeg:https://philosophy.utoronto.ca/wp-content/uploads/Rowan-Mellor.jpg
END:VEVENT
BEGIN:VEVENT
DTSTART;TZID=America/Toronto:20221214T130000
DTEND;TZID=America/Toronto:20221214T150000
DTSTAMP:20260420T072247
CREATED:20221110T193533Z
LAST-MODIFIED:20221205T185705Z
UID:27806-1671022800-1671030000@philosophy.utoronto.ca
SUMMARY:Placement Practice Job Talk—Julia Smith
DESCRIPTION:Julia Smith is a recent PhD graduate from our program who currently holds a SSHRC postdoctoral fellowship at the University of Calgary. Please join us for her practice job talk\, which will begin at 1:15 PM (no longer on the hour sharp). This talk will occur in person. \nTalk Title\nHigher-Order Evidence and Higher-Order Attitudes \n  \nTalk Abstract\n\nTBA
URL:https://philosophy.utoronto.ca/event/placement-practice-job-talk-julia-smith/
LOCATION:Jackman Humanities Building\, Room 418\, 170 St. George Street\, Toronto\, Ontario\, M5R 2M8\, Canada
CATEGORIES:Graduate,St. George
ATTACH;FMTTYPE=image/jpeg:https://philosophy.utoronto.ca/wp-content/uploads/Julia-Jael-Smith.jpg
END:VEVENT
BEGIN:VEVENT
DTSTART;TZID=America/Toronto:20221215T130000
DTEND;TZID=America/Toronto:20221215T150000
DTSTAMP:20260420T072247
CREATED:20221205T204620Z
LAST-MODIFIED:20221205T210300Z
UID:27978-1671109200-1671116400@philosophy.utoronto.ca
SUMMARY:Placement Practice Job Talk—Manuel Vasquez Villavicencio
DESCRIPTION:Manuel Vasquez Villavicencio is a current postdoctoral fellow in the Department of Philosophy on the St. George campus working under the supervision of Donald Ainslie. Please join us for his in-person practice placement job talk. \nTalk Title\nClaude Buffier’s Pro-Women Arguments: Their Epistemic Basis and Their Social Limitations \nTalk Abstract\n\nTBA
URL:https://philosophy.utoronto.ca/event/placement-practice-job-talk-manuel-vasquez-villavicencio/
LOCATION:Jackman Humanities Building\, Room 418\, 170 St. George Street\, Toronto\, Ontario\, M5R 2M8\, Canada
CATEGORIES:Graduate,St. George
ATTACH;FMTTYPE=image/jpeg:https://philosophy.utoronto.ca/wp-content/uploads/Manuel-Vasquez-Villavicencio.jpg
END:VEVENT
BEGIN:VEVENT
DTSTART;TZID=America/Toronto:20221216T130000
DTEND;TZID=America/Toronto:20221216T150000
DTSTAMP:20260420T072247
CREATED:20221205T205552Z
LAST-MODIFIED:20221214T221121Z
UID:27981-1671195600-1671202800@philosophy.utoronto.ca
SUMMARY:CANCELLED---Placement Practice Job Talk—Nicole Yokum
DESCRIPTION:Please note that this talk has been cancelled. \nNicole Yokum is a current postdoctoral fellow in the Department of Philosophy on the St. George campus. Please join us for her in-person practice placement job talk. \nTalk Title\nMelancholic Solidarity and the Politics of Opting Out \nTalk Abstract\n\nTBA
URL:https://philosophy.utoronto.ca/event/placement-practice-job-talk-nicole-yokum/
LOCATION:Jackman Humanities Building\, Room 418\, 170 St. George Street\, Toronto\, Ontario\, M5R 2M8\, Canada
CATEGORIES:Graduate,St. George
ATTACH;FMTTYPE=image/jpeg:https://philosophy.utoronto.ca/wp-content/uploads/Nicole-Yokum.jpg
END:VEVENT
BEGIN:VEVENT
DTSTART;TZID=America/Toronto:20221216T150000
DTEND;TZID=America/Toronto:20221216T170000
DTSTAMP:20260420T072247
CREATED:20220802T201331Z
LAST-MODIFIED:20221216T133208Z
UID:26881-1671202800-1671210000@philosophy.utoronto.ca
SUMMARY:Phenomenology of Black Spirit Book Launch & Discussion
DESCRIPTION:To celebrate the publication of Phenomenology of Black Spirit (Edinburgh University Press\, 2022)\, join us for a book launch and discussion with authors Biko Mandela Gray and Ryan J. Johnson. Dr. Gray is an assistant professor of Religion\, African American Studies\, and Women’s and Gender Studies at Syracuse University\, while Dr. Johnson\, a former visiting professor to the department\, is an associate professor of Philosophy at Elon University in North Carolina. The University of Toronto’s Rebecca Comay\, a professor of Philosophy and Comparative Literature\, and Rinaldo Walcott\, a professor at the Women and Gender Studies Institute\, will serve as discussants. \nThis meeting will take place both in person and via Zoom. \nJoin Zoom Meeting: https://utoronto.zoom.us/j/85967234167 \nPasscode: 844134
URL:https://philosophy.utoronto.ca/event/phenomenology-of-black-spirit-book-launch-discussion/
LOCATION:Jackman Humanities Building\, Room 100 (Main Floor Lecture Hall)\, 170 St. George Street\, Toronto\, Ontario\, M5R 2M8\, Canada
CATEGORIES:Graduate,St. George,Undergraduate,UTM,UTSC
ATTACH;FMTTYPE=image/jpeg:https://philosophy.utoronto.ca/wp-content/uploads/Phenomenology-of-Black-Spirit-Book-Launch.jpg
END:VEVENT
END:VCALENDAR