BEGIN:VCALENDAR
VERSION:2.0
PRODID:-//Department of Philosophy - ECPv6.15.20//NONSGML v1.0//EN
CALSCALE:GREGORIAN
METHOD:PUBLISH
X-ORIGINAL-URL:https://philosophy.utoronto.ca
X-WR-CALDESC:Events for Department of Philosophy
REFRESH-INTERVAL;VALUE=DURATION:PT1H
X-Robots-Tag:noindex
X-PUBLISHED-TTL:PT1H
BEGIN:VTIMEZONE
TZID:America/Toronto
BEGIN:DAYLIGHT
TZOFFSETFROM:-0500
TZOFFSETTO:-0400
TZNAME:EDT
DTSTART:20250309T070000
END:DAYLIGHT
BEGIN:STANDARD
TZOFFSETFROM:-0400
TZOFFSETTO:-0500
TZNAME:EST
DTSTART:20251102T060000
END:STANDARD
BEGIN:DAYLIGHT
TZOFFSETFROM:-0500
TZOFFSETTO:-0400
TZNAME:EDT
DTSTART:20260308T070000
END:DAYLIGHT
BEGIN:STANDARD
TZOFFSETFROM:-0400
TZOFFSETTO:-0500
TZNAME:EST
DTSTART:20261101T060000
END:STANDARD
BEGIN:DAYLIGHT
TZOFFSETFROM:-0500
TZOFFSETTO:-0400
TZNAME:EDT
DTSTART:20270314T070000
END:DAYLIGHT
BEGIN:STANDARD
TZOFFSETFROM:-0400
TZOFFSETTO:-0500
TZNAME:EST
DTSTART:20271107T060000
END:STANDARD
END:VTIMEZONE
BEGIN:VEVENT
DTSTART;TZID=America/Toronto:20260424T140000
DTEND;TZID=America/Toronto:20260425T180000
DTSTAMP:20260423T034214
CREATED:20260308T220709Z
LAST-MODIFIED:20260308T220709Z
UID:34404-1777039200-1777140000@philosophy.utoronto.ca
SUMMARY:Annual Toronto Workshop in Ancient Philosophy 2026: Ancient Political Thought
DESCRIPTION:Friday April 24 \nSession I (2:00 – 3:30pm): \nJean-Marc Narbonne (Laval) \n“Protagoras’ Democratic Involvement and his Epistemological Background” \nCommentator: Mark Johnstone (McMaster) \n\nSession II (4:00 – 5:30pm): \nCecilia Li (Western) \n“A Fork in the Road: Politics as the Master Art in Plato’s Gorgias (517c4–518c1)” \nCommentator: Merrick Anderson (Southern California) \n  \nSaturday April 25 \nSession III (9:30 – 11:00am): \nRichard Kraut (Northwestern) \n“The Seeds of Democratic Theory in Plato and Aristotle” \nCommentator: Claudia Yau (Michigan) \n\nSession IV (11:30am – 1:00pm): \nCinzia Arruzza (Boston) \n“Women’s Nature and Lack of Authority in Plato’s Laws“ \nCommentator: Myrthe Bartels (Pardubice) \n\nSession V (2:00 – 3:30pm): \nJames Warren (Cambridge) \n“Aristotle on Being Ruled Well” \nCommentator: David Riesbeck (Purdue) \n\nSession VI (4:00 – 5:30pm): \nEric Brown (Washington University\, St. Louis) \n“Stoic Anti-Slavery” \nCommentator: Brad Inwood (Yale) \n  \nThe Annual Toronto Colloquium in Ancient Philosophy is sponsored by the Collaborative Specialization in Ancient and Medieval Philosophy (CSAMP).
URL:https://philosophy.utoronto.ca/event/annual-toronto-workshop-in-ancient-philosophy-2026-ancient-political-thought/
LOCATION:Jackman Humanities Building 100
CATEGORIES:Graduate,St. George,UTM,UTSC
ATTACH;FMTTYPE=image/jpeg:https://philosophy.utoronto.ca/wp-content/uploads/John-Martin-British-RuinsAncientCity-c-181020-scaled.jpg
END:VEVENT
END:VCALENDAR