BEGIN:VCALENDAR
VERSION:2.0
PRODID:-//Department of Philosophy - ECPv6.15.20//NONSGML v1.0//EN
CALSCALE:GREGORIAN
METHOD:PUBLISH
X-WR-CALNAME:Department of Philosophy
X-ORIGINAL-URL:https://philosophy.utoronto.ca
X-WR-CALDESC:Events for Department of Philosophy
REFRESH-INTERVAL;VALUE=DURATION:PT1H
X-Robots-Tag:noindex
X-PUBLISHED-TTL:PT1H
BEGIN:VTIMEZONE
TZID:America/Toronto
BEGIN:DAYLIGHT
TZOFFSETFROM:-0500
TZOFFSETTO:-0400
TZNAME:EDT
DTSTART:20240310T070000
END:DAYLIGHT
BEGIN:STANDARD
TZOFFSETFROM:-0400
TZOFFSETTO:-0500
TZNAME:EST
DTSTART:20241103T060000
END:STANDARD
BEGIN:DAYLIGHT
TZOFFSETFROM:-0500
TZOFFSETTO:-0400
TZNAME:EDT
DTSTART:20250309T070000
END:DAYLIGHT
BEGIN:STANDARD
TZOFFSETFROM:-0400
TZOFFSETTO:-0500
TZNAME:EST
DTSTART:20251102T060000
END:STANDARD
BEGIN:DAYLIGHT
TZOFFSETFROM:-0500
TZOFFSETTO:-0400
TZNAME:EDT
DTSTART:20260308T070000
END:DAYLIGHT
BEGIN:STANDARD
TZOFFSETFROM:-0400
TZOFFSETTO:-0500
TZNAME:EST
DTSTART:20261101T060000
END:STANDARD
END:VTIMEZONE
BEGIN:VEVENT
DTSTART;TZID=America/Toronto:20251204T150000
DTEND;TZID=America/Toronto:20251204T170000
DTSTAMP:20260422T084006
CREATED:20250826T042915Z
LAST-MODIFIED:20251128T053629Z
UID:33625-1764860400-1764867600@philosophy.utoronto.ca
SUMMARY:Colloquium (Barry Maguire\, Edinburgh)
DESCRIPTION:As speaker for our second Fall 2025 colloquium\, the department is delighted to welcome Barry Maguire\, a professor of moral and political philosophy at the University of Edinburgh. Dr. Maguire’s current central research project is the development of an ethical theory based on an ideal of caring solidarity. This approach aims to integrate standards of justification in the ethics of economics\, political philosophy\, and moral philosophy. \nTalk Title\nSocialism and the Collective Ownership of the Means of Production \nTalk Abstract\nThis paper was co-authored with Jan Kandiyali. \nHistorically\, socialism has been identified with collective ownership of the means of production. However\, in the face of the purported failure of central planning\, and influential arguments about the necessity of markets and private ownership\, many contemporary socialists have sought to sever the link between socialism and collective ownership. Here\, we aim to rehabilitate a constitutive relationship between them. The argument proceeds in three main steps. First\, the heart of socialism is an ideal of caring solidarity. The idea of caring solidarity enjoins us to engage in the shared activity of caring about one another\, or in other words\, to do what we can to meet others’ needs collaboratively. Second\, caring solidarity constitutively involves collective planning of the means of production\, and that planning is possible only if there is collective control of those means. Third\, collective control is incompatible with private ownership of the means of production but instead would constitutively involve collective ownership. Hence socialism\, as caring solidarity\, would constitutively involve the collective ownership of the means of production. 
URL:https://philosophy.utoronto.ca/event/colloquium-barry-maguire-edinburgh/
LOCATION:Jackman Humanities Building\, Room 100 (Main Floor Lecture Hall)\, 170 St. George Street\, Toronto\, Ontario\, M5R 2M8\, Canada
CATEGORIES:Alumni,Graduate,St. George,UTM,UTSC
ATTACH;FMTTYPE=image/jpeg:https://philosophy.utoronto.ca/wp-content/uploads/Barry-Maguire-utoronto-philosophy-guest.jpg
END:VEVENT
END:VCALENDAR