BEGIN:VCALENDAR
VERSION:2.0
PRODID:-//Department of Philosophy - ECPv6.15.20//NONSGML v1.0//EN
CALSCALE:GREGORIAN
METHOD:PUBLISH
X-WR-CALNAME:Department of Philosophy
X-ORIGINAL-URL:https://philosophy.utoronto.ca
X-WR-CALDESC:Events for Department of Philosophy
REFRESH-INTERVAL;VALUE=DURATION:PT1H
X-Robots-Tag:noindex
X-PUBLISHED-TTL:PT1H
BEGIN:VTIMEZONE
TZID:America/Toronto
BEGIN:DAYLIGHT
TZOFFSETFROM:-0500
TZOFFSETTO:-0400
TZNAME:EDT
DTSTART:20230312T070000
END:DAYLIGHT
BEGIN:STANDARD
TZOFFSETFROM:-0400
TZOFFSETTO:-0500
TZNAME:EST
DTSTART:20231105T060000
END:STANDARD
BEGIN:DAYLIGHT
TZOFFSETFROM:-0500
TZOFFSETTO:-0400
TZNAME:EDT
DTSTART:20240310T070000
END:DAYLIGHT
BEGIN:STANDARD
TZOFFSETFROM:-0400
TZOFFSETTO:-0500
TZNAME:EST
DTSTART:20241103T060000
END:STANDARD
BEGIN:DAYLIGHT
TZOFFSETFROM:-0500
TZOFFSETTO:-0400
TZNAME:EDT
DTSTART:20250309T070000
END:DAYLIGHT
BEGIN:STANDARD
TZOFFSETFROM:-0400
TZOFFSETTO:-0500
TZNAME:EST
DTSTART:20251102T060000
END:STANDARD
END:VTIMEZONE
BEGIN:VEVENT
DTSTART;VALUE=DATE:20241122
DTEND;VALUE=DATE:20241124
DTSTAMP:20260424T062849
CREATED:20241101T210806Z
LAST-MODIFIED:20241101T222011Z
UID:31870-1732233600-1732406399@philosophy.utoronto.ca
SUMMARY:Québec-Ontario Workshop on Early Modern Philosophy
DESCRIPTION:Join us for  the sixth annual Québec-Ontario Workshop in Early Modern Philosophy\, organized by Marleen Rozemond. \nPlease contact Vincent Lee with any questions. \nProgram\nFriday\, November 22\, 2024\n(OISE RM 4426) \n9:00-9:30 \nCoffee and pastries \n9:30-11:00 \nJon Miller (Queen’s)\, “Grotius and Spinoza on Human Nature” \nComment: Vincent Lee (Toronto) \n11:15-12:45 \nMitia Rioux-Beaulne (Ottawa)\, “Publish or Perish: The Problem of Clandestine Philosophy in Diderot’s ‘History of Philosophy’ Articles in the Encyclopédie” \nComment: Emmanuel Mabille (Montréal)  \n12:45-2:15 \nLunch \n2:15-3:45 \nManuel Vasquez-Villavicencio (McMaster)\, “The Pleasures of Truth and Intrinsic Motivation in Hume’s Account of Curiosity and Inquiry” \nComment: Thierry Côté (Toronto) \n4:00-5:30 \nMargaret Schabas (UBC)\, “Hume on Economic Inequality” \nComment: Carole Bongrand (Québec à Montréal) \n\nSaturday\, November 23\, 2024\n(JHB 418) \n10-10:30 \nCoffee and pastries \n10:30-12:00 \nLisa Shapiro (McGill)\, “Gabrielle Suchon on the Desire for Knowledge\, Habit\, and Women’s Solidarity” \nComment: Raphaelle Dupont (Toronto) \n  \n  \n 
URL:https://philosophy.utoronto.ca/event/quebec-ontario-workshop-early-modern-philosophy/
LOCATION:Ontario Institute for Studies in Education (OISE)\, Room 4426 & Jackman Humanities Building\, Room 418
CATEGORIES:Graduate,St. George,UTM,UTSC
ATTACH;FMTTYPE=image/jpeg:https://philosophy.utoronto.ca/wp-content/uploads/2024-Quebec-Ontario-Workshop-in-Early-Modern-Philosophy.jpg
ORGANIZER;CN="Marleen Rozemond":MAILTO:marleen.rozemond@utoronto.ca
END:VEVENT
BEGIN:VEVENT
DTSTART;TZID=America/Toronto:20241129T110000
DTEND;TZID=America/Toronto:20241129T130000
DTSTAMP:20260424T062849
CREATED:20241009T163115Z
LAST-MODIFIED:20241009T163115Z
UID:31845-1732878000-1732885200@philosophy.utoronto.ca
SUMMARY:History of Philosophy Research Group Talk (Thierry Côté\, Toronto)
DESCRIPTION:The History of Modern Philosophy Group is pleased to welcome as its guest speaker Thierry Côté\, a postdoctoral fellow in the Department of Philosophy at the University of Toronto. Dr. Côté specializes in early modern philosophy and aesthetics\, with additional interests in the philosophy of music\, the philosophy of literature\, and contemporary French philosophy. He earned his PhD from the Université de Montréal in 2023\, with a dissertation titled “Musique\, parole et signification au siècle des Lumières.” \nTalk Title\nHume on the Redirection and Enlargement of Passions \nTalk Abstract\n\nFor Hume\, culture is not the process by which rational representations come to govern passions. It is\, instead\, a naturally induced\, self-enforcing process of refinement\, redirection and enlargement of natural tendencies. This talk’s purpose is to clarify and question the logic of this process\, and show how it is both produced and limited by core human tendencies. It will especially focus on the two central notions of redirection and enlargement. I will first concentrate on Hume’s account of the origins of justice\, and what he means when he claims reason cannot motivate\, but only provide a “new direction” to natural passions (T 3.2.5.9). I will then address the role of sympathy in Hume’s theory of artificial virtues\, and see how shared moral standards result from of an “intercourse of sentiments” (T 3.3.3.2). Finally\, I will explore how evaluations by standards relate to motivation itself. In my view\, Hume’s purpose as a skeptical moralist is not so much to make metaethical claims about reason’s inertness\, but rather to account for a complex interplay between our cultivated and unpliable natures. \n\nOne of six departmental Research Interest Groups\, the History of Philosophy Group explores topics in ancient and/or medieval philosophy\, the period from Descartes to Kant\, and Jewish philosophy from the medieval period to the 20th century.
URL:https://philosophy.utoronto.ca/event/history-philosophy-group-talk-thierry-cote-toronto/
LOCATION:Jackman Humanities Building\, Room 100 (Main Floor Lecture Hall)\, 170 St. George Street\, Toronto\, Ontario\, M5R 2M8\, Canada
CATEGORIES:Graduate,St. George,UTM,UTSC
ATTACH;FMTTYPE=image/jpeg:https://philosophy.utoronto.ca/wp-content/uploads/Thierry-Cote-philosophy-utoronto-guest-lecturer.jpg
END:VEVENT
END:VCALENDAR