BEGIN:VCALENDAR
VERSION:2.0
PRODID:-//Department of Philosophy - ECPv6.15.20//NONSGML v1.0//EN
CALSCALE:GREGORIAN
METHOD:PUBLISH
X-ORIGINAL-URL:https://philosophy.utoronto.ca
X-WR-CALDESC:Events for Department of Philosophy
REFRESH-INTERVAL;VALUE=DURATION:PT1H
X-Robots-Tag:noindex
X-PUBLISHED-TTL:PT1H
BEGIN:VTIMEZONE
TZID:America/Toronto
BEGIN:DAYLIGHT
TZOFFSETFROM:-0500
TZOFFSETTO:-0400
TZNAME:EDT
DTSTART:20220313T070000
END:DAYLIGHT
BEGIN:STANDARD
TZOFFSETFROM:-0400
TZOFFSETTO:-0500
TZNAME:EST
DTSTART:20221106T060000
END:STANDARD
BEGIN:DAYLIGHT
TZOFFSETFROM:-0500
TZOFFSETTO:-0400
TZNAME:EDT
DTSTART:20230312T070000
END:DAYLIGHT
BEGIN:STANDARD
TZOFFSETFROM:-0400
TZOFFSETTO:-0500
TZNAME:EST
DTSTART:20231105T060000
END:STANDARD
BEGIN:DAYLIGHT
TZOFFSETFROM:-0500
TZOFFSETTO:-0400
TZNAME:EDT
DTSTART:20240310T070000
END:DAYLIGHT
BEGIN:STANDARD
TZOFFSETFROM:-0400
TZOFFSETTO:-0500
TZNAME:EST
DTSTART:20241103T060000
END:STANDARD
END:VTIMEZONE
BEGIN:VEVENT
DTSTART;TZID=America/Toronto:20231110T150000
DTEND;TZID=America/Toronto:20231110T170000
DTSTAMP:20260423T010552
CREATED:20230814T191612Z
LAST-MODIFIED:20230814T191612Z
UID:29199-1699628400-1699635600@philosophy.utoronto.ca
SUMMARY:Ethics and Political Philosophy Group Talk (Valerie Tiberius\, Minnesota)
DESCRIPTION:The Ethics and Political Philosophy Research Group is pleased to welcome as guest speaker Valerie Tiberius\, a professor of Philosophy at the University of Minnesota. Tiberius’s work has focused on ethics and moral psychology\, with a special interest in applying Humean principles to modern philosophical questions. Much of her work is centered at the junction of practical philosophy and practical psychology\, examining how both disciplines can meaningfully improve lives. Much of her work takes a non-traditional empirical approach to traditional philosophical questions. Her latest book\, What Do You Want Out of Life? A Philosophical Guide to Figuring Out What Matters was published in early 2023 by Princeton University Press. \nTalk Title\nTBD \nTalk Abstract\nTBD \nAbout the Ethics and Political Philosophy Group\nThe Ethics and Political Philosophy Group meets periodically throughout the year to discuss topics in value theory and related fields\, including meta-ethics\, normative ethics\, applied ethics\, social and political philosophy\, philosophy of law\, moral psychology\, practical reason\, agency\, and identity.
URL:https://philosophy.utoronto.ca/event/ethics-and-political-philosophy-group-talk-valerie-tiberius-minnesota/
LOCATION:Jackman Humanities Building\, Room 418\, 170 St. George Street\, Toronto\, Ontario\, M5R 2M8\, Canada
CATEGORIES:Graduate,St. George
ATTACH;FMTTYPE=image/jpeg:https://philosophy.utoronto.ca/wp-content/uploads/Valerie-Tiberius-utoronto-philosophy-guest.jpg
END:VEVENT
END:VCALENDAR