BEGIN:VCALENDAR
VERSION:2.0
PRODID:-//Department of Philosophy - ECPv6.15.20//NONSGML v1.0//EN
CALSCALE:GREGORIAN
METHOD:PUBLISH
X-ORIGINAL-URL:https://philosophy.utoronto.ca
X-WR-CALDESC:Events for Department of Philosophy
REFRESH-INTERVAL;VALUE=DURATION:PT1H
X-Robots-Tag:noindex
X-PUBLISHED-TTL:PT1H
BEGIN:VTIMEZONE
TZID:America/Toronto
BEGIN:DAYLIGHT
TZOFFSETFROM:-0500
TZOFFSETTO:-0400
TZNAME:EDT
DTSTART:20230312T070000
END:DAYLIGHT
BEGIN:STANDARD
TZOFFSETFROM:-0400
TZOFFSETTO:-0500
TZNAME:EST
DTSTART:20231105T060000
END:STANDARD
BEGIN:DAYLIGHT
TZOFFSETFROM:-0500
TZOFFSETTO:-0400
TZNAME:EDT
DTSTART:20240310T070000
END:DAYLIGHT
BEGIN:STANDARD
TZOFFSETFROM:-0400
TZOFFSETTO:-0500
TZNAME:EST
DTSTART:20241103T060000
END:STANDARD
BEGIN:DAYLIGHT
TZOFFSETFROM:-0500
TZOFFSETTO:-0400
TZNAME:EDT
DTSTART:20250309T070000
END:DAYLIGHT
BEGIN:STANDARD
TZOFFSETFROM:-0400
TZOFFSETTO:-0500
TZNAME:EST
DTSTART:20251102T060000
END:STANDARD
END:VTIMEZONE
BEGIN:VEVENT
DTSTART;VALUE=DATE:20240920
DTEND;VALUE=DATE:20240922
DTSTAMP:20260422T214125
CREATED:20240326T190942Z
LAST-MODIFIED:20240918T161046Z
UID:30543-1726790400-1726963199@philosophy.utoronto.ca
SUMMARY:2024 Toronto Colloquium in Medieval Philosophy
DESCRIPTION:Please join us for the 2024 edition of the Toronto Colloquium in Medieval Philosophy. Check back closer to the event dates for program details. \nProgram\n\nFRIDAY\, SEPTEMBER 20\nSession I (4:30 – 6:30) \nChair: Giorgio Pini (Fordham University) \nCan Laurens Löwe (Saint Louis University): “William Crathorn on the Relation between a Power and Its Manifestation” \nCommentator: Susan Brower-Toland (Saint Louis University) \n  \nSATURDAY\, SEPTEMBER 21\nSession II (10:00 – 12:00) \nChair: Jon McGinnis (University of Toronto) \nCristina Cerami (CNRS\, Paris): “Al-Fārābī and the Kalām on the Divine Attributes” \nCommentator: Rosabel Ansari (Stony Brook University) \n  \nSession III (2:00 – 4:00) \nChair: Simona Vucu (University of Toronto) \nVikram Kumar (Cornell University): “Augustine’s Proof of the Existence of God in De Libero Arbitrio 2” \nMuhammad Fariddudin Attar (Carleton University): “Efficient Causality and the Divine Mind in Avicenna’s Deduction of the Cosmic Order” \nRebecca Hicks (Saint Louis University): “Thomas Aquinas on the Range of Plato’s Forms” \n  \nSession IV (4:15 – 6:15) \nChair: Jeffrey Brower (Purdue University) \nJuhana Toivanen (University of Jyväskylä): “Peter Olivi on Moral Vices and Self-Love” \nCommentator: Michael Szlachta (St. Francis Xavier University) \n  \nAll sessions are free and open to the public and will be held in Room 100 of the Jackman Humanities Building (170 St. George Street). \nThe colloquium is sponsored by the Department of Philosophy\, the Collaborative Specialization in Ancient and Medieval Philosophy\, the Centre for Medieval Studies\, the Faculty of Arts & Science\, the Department of Near & Middle Eastern Civilizations\, and the Pontifical Institute of Mediaeval Studies. \nOrganizers: Deborah Black\, Reza Hadisi\, Peter King\, Jon McGinnis\, and Martin Pickavé \n 
URL:https://philosophy.utoronto.ca/event/toronto-colloquium-medieval-philosophy-2024/
LOCATION:Jackman Humanities Building\, Room 100 (Main Floor Lecture Hall)\, 170 St. George Street\, Toronto\, Ontario\, M5R 2M8\, Canada
CATEGORIES:Graduate,St. George,UTM,UTSC
ATTACH;FMTTYPE=image/jpeg:https://philosophy.utoronto.ca/wp-content/uploads/2024-Toronto-Colloquium-in-Medieval-Philosophy-event-image.jpg
END:VEVENT
END:VCALENDAR