BEGIN:VCALENDAR
VERSION:2.0
PRODID:-//Department of Philosophy - ECPv6.15.20//NONSGML v1.0//EN
CALSCALE:GREGORIAN
METHOD:PUBLISH
X-WR-CALNAME:Department of Philosophy
X-ORIGINAL-URL:https://philosophy.utoronto.ca
X-WR-CALDESC:Events for Department of Philosophy
REFRESH-INTERVAL;VALUE=DURATION:PT1H
X-Robots-Tag:noindex
X-PUBLISHED-TTL:PT1H
BEGIN:VTIMEZONE
TZID:America/Toronto
BEGIN:DAYLIGHT
TZOFFSETFROM:-0500
TZOFFSETTO:-0400
TZNAME:EDT
DTSTART:20250309T070000
END:DAYLIGHT
BEGIN:STANDARD
TZOFFSETFROM:-0400
TZOFFSETTO:-0500
TZNAME:EST
DTSTART:20251102T060000
END:STANDARD
BEGIN:DAYLIGHT
TZOFFSETFROM:-0500
TZOFFSETTO:-0400
TZNAME:EDT
DTSTART:20260308T070000
END:DAYLIGHT
BEGIN:STANDARD
TZOFFSETFROM:-0400
TZOFFSETTO:-0500
TZNAME:EST
DTSTART:20261101T060000
END:STANDARD
BEGIN:DAYLIGHT
TZOFFSETFROM:-0500
TZOFFSETTO:-0400
TZNAME:EDT
DTSTART:20270314T070000
END:DAYLIGHT
BEGIN:STANDARD
TZOFFSETFROM:-0400
TZOFFSETTO:-0500
TZNAME:EST
DTSTART:20271107T060000
END:STANDARD
END:VTIMEZONE
BEGIN:VEVENT
DTSTART;TZID=America/Toronto:20260505T130000
DTEND;TZID=America/Toronto:20260505T150000
DTSTAMP:20260419T212714
CREATED:20251223T200508Z
LAST-MODIFIED:20260330T195304Z
UID:34174-1777986000-1777993200@philosophy.utoronto.ca
SUMMARY:History of Philosophy Research Group Talk (Amy Schmitter\, Alberta)
DESCRIPTION:The History of Modern Philosophy Group is pleased to welcome as its guest speaker Amy Schmitter\, a professor in the Department of Philosophy at the University of Alberta. Dr. Schmitter’s research interests include the history of early modern philosophy\, the philosophy of art\, the history of metaphysics and philosophy of mind\, the history of theories of emotions\, and feminist approaches to the history of philosophy. \nTalk Title\n“Affective Remedy\, Government and Standards: Naturalist Strategies for Ameliorating the Passions in Early Modern Philosophy” \nTalk Abstract\n\nMany early modern philosophers turn to what they variously called the ‘passions\,’ ‘affects\,’ or ‘sentiments’ as a reservoir of naturalist solutions to problems in philosophical psychology. Although the term “naturalist” is a bit anachronistic\, I hope to show that it is a fair description of how a number of early modern philosophers thought the passions shape our experience as finite\, embodied creatures immersed in social and physical environments not of our own making. At the same time\, those philosophers thought we could improve on the passionate hand\, so to speak\, that nature had dealt us. Here I will explore some of the myriad ways that Descartes\, Hobbes\, Spinoza\, and (maybe) Hume offer for moderating\, remedying\, regulating\, or governing our passionate dispositions that can justifiably be considered naturalist. \n  \n\nOne of six departmental Research Interest Groups\, the History of Philosophy Group explores topics in ancient and/or medieval philosophy\, the period from Descartes to Kant\, and Jewish philosophy from the medieval period to the 20th century.
URL:https://philosophy.utoronto.ca/event/history-philosophy-group-talk-amy-schmitter-alberta/
LOCATION:Jackman Humanities Building\, Room 418\, 170 St. George Street\, Toronto\, Ontario\, M5R 2M8\, Canada
CATEGORIES:Graduate,St. George,UTM,UTSC
ATTACH;FMTTYPE=image/jpeg:https://philosophy.utoronto.ca/wp-content/uploads/Amy-Schmitter-utoronto-philosophy-guest.jpg
END:VEVENT
END:VCALENDAR