BEGIN:VCALENDAR
VERSION:2.0
PRODID:-//Department of Philosophy - ECPv6.15.20//NONSGML v1.0//EN
CALSCALE:GREGORIAN
METHOD:PUBLISH
X-ORIGINAL-URL:https://philosophy.utoronto.ca
X-WR-CALDESC:Events for Department of Philosophy
REFRESH-INTERVAL;VALUE=DURATION:PT1H
X-Robots-Tag:noindex
X-PUBLISHED-TTL:PT1H
BEGIN:VTIMEZONE
TZID:America/Toronto
BEGIN:DAYLIGHT
TZOFFSETFROM:-0500
TZOFFSETTO:-0400
TZNAME:EDT
DTSTART:20220313T070000
END:DAYLIGHT
BEGIN:STANDARD
TZOFFSETFROM:-0400
TZOFFSETTO:-0500
TZNAME:EST
DTSTART:20221106T060000
END:STANDARD
BEGIN:DAYLIGHT
TZOFFSETFROM:-0500
TZOFFSETTO:-0400
TZNAME:EDT
DTSTART:20230312T070000
END:DAYLIGHT
BEGIN:STANDARD
TZOFFSETFROM:-0400
TZOFFSETTO:-0500
TZNAME:EST
DTSTART:20231105T060000
END:STANDARD
BEGIN:DAYLIGHT
TZOFFSETFROM:-0500
TZOFFSETTO:-0400
TZNAME:EDT
DTSTART:20240310T070000
END:DAYLIGHT
BEGIN:STANDARD
TZOFFSETFROM:-0400
TZOFFSETTO:-0500
TZNAME:EST
DTSTART:20241103T060000
END:STANDARD
END:VTIMEZONE
BEGIN:VEVENT
DTSTART;TZID=America/Toronto:20231215T130000
DTEND;TZID=America/Toronto:20231215T150000
DTSTAMP:20260423T010549
CREATED:20231204T233607Z
LAST-MODIFIED:20231207T001408Z
UID:29849-1702645200-1702652400@philosophy.utoronto.ca
SUMMARY:Ethics and Political Philosophy Group Talk (Nate Oppel & Stacy Chen\, Toronto)
DESCRIPTION:The Ethics and Political Philosophy Research Group is pleased to welcome two guest speakers for this date: Nate Oppel & Stacy Chen\, both of them graduate students in the Department of Philosophy. Each talk will be 30 minutes long\, with plenty of time for discussion afterward. \nOppel Talk Title\nTrying to Believe \nOppel Talk Abstract\nOur beliefs are subject to obligations\, and we hold one another responsible when we fail to meet these obligations. We negatively appraise flat-earthers and anti-vaxxers exactly because we take them to have failed to believe as they ought to. However\, it is often maintained that we do not control our beliefs in the way we control our actions (that is\, intentionally)\, and so the capacity in virtue of which we are responsible for our actions cannot be the same as the capacity in virtue of which we are responsible for forming and revising our beliefs. I argue that this contention is mistaken\, that we are directly responsible for our beliefs because we have the capacity to intentionally revise them\, and that this is the reason we can be appraised on the basis of our beliefs. \nChen Talk Title\nPatience and Patients: How Can We Address Unreasonableness in Medical Decision-Making \nChen Talk Abstract\nI propose a group of clinical hard choices called ‘under-reasoned’ choices. These are due to the patient thinking that the reasons for each treatment option have ‘run out’ and they cannot form an all-things-considered preference toward one option; but the average observer (and crucially\, the medical establishment) generally would not agree. In these cases\, I propose that the role of the practitioner is to guide the patient toward the option that is in accordance with a standard of reasonableness to resolve the hard choice. Such a standard has not yet been explored much within medical ethics. My choice of  the term reasonableness (rather than\, for example\, irrationality) is to draw a parallel between the ‘standard of reasonableness’ present in the legal scholarship and a similar metric in medical decision-making. I argue that medical decision-making operates on a generally accepted ordering of reasons\, such that some decisions will be considered more reasonable than others\, despite all of them being acceptable. \nAbout the Ethics and Political Philosophy Group\nThe Ethics and Political Philosophy Group meets periodically throughout the year to discuss topics in value theory and related fields\, including meta-ethics\, normative ethics\, applied ethics\, social and political philosophy\, philosophy of law\, moral psychology\, practical reason\, agency\, and identity.
URL:https://philosophy.utoronto.ca/event/ethics-and-political-philosophy-group-talk-nate-oppel-and-stacy-chen-toronto/
LOCATION:Jackman Humanities Building 100
CATEGORIES:Graduate,St. George
ATTACH;FMTTYPE=image/jpeg:https://philosophy.utoronto.ca/wp-content/uploads/Untitled-design-8.jpg
END:VEVENT
END:VCALENDAR