BEGIN:VCALENDAR
VERSION:2.0
PRODID:-//Department of Philosophy - ECPv6.15.20//NONSGML v1.0//EN
CALSCALE:GREGORIAN
METHOD:PUBLISH
X-WR-CALNAME:Department of Philosophy
X-ORIGINAL-URL:https://philosophy.utoronto.ca
X-WR-CALDESC:Events for Department of Philosophy
REFRESH-INTERVAL;VALUE=DURATION:PT1H
X-Robots-Tag:noindex
X-PUBLISHED-TTL:PT1H
BEGIN:VTIMEZONE
TZID:America/Toronto
BEGIN:DAYLIGHT
TZOFFSETFROM:-0500
TZOFFSETTO:-0400
TZNAME:EDT
DTSTART:20240310T070000
END:DAYLIGHT
BEGIN:STANDARD
TZOFFSETFROM:-0400
TZOFFSETTO:-0500
TZNAME:EST
DTSTART:20241103T060000
END:STANDARD
BEGIN:DAYLIGHT
TZOFFSETFROM:-0500
TZOFFSETTO:-0400
TZNAME:EDT
DTSTART:20250309T070000
END:DAYLIGHT
BEGIN:STANDARD
TZOFFSETFROM:-0400
TZOFFSETTO:-0500
TZNAME:EST
DTSTART:20251102T060000
END:STANDARD
BEGIN:DAYLIGHT
TZOFFSETFROM:-0500
TZOFFSETTO:-0400
TZNAME:EDT
DTSTART:20260308T070000
END:DAYLIGHT
BEGIN:STANDARD
TZOFFSETFROM:-0400
TZOFFSETTO:-0500
TZNAME:EST
DTSTART:20261101T060000
END:STANDARD
END:VTIMEZONE
BEGIN:VEVENT
DTSTART;TZID=America/Toronto:20250902T170000
DTEND;TZID=America/Toronto:20250902T190000
DTSTAMP:20260421T193744
CREATED:20250813T211019Z
LAST-MODIFIED:20250821T190805Z
UID:33486-1756832400-1756839600@philosophy.utoronto.ca
SUMMARY:2025 Undergraduate Orientation
DESCRIPTION:Undergraduates\, comes join us for a two-hour introduction to the Department of Philosophy at U of T’s St. George campus. Highlights of the event include \n\nwords of welcome from Martin Pickavé\, the department’s chair\na brief overview of undergraduate studies in the Department of Philosophy by Mike Miller\, director of undergraduate studies\na quick survey of the department’s ethics offerings by Gwen Bradford\, a professor in the department who works on value theory and normative ethics\nintroductions from members of the Philosophy Course Union (PCU)\, the department’s undergraduate student association\, giving a sneak peek of events in the year to come\nintroductions from members of the editorial collective of Noēsis\, the department’s undergraduate philosophy journal\na short info session about the PHL1 program\n\nCome with all your questions! Light refreshments will be served. \nIf you are interested in attending\, please RSVP here.
URL:https://philosophy.utoronto.ca/event/2025-undergraduate-orientation/
LOCATION:Jackman Humanities Building\, Room 100 (Main Floor Lecture Hall)\, 170 St. George Street\, Toronto\, Ontario\, M5R 2M8\, Canada
CATEGORIES:St. George,Undergraduate
ATTACH;FMTTYPE=image/jpeg:https://philosophy.utoronto.ca/wp-content/uploads/2025-Undegrad-Orientation-325-x-225-px.jpg
ORGANIZER;CN="Eric Correia":MAILTO:eric.correia@utoronto.ca
END:VEVENT
END:VCALENDAR