BEGIN:VCALENDAR
VERSION:2.0
PRODID:-//Department of Philosophy - ECPv6.15.20//NONSGML v1.0//EN
CALSCALE:GREGORIAN
METHOD:PUBLISH
X-WR-CALNAME:Department of Philosophy
X-ORIGINAL-URL:https://philosophy.utoronto.ca
X-WR-CALDESC:Events for Department of Philosophy
REFRESH-INTERVAL;VALUE=DURATION:PT1H
X-Robots-Tag:noindex
X-PUBLISHED-TTL:PT1H
BEGIN:VTIMEZONE
TZID:America/Toronto
BEGIN:DAYLIGHT
TZOFFSETFROM:-0500
TZOFFSETTO:-0400
TZNAME:EDT
DTSTART:20230312T070000
END:DAYLIGHT
BEGIN:STANDARD
TZOFFSETFROM:-0400
TZOFFSETTO:-0500
TZNAME:EST
DTSTART:20231105T060000
END:STANDARD
BEGIN:DAYLIGHT
TZOFFSETFROM:-0500
TZOFFSETTO:-0400
TZNAME:EDT
DTSTART:20240310T070000
END:DAYLIGHT
BEGIN:STANDARD
TZOFFSETFROM:-0400
TZOFFSETTO:-0500
TZNAME:EST
DTSTART:20241103T060000
END:STANDARD
BEGIN:DAYLIGHT
TZOFFSETFROM:-0500
TZOFFSETTO:-0400
TZNAME:EDT
DTSTART:20250309T070000
END:DAYLIGHT
BEGIN:STANDARD
TZOFFSETFROM:-0400
TZOFFSETTO:-0500
TZNAME:EST
DTSTART:20251102T060000
END:STANDARD
END:VTIMEZONE
BEGIN:VEVENT
DTSTART;TZID=America/Toronto:20240122T160000
DTEND;TZID=America/Toronto:20240122T180000
DTSTAMP:20260422T004409
CREATED:20240105T161003Z
LAST-MODIFIED:20240105T161003Z
UID:29939-1705939200-1705946400@philosophy.utoronto.ca
SUMMARY:Public Lecture in Celebration of World Logic Day (Branden Fitelson\, Northeastern)
DESCRIPTION:Join us for a public lecture with Branden Fitelson\, a Distinguished Professor of Philosophy at Northeastern University known for his expertise in formal epistemology and philosophy of science. Before teaching at Northeastern\, he held teaching positions at Rutgers\, UC-Berkeley\, San José State\, and Stanford\, as well as visiting positions at the Munich Center for Mathematical Philosophy at LMU-Munich\, and the Institute for Logic\, Language and Computation at the University of Amsterdam. Before entering philosophy\, Fitelson studied math and physics\, and he worked as a research scientist at Argonne National Laboratory and a NASA contractor. \nThis is an in-person event\, but you may also join the livestream via Zoom. \nZoom link: https://utoronto.zoom.us/j/81915534821 \nPasscode: 12345 \nTalk Title\nProbabilities of Conditionals and Conditional Probabilities — Revisited \nTalk Abstract\nLewis’s (1976) triviality argument against the Equation (also known as Adams’s thesis) rests on an implausible assumption about the nature of (epistemic) rational requirements. Interestingly\, Lewis (1980) later rejected this assumption. In his discussion of the Principal Principle\, Lewis makes a weaker and more reasonable assumption about the nature of rational requirements. In this paper\, I explain how to apply the insights of Lewis (1980) to repair Lewis (1976). This leads to a more reasonable rendition of the equation — one that is (a) immune to triviality and (b) a better candidate for a (bona fide) rational requirement.
URL:https://philosophy.utoronto.ca/event/public-lecture-in-celebration-of-world-logic-day-branden-fitelson-northeastern/
LOCATION:Jackman Humanities Building\, Room 418\, 170 St. George Street\, Toronto\, Ontario\, M5R 2M8\, Canada
CATEGORIES:Graduate,St. George,UTM,UTSC
ATTACH;FMTTYPE=image/jpeg:https://philosophy.utoronto.ca/wp-content/uploads/Branden-Fitelson-utoronto-philosophy-guest.jpg
END:VEVENT
END:VCALENDAR