BEGIN:VCALENDAR
VERSION:2.0
PRODID:-//Department of Philosophy - ECPv6.15.20//NONSGML v1.0//EN
CALSCALE:GREGORIAN
METHOD:PUBLISH
X-ORIGINAL-URL:https://philosophy.utoronto.ca
X-WR-CALDESC:Events for Department of Philosophy
REFRESH-INTERVAL;VALUE=DURATION:PT1H
X-Robots-Tag:noindex
X-PUBLISHED-TTL:PT1H
BEGIN:VTIMEZONE
TZID:America/Toronto
BEGIN:DAYLIGHT
TZOFFSETFROM:-0500
TZOFFSETTO:-0400
TZNAME:EDT
DTSTART:20250309T070000
END:DAYLIGHT
BEGIN:STANDARD
TZOFFSETFROM:-0400
TZOFFSETTO:-0500
TZNAME:EST
DTSTART:20251102T060000
END:STANDARD
BEGIN:DAYLIGHT
TZOFFSETFROM:-0500
TZOFFSETTO:-0400
TZNAME:EDT
DTSTART:20260308T070000
END:DAYLIGHT
BEGIN:STANDARD
TZOFFSETFROM:-0400
TZOFFSETTO:-0500
TZNAME:EST
DTSTART:20261101T060000
END:STANDARD
BEGIN:DAYLIGHT
TZOFFSETFROM:-0500
TZOFFSETTO:-0400
TZNAME:EDT
DTSTART:20270314T070000
END:DAYLIGHT
BEGIN:STANDARD
TZOFFSETFROM:-0400
TZOFFSETTO:-0500
TZNAME:EST
DTSTART:20271107T060000
END:STANDARD
END:VTIMEZONE
BEGIN:VEVENT
DTSTART;TZID=America/Toronto:20260404T093000
DTEND;TZID=America/Toronto:20260404T180000
DTSTAMP:20260421T184846
CREATED:20260311T161147Z
LAST-MODIFIED:20260326T200204Z
UID:34429-1775295000-1775325600@philosophy.utoronto.ca
SUMMARY:Workshop on Rationality and Epistemology
DESCRIPTION:This workshop will focus on rationality and epistemology. Featured speakers include: Timothy Williamson (Oxford)\, Gurpreet Rattan (Toronto)\, Yonathan Fiat (Toronto)\, David Barnett (Toronto) and Jennifer Nagel (Toronto). \n  \nSaturday\, April 4 \nLocation: JHB 100 \n  \nSession I (9:45 – 11:00am): \nJennifer Nagel (Toronto) \n“The Dawn of Human Rationality” \nComments: Julia Minarik (Toronto) \n  \nSession II (11:10am – 12:25pm): \nDavid Barnett (Toronto) \n“Skepticism about the Self” \nComments: Joshua Brecka (Toronto) \n  \nSession III (1:30 – 2:45pm): \nYonathan Fiat (Toronto) \n“Ravens Knowledge” \nComments: Yi-Cheng Lin (Toronto) \n  \nSession IV (2:55 – 4:10pm): \nGurpreet Rattan (Toronto) \n“Understanding Maximization” \nComments: Shahdah Mahhouk (Toronto) \n  \nSession V (4:20 – 5:35pm): \nTimothy Williamson (Oxford) \n“Recognitional Capacities and their Uses” \nComments: Eirini Martsoukaki (Toronto)
URL:https://philosophy.utoronto.ca/event/workshop-on-rationality-and-epistemology-keynote-speaker-timothy-williamson-oxford/
LOCATION:Jackman Humanities Building 100
CATEGORIES:Graduate,St. George,UTM,UTSC
ATTACH;FMTTYPE=image/png:https://philosophy.utoronto.ca/wp-content/uploads/Leduc-Ozias-Fin-de-Jour-1913.png
END:VEVENT
END:VCALENDAR