BEGIN:VCALENDAR
VERSION:2.0
PRODID:-//Department of Philosophy - ECPv6.15.20//NONSGML v1.0//EN
CALSCALE:GREGORIAN
METHOD:PUBLISH
X-ORIGINAL-URL:https://philosophy.utoronto.ca
X-WR-CALDESC:Events for Department of Philosophy
REFRESH-INTERVAL;VALUE=DURATION:PT1H
X-Robots-Tag:noindex
X-PUBLISHED-TTL:PT1H
BEGIN:VTIMEZONE
TZID:America/Toronto
BEGIN:DAYLIGHT
TZOFFSETFROM:-0500
TZOFFSETTO:-0400
TZNAME:EDT
DTSTART:20250309T070000
END:DAYLIGHT
BEGIN:STANDARD
TZOFFSETFROM:-0400
TZOFFSETTO:-0500
TZNAME:EST
DTSTART:20251102T060000
END:STANDARD
BEGIN:DAYLIGHT
TZOFFSETFROM:-0500
TZOFFSETTO:-0400
TZNAME:EDT
DTSTART:20260308T070000
END:DAYLIGHT
BEGIN:STANDARD
TZOFFSETFROM:-0400
TZOFFSETTO:-0500
TZNAME:EST
DTSTART:20261101T060000
END:STANDARD
BEGIN:DAYLIGHT
TZOFFSETFROM:-0500
TZOFFSETTO:-0400
TZNAME:EDT
DTSTART:20270314T070000
END:DAYLIGHT
BEGIN:STANDARD
TZOFFSETFROM:-0400
TZOFFSETTO:-0500
TZNAME:EST
DTSTART:20271107T060000
END:STANDARD
END:VTIMEZONE
BEGIN:VEVENT
DTSTART;TZID=America/Toronto:20260402T150000
DTEND;TZID=America/Toronto:20260402T170000
DTSTAMP:20260422T191945
CREATED:20251223T194921Z
LAST-MODIFIED:20260205T002829Z
UID:34168-1775142000-1775149200@philosophy.utoronto.ca
SUMMARY:Global Philosophy Research Interest Group Talk (Sayeh Meisami\, Dayton)
DESCRIPTION:The Global Philosophy Research Interest Group is delighted to welcome as guest speaker Sayeh Meisami\, a professor of Philosophy at the University of Dayton. Dr. Meisami has published several books and articles in the fields of philosophy and religion. She is the author of Mulla Sadra (2013)\, Knowledge and Power in the Philosophies of Ḥamīd al-Dīn Kirmānī and Mullā Ṣadrā Shīrāzī (2018)\, and Nasir al-Din Tusi: A Philosopher for All Seasons (2019). In line with her interdisciplinary interests\, her most recent articles demonstrate the significance of poetic techniques of thinking and writing in later Islamic philosophy and sufism\, and her ongoing research is on the continuity of mythological and philosophical discourses in the Persianate context. \nTalk Title\nPoetic Thinking and the Divergent Philosophies of Rumi and Heidegger \nTalk Abstract\n\nThe talk is a critical analysis of Martin Heidegger’s engagement with “poetic thinking” by comparing it to that of Rumi’s. The comparison aims to investigate how a poetic thinker’s historical\, cultural\, and lived experiences fundamentally shape the ethical and sociopolitical outcomes of the discourses they create in their philosophies. I attempt to demonstrate that Heidegger correctly considers poetic thinking as a wholesome conflict between conceptualization and experiential finding that is essential to authentic human experience. This is exemplified by his reading of German lyrical voices\, such as Hölderlin\, that is conditioned by Eurocentrism and German exceptionalism.  I argue that both Heidegger and Rumi are great at poetic thinking and for this reason their starkly different lived experiences lead them to diverging directions:  Heidegger’s poetic thinking unleashes the “will to power”\, and Rumi’s poetic thinking that is grounded in his experience as a multi-cultural immigrant and a lover gives rise to the “will to love.”  I will ultimately demonstrate that Rumi’s “will to love” functions as an interpretive/epistemic lens that justifies his philosophy of unity and inclusivity.   \n\n  \nThe Global Philosophy Research Interest Group explores the benefits of drawing on diverse traditions of thought in approaching philosophical questions. These include novel insights into familiar problems\, new questions and research directions\, and fresh methodologies. We work to deprovincialize and decolonize all aspects of philosophy in the academy. The group currently has strengths in Sanskrit philosophy\, and Chinese philosophy\, Indian philosophy in English\, and classical Islamic philosophy.
URL:https://philosophy.utoronto.ca/event/global-philosophy-research-interest-group-talk-sayeh-meisami-dayton/
LOCATION:Jackman Humanities Building\, Room 418\, 170 St. George Street\, Toronto\, Ontario\, M5R 2M8\, Canada
CATEGORIES:Graduate,St. George,UTM,UTSC
ATTACH;FMTTYPE=image/jpeg:https://philosophy.utoronto.ca/wp-content/uploads/Sayeh-Meisami-utoronto-philosophy-guest.jpg
END:VEVENT
END:VCALENDAR